BEGIN:VCALENDAR
VERSION:2.0
PRODID:-//Skupnostna kavarna - ECPv6.15.20//NONSGML v1.0//EN
CALSCALE:GREGORIAN
METHOD:PUBLISH
X-WR-CALNAME:Skupnostna kavarna
X-ORIGINAL-URL:https://skup-ka.si
X-WR-CALDESC:Dogodki za Skupnostna kavarna
REFRESH-INTERVAL;VALUE=DURATION:PT1H
X-Robots-Tag:noindex
X-PUBLISHED-TTL:PT1H
BEGIN:VTIMEZONE
TZID:UTC
BEGIN:STANDARD
TZOFFSETFROM:+0000
TZOFFSETTO:+0000
TZNAME:UTC
DTSTART:20250101T000000
END:STANDARD
END:VTIMEZONE
BEGIN:VEVENT
DTSTART;TZID=UTC:20260328T100000
DTEND;TZID=UTC:20260328T140000
DTSTAMP:20260420T164131
CREATED:20260221T165218Z
LAST-MODIFIED:20260322T214820Z
UID:5053-1774692000-1774706400@skup-ka.si
SUMMARY:Mesečna Izmenjevalnica
DESCRIPTION:Mesečna Izmenjevalnica v Skupki poteka zadnjo soboto v mesecu. \nIzmenjaj kose oblačil\, nakita in modnih dodatkov\, ki jih več ne potrebuješ in s tem podpri okolje.
URL:https://skup-ka.si/dogodek/mesecna-izmenjevalnica-2/
LOCATION:Skupka\, Bežigrad 6\, Ljubljana\, 1000\, Slovenia
CATEGORIES:Izmenjevalnice,Redni program
ATTACH;FMTTYPE=image/webp:https://skup-ka.si/wp-content/uploads/2026/02/Izmenjevalnica-scaled-e1771692719472.webp
END:VEVENT
END:VCALENDAR