BEGIN:VCALENDAR
VERSION:2.0
PRODID:-//Skupnostna kavarna - ECPv6.15.20//NONSGML v1.0//EN
CALSCALE:GREGORIAN
METHOD:PUBLISH
X-WR-CALNAME:Skupnostna kavarna
X-ORIGINAL-URL:https://skup-ka.si
X-WR-CALDESC:Dogodki za Skupnostna kavarna
REFRESH-INTERVAL;VALUE=DURATION:PT1H
X-Robots-Tag:noindex
X-PUBLISHED-TTL:PT1H
BEGIN:VTIMEZONE
TZID:UTC
BEGIN:STANDARD
TZOFFSETFROM:+0000
TZOFFSETTO:+0000
TZNAME:UTC
DTSTART:20220101T000000
END:STANDARD
END:VTIMEZONE
BEGIN:VEVENT
DTSTART;TZID=UTC:20250930T190000
DTEND;TZID=UTC:20250930T203000
DTSTAMP:20260421T150355
CREATED:20250909T153238Z
LAST-MODIFIED:20250923T182611Z
UID:4517-1759258800-1759264200@skup-ka.si
SUMMARY:Bazar veščin: Videi & socialna omrežja
DESCRIPTION:Bazar veščin: Videi & socialna omrežja \nPrihaja jesenski Bazar veščin\, tretji po vrsti v tem letu!\n\nKdaj? Torek\, 23. 9. ob 19h\nKje? Platforma Discord (več info sledi)\n\nZ nami bo Kristjan Kostelec\, ustvarjalec izobraževalnih video vsebin\, govorili pa bomo o tem kaj vse je potrebno za dober\, kvaliteten in uspešen video na družabnih omrežjih.\n\nKristjan bo izhajal iz tvojih vprašanj in realnih izzivov\, zato te prosimo\, da spodaj napišeš kaj te matra pri ustvarjanju video vsebin. 🙂\n\nDogodek je brezplačen. Tvojo prijavo na srečanje potrebujemo zaradi lažje organizacije na POVEZAVI. Punce iz Skupke bomo zelo vesele\, če boš Skupki donirala 5€ na platformi Buymeacoffee.\n\n…\nBazar veščin je niz tematskih srečanj\, ki potekajo v spletni dnevni sobi Skupnostne kavarne. Predstavljamo raziskovalce\, ustvarjalce\, poznavalce in mojstre različnih uporabnih vsakodnevnih veščin\, ki nas podpirajo tako ali drugače. Gre za to\, da podelimo znanja\, razširimo modrosti\, se povežemo\, spoznamo\, sodelujemo.\n\n\nČe bi tudi ti želel_a sodelovati kot gost_ja\, deliti svoja znanja ali veščine in se predstaviti\, pa nam to lahko sporočiš na: info@skup-ka.si. \nSe vidimo!
URL:https://skup-ka.si/dogodek/bazar-vescin-videi-socialna-omrezja/
LOCATION:Discord
CATEGORIES:Bazar veščin,Redni program
ORGANIZER;CN="Skupnostna kavarna":MAILTO:skupnostna.kavarna@gmail.com
END:VEVENT
BEGIN:VEVENT
DTSTART;TZID=UTC:20250617T190000
DTEND;TZID=UTC:20250617T203000
DTSTAMP:20260421T150355
CREATED:20250614T155430Z
LAST-MODIFIED:20250614T155430Z
UID:4406-1750186800-1750192200@skup-ka.si
SUMMARY:Bazar veščin S3E2: Kreativa in dobro počutje
DESCRIPTION:Bazar veščin S3E2: Kreativa in dobro počutje \nPoletna edicija Bazarja veščin je tu! \nZ nami bo tokrat Alice Shepherd Erlac\, Londončanka\, ki živi v Mariboru in deluje pod blagovno znamko Creative Tea Breaks.\nPogovarjali se bomo o povezavi med ustvarjanjem in dobrim počutjem.\nKako lahko kljub vsem izzivom\, ki jih prinaša življenje\, najdemo čas in notranji prostor za ustvarjanje? Se tudi tebi zdi\, da nam družba vedno znova sporoča\, da je ustvarjalnost\, ko smo enkrat odrasli\, neuporabna\, nesmiselna in izguba časa?\nPotrebujemo rituale\, ki nas prizemljijo\, nas usmerijo nazaj k sebi in ustavijo spiralo strahu\, ki jo ustvarjajo dogodki zunaj nas.\nRituali\, ki Alice vedno znova rešujejo so: pisanje dnevnika ustvarjanje brez cilja povezovanje z drugimi meditacija\nIn o tem bomo govorili na pred-počitniškem Bazarju veščin. Ne bomo pa samo govorili o ustvarjanju\, ampak bomo to tudi počeli.\nPoslanstvo Creative Tea Breaks je »Pomagati ti živeti bolj ustvarjalno.« Kar v resnici pomeni: pomagati\, da se igraš\, odpiraš um\, se povezuješ s trenutkom\, skrbiš za dobro počutje in živiš bolj polno.\nPridruži se delavnici ustvarjanja za boljše počutje\, kjer bomo skupaj raziskovali\, občutili in prebudili moč tvoje ustvarjalne iskrice in kako ti lahko pomaga živeti lepše\, dan za dnem.\nDogodek je brezplačen. Tvojo prijavo na srečanje potrebujemo zaradi lažje organizacije. >> https://forms.gle/regkCRjLfBma5nx1A\n…Bazar veščin je niz tematskih srečanj\, ki potekajo v spletni dnevni sobi Skupnostne kavarne. Predstavljamo raziskovalce\, ustvarjalce\, poznavalce in mojstre različnih uporabnih vsakodnevnih veščin\, ki nas podpirajo tako ali drugače. Gre za to\, da podelimo znanja\, razširimo modrosti\, se povežemo\, spoznamo\, sodelujemo.\nČe bi tudi ti želel_a sodelovati kot gost_ja\, deliti svoja znanja ali veščine in se predstaviti\, pa mi to lahko sporočiš na: info@skup-ka.si.\nP.S.: Dogodek bo potekal v angleščini. …..\nENG:\nCreative Wellbeing: how creative play helps you live well\nAs adults\, it becomes more and more challenging to find time and mental space for creativity.\nSociety tells us over and over that now you’re grown up\, creativity is a silly\, unproductive\, waste of time.\nBut we don’t buy that\, right?!\nBetween terrifying global events\, increasing cost of living\, social media\, capitalism\, environmental crisis\, and the nature of being human\, things are heavy—like walking up hill with a big rock on your back. We need rituals to re-orientate us and stop the fear getting out of control.\nThese are the rituals that save me\, Alice:\n journaling purposeless creativity leaning in to community meditation\nWhen stuff gets tough\, it’s normal to fall into thoughts and shadow.\nThis shadow has an amazing ability to pull us deeper in.\nBut when we have anchors to the moment and rituals for opening up rather than shrinking\, that shadow can’t pull us down and we’re able to reach towards the light faster and with greater ease.\nThis is where creativity just for the heck of it comes in!\nMy mission with Creative Tea Breaks is to “help you live more creatively” which is code for helping you play\, open your mind\, connect with the moment\, look after your wellbeing\, and live better.\nJoin this creative wellbeing workshop to experience\, embody\, and connect with the power of your creative spirit and how it can help you live better every day.\nApply here >> https://forms.gle/regkCRjLfBma5nx1A
URL:https://skup-ka.si/dogodek/bazar-vescin-s3e2-kreativa-in-dobro-pocutje/
LOCATION:Online-Zoom
CATEGORIES:Bazar veščin
ATTACH;FMTTYPE=image/png:https://skup-ka.si/wp-content/uploads/2025/06/4-e1749916429627.png
ORGANIZER;CN="Skupnostna kavarna":MAILTO:skupnostna.kavarna@gmail.com
END:VEVENT
BEGIN:VEVENT
DTSTART;TZID=UTC:20250306T190000
DTEND;TZID=UTC:20250306T203000
DTSTAMP:20260421T150355
CREATED:20250225T211007Z
LAST-MODIFIED:20250226T123124Z
UID:3926-1741287600-1741293000@skup-ka.si
SUMMARY:Bazar veščin S3 E1: P.ostani edinstvena
DESCRIPTION:Bazar veščin S3 E1: P.ostani edinstvena. Novo leto\, nova sezona Bazarja veščin!\n\nKer se bliža 8.marec\, Praznik žensk\, bo tole srečanje namenjeno nam\, puncam! Iskale in raziskovale bomo svojo edinstvenost.\n\nVodila nas bo Helena C. Božič\, samostojna grafična oblikovalka\, mentorica in spikerka\, ki deluje pod blagovno znamo Helena Božič Branding design. Je avtorica večkrat nagrajenih oblikovalskih del\, več kot 20 let pa je aktivno delovala tudi kot radijska napovedovalka in glasovna interpretinja.\n\nS Heleno se bomo pogovarjale kaj je edinstvenost\, kako najti\, odkriti ali zgraditi svojo\, preko raziskovanja osebnih strasti\, supermoči\, raziskovanja notranjega otroka\, poslanstva\, smisla in naših osebnih zgodb.\n\nDotaknile se bomo tudi postavljanja edinstvene blagovne znamke\, kako najti prave barve\, simbole in kako izraziti svoj zakaj\, predati sporočilo na svoj edinstven način.\n\nDogodek je brezplačen. Tvojo prijavo na srečanje potrebujemo zaradi lažje organizacije. Tvoje podatke skrbno varujemo.\n\n\nNa dogodek se prijaviš na POVEZAVI.\n\n\n…\nBazar veščin je niz tematskih srečanj\, ki potekajo v spletni dnevni sobi Skupnostne kavarne. Predstavljamo raziskovalce\, ustvarjalce\, poznavalce in mojstre različnih uporabnih vsakodnevnih veščin\, ki nas podpirajo tako ali drugače. Gre za to\, da podelimo znanja\, razširimo modrosti\, se povežemo\, spoznamo\, sodelujemo.\n\n\nČe bi tudi ti želel_a sodelovati kot gost_ja\, deliti svoja znanja ali veščine in se predstaviti\, pa to lahko sporočiš na: info@skup-ka.si. \nSe vidimo!
URL:https://skup-ka.si/dogodek/bazar-vescin-s3-e1-p-ostani-edinstvena/
LOCATION:Online-Zoom
CATEGORIES:Bazar veščin,Online kavarna
ORGANIZER;CN="Skupnostna kavarna":MAILTO:skupnostna.kavarna@gmail.com
END:VEVENT
BEGIN:VEVENT
DTSTART;TZID=UTC:20241217T170000
DTEND;TZID=UTC:20241217T183000
DTSTAMP:20260421T150355
CREATED:20241209T172124Z
LAST-MODIFIED:20241209T172124Z
UID:3663-1734454800-1734460200@skup-ka.si
SUMMARY:Bazar veščin S2 #4
DESCRIPTION:Bazar veščin S2 #4 je še zadnji letošnji dogodek v sklopu cikla dogodkov Bazar veščin.\n\nTokrat bomo s finančno svetovalko Terezo Klemenšek malo pokukali v osebne finance in v 10 korakih zastavili novo strategijo za urejene osebne finance v novem letu. Da bomo v leto 2025 vstopili finančno samozavestni in sploh\, se naučili upravljati z osebnimi financami.\n\nTereza Klemenšek je predavateljica\, finančna svetovalka in mentorica ter ustanoviteljica spletne strani Profisvetovanje.si. Njena vizija je izboljšati finančno pismenost v Sloveniji\, saj meni\, da je pomanjkanje znanja o upravljanju osebnih financ eden najpogostejših vzrokov za finančni stres. Nasprotno pa finančna stabilnost neposredno prispeva k boljšemu duševnemu zdravju\, kakovostnejšim odnosom in večji produktivnosti posameznikov\, kar dolgoročno krepi celotno družbo. Njenim storitvam zaupa že več kot 100 posameznikov in družin.\n\nDogodek je brezplačen. Tvojo prijavo na srečanje potrebujemo zaradi lažje organizacije. Tvoje podatke skrbno varujemo. Prijaviš se lahko na POVEZAVI.\n\n…\nBazar veščin je niz tematskih srečanj\, ki potekajo v spletni dnevni sobi Skupnostne kavarne. Predstavljamo raziskovalce\, ustvarjalce\, poznavalce in mojstre različnih uporabnih vsakodnevnih veščin\, ki nas podpirajo tako ali drugače. Gre za to\, da podelimo znanja\, razširimo modrosti\, se povežemo\, spoznamo\, sodelujemo.\n\nČe bi v naslednjem letu tudi ti želel_a sodelovati kot gost_ja\, deliti svoja znanja ali veščine in se predstaviti\, pa mi to lahko sporočiš na: info@skup-ka.si. \nSe vidimo!
URL:https://skup-ka.si/dogodek/bazar-vescin-s2-4/
LOCATION:Online-Zoom
CATEGORIES:Bazar veščin
END:VEVENT
BEGIN:VEVENT
DTSTART;TZID=UTC:20240912T190000
DTEND;TZID=UTC:20240912T203000
DTSTAMP:20260421T150355
CREATED:20240830T170656Z
LAST-MODIFIED:20240830T175503Z
UID:3448-1726167600-1726173000@skup-ka.si
SUMMARY:Bazar veščin: Joga obraza
DESCRIPTION:Bazar veščin: Joga obraza\n\nSeptembra bomo na Bazarju veščin jogirali na prav poseben način!\n\nV spletni dnevni sobi Skupnostne kavarne se bomo spoznali z jogo obraza – obrazno telovadbo\, ki je postala pravi hit v sodobni lepotni industriji.\n\nZ jogo obraza namreč lahko na naraven način ohranimo mladosten videz in hkrati poskrbimo tudi za zdravje naših možganov. Je tehnika obrazne telovadbe\, ki pomladi in povrne obliko našemu obrazu. V kombinaciji z drugimi veščinami tradicionalne kitajske medicine in upoštevanjem bioritemske ure pa poveča tudi našo življenjsko moč\, okrepi imunski sistem\, prekrvavi možgane\, pomlajuje celotno telo od znotraj navzven ter uredi naš menstrualni cikel.\n\nČe imaš kakršne koli težave – mozoljavost\, hormonska nihanja\, boleče menstruacije\, krče\, nereden cikel\, ekstremna nihanja v razpoloženju\, pozabljivost\, pomanjkanje koncentracije itd.\, pridi na dogodek in z mojstrico TAO joge obraza Vando Veingerl se boš poglobil_a v skrivnosti joge obraza.\n\nNa srečanju se bomo pogovarjali o tem\, zakaj je ta starodavna lepotna tehnika\, ki jo je izvajala že Kleopatra\, šele zdaj postala tako popularna\, kakšni so njeni učinki in se naučili tudi par osnovnih vaj\, ki ti bodo pomagale pri ohranjanju mladostnega in zdravega telesa.\n\nUdeležba na dogodku je brezplačna\, za kakršnakoli dodatna vprašanja pa lahko pišeš na vanda.veingerl@gmail.com ali info@skup-ka.si.\n\nPrijaviš se na povezavi: https://shorturl.at/234bG\n\nVanda Veingerl je diplomirana kulturologinja\, umetnica in licencirana mojstrica tao joge obraza. Svoje poslanstvo vidi v svetovanju in pomoči ljudem kako živeti bolje\, kako poskrbeti za svoje zdravje in postati najboljša verzija samih sebe. Ljudi spodbuja k temu\, da se zavejo svoje čarobnosti in si upajo izraziti sebe.\nZ jogo obraza se ukvarja že 5 let\, po pridobljeni licenci Juicy face lifting – 5 Women within you pa je stopila na samostojno jogijsko pot in organizira svoje tečaje in delavnice pod imenom Face yoga garden. V zadnjih letih se je udeležila in dokončala enoletna programa Lifting Zlate Ženske ter Lifting Zlate Tigrice\, kjer se je izobrazila na področju tradicionalne kitajske medicine\, taoizma\, joge obraza\, nutricistike in še marsikaj drugega. Dokončala je tudi Juicy Hacking Mastery School (prev. Večno sočna mojstrica)\, ki jo je zasnovala Savina Atai skupaj z največjimi mojstri taoizma ter tradicionalnih in sodobnih zdravilnih tehnik na svetu – Mantak Chia\, Bella La Vey\, Alila Rose\, Garret Maxwell\, Darja Pristovnik\, Sandra Laznik\, Špela Jakša\, Angel Evans… . Fokus njenega dela je predvsem na vračanju in ohranjanju naravne lepote ljudi\, oživljanju telesa in duha ter spodbujanju avtentičnosti. Njeno trdno prepričanje je\, da smo ljudje najlepši takrat\, ko smo avtentični – ko najdemo svoje bistvo in si ga upamo izraziti.\n\nVando najdeš na:SPLETKI: https://riannon.webnode.page/FB strani: https://www.facebook.com/faceyogagardenslo/IG: https://www.instagram.com/face_yoga_garden/\n\nNaj se nova sezona v Skupki začne!
URL:https://skup-ka.si/dogodek/bazar-vescin-joga-obraza/
LOCATION:Online-Zoom
CATEGORIES:Bazar veščin,Redni program
ORGANIZER;CN="Skupnostna kavarna":MAILTO:skupnostna.kavarna@gmail.com
END:VEVENT
BEGIN:VEVENT
DTSTART;TZID=UTC:20240625T190000
DTEND;TZID=UTC:20240625T203000
DTSTAMP:20260421T150355
CREATED:20240601T104507Z
LAST-MODIFIED:20240601T104649Z
UID:3384-1719342000-1719347400@skup-ka.si
SUMMARY:Bazar veščin: (V)pogled v sanje
DESCRIPTION:Bazar veščin: (V)pogled v sanje je še zadnji bazar preden skočimo v poletne počitnice. \nV torek\, 25. 6. ob 19h bomo s Pio Škulj raziskovali prav posebno veščino\, to je spoznavanje in raziskovanje sanj.\n\nPia je specializantka jungovske psihoterapije pod supervizijo (z avstrijsko diplomo iz psihoterapije)\, ki vodi svojo zasebno psihoterapevtsko prakso. Je ustanoviteljica Psihopomp-a\, Društva za raziskovanje duševnosti\, preko katerega izvaja različne delavnice in občasne\, psihološko obarvane podcast epizode. \n\nNjen najnovejši projekt\, ki se mu lahko pridružiš\, so srečanja Sanjske skupine\, kjer spoznavaš sporočila svoje psihe.\n\nNa junijskem Bazarju veščin bo Pia najprej povedala nekaj o sanjah\, nato pa bo sledil kreativni del srečanja\, ko bomo znotraj skupine podrobneje preučili sanje enega od udeležencev (morda ravno tvoje  ) in se poskušali povezati z njihovim sporočilom. \n\n\nPridruži se nam in se skupaj z nami spusti v skrivnosten in zanimiv svet abstrakcije in simbolov\, ki želi spregovoriti – nam in o nas. \n\nVrata spletne dnevne sobe odpremo ob 19h. Povezavo do dogodka na elektronski naslov dobiš nekaj dni prej.\nZate pa imava s Pio tudi prav posebno presenečenje in sicer\, na srečanju lahko pogledamo tvoje sanje. Zapiši jih v prijavni obrazec na POVEZAVI.\n….\nČe bi želel_a sodelovati kot gost_ja na bazarju\, deliti svoja znanja ali veščine in se predstaviti\, pa to lahko sporočiš na: info@skup-ka.si.\nSrečanje je brezplačno!
URL:https://skup-ka.si/dogodek/bazar-vescin-vpogled-v-sanje/
LOCATION:Online-Zoom
CATEGORIES:Bazar veščin
ORGANIZER;CN="Skupnostna kavarna":MAILTO:skupnostna.kavarna@gmail.com
END:VEVENT
BEGIN:VEVENT
DTSTART;TZID=UTC:20240307T190000
DTEND;TZID=UTC:20240307T200000
DTSTAMP:20260421T150355
CREATED:20240223T184414Z
LAST-MODIFIED:20240223T185248Z
UID:3312-1709838000-1709841600@skup-ka.si
SUMMARY:Bazar veščin: Osnove fotkanja
DESCRIPTION:Bazar veščin: osnove fotkanja je prvi dogodek v novi sezoni Bazarjev veščin! \n\nLetos bo bazarjev manj\, teme pa so\, tako kot lani\, skrbno izbrane. Še vedno velja\, če si želiš pogovora na temo\, ki te zanima\, ali imaš sam_a znanja in veščine o temi\, za katero meniš\, da bo zanimala tudi ostale\, piši v DM ali na mail.\n\n\n\nV prvi epizodi druge sezone bo z nami Jure Gubanc Gubanc Foto.\n\n\n\n https://gubancfoto.com/\n\n\n\nPogovarjali se bomo o fotkanju\, o tem kaj naredi dobro fotko in kako lahko dobre fotke ustvarjamo tudi če nismo profiji.  Par besed bomo namenili trendom in umetni inteligenci\, prostor pa bo namenjen tudi za tvoja vprašanja!\n\n\n\nJure je profesionalni fotograf z 10 letnimi izkušnjami. Večino njegovega dela predstavlja fotografiranje najrazličnejših javnih in zasebnih dogodkov\, ter občasna produkcijska in komercialna fotografiranja. Na profesionalnem nivoju se je srečal s skoraj vsemi panogami fotografije\, tako je eden bolj vsestranskih fotografov v našem prostoru.\n\n\n\nNa dogodek se prijaviš TULE.\n\n\nBazar veščin: Osnove fotkanja je brezplačen dogodek\, kot tudi vsi ostali dogodki Bazarja veščin. Vabljen_a pa\, da projekt podpreš z donacijo 5 € na platformi Buy me a coffee. 🙂
URL:https://skup-ka.si/dogodek/bazar-vescin-osnove-fotkanja/
LOCATION:Online-Zoom
CATEGORIES:Bazar veščin,Online kavarna
ORGANIZER;CN="Skupnostna kavarna":MAILTO:skupnostna.kavarna@gmail.com
END:VEVENT
BEGIN:VEVENT
DTSTART;TZID=UTC:20231218T190000
DTEND;TZID=UTC:20231218T203000
DTSTAMP:20260421T150355
CREATED:20231208T135702Z
LAST-MODIFIED:20231208T140053Z
UID:3136-1702926000-1702931400@skup-ka.si
SUMMARY:Bazar veščin #8: Pozabljene dežele pravljičnega
DESCRIPTION:Bazar veščin #8: Pozabljene dežele pravljičnega in predstavitev pravljice Češnjev cvet se bliža!\n\nNa zadnjem\, prazničnem Bazarju veščin bomo raziskovali pozabljene svetove pravljičnega\, čudežnega\, fantazijskega.\nSkupaj z Marušo Rozman\, avtorico pravljice Češnjev cvet\, socialno pedagoginjo\, ljubiteljico in raziskovalko svetov čudežnega\, pravljičnega in mističnega\, se bomo poglobili v lastne svetove in poskušali odkriti kakšno mesto zaseda pravljičnost v nas samih in v naših vsakdanjih življenjih.\n\nSpomnili se bomo na potencial\, ki ga imajo pravljice v življenju odraslega. Naslovili bomo mit otroškosti in odraslosti in se vprašali kakšno mesto zaseda čudežnost v naših življenjih danes\, ko nismo več otroci. Ali jo lahko obudimo in z njo naredimo svoje življenje bolj magično? Lahko s pravljicami obudimo čudenje svetu okoli nas?\nMaruša Rozman nas bo popeljala skozi svoje doživljanje pravljičnega in nam predstavila prvo avtorsko pravljico Češnjev cvet\, ki ni namenjena le otrokom\, temveč tudi odraslim. Maruša zase pravi\, da jo že od nekdaj privlači svet človekovega notranjega bogastva. Zanimajo jo svetovi pravljičnega\, čudežnega in mističnega. Rada raziskuje dušno pokrajino preko meditacije in dobrih knjig.\n\nDogodek je namenjen predvsem odraslim\, ki pogosto pozabimo na svetove pravljičnega v nas in okoli nas. Je zaključen dogodek prve sezone bazarja veščin in zato še toliko bolj poseben\, prazničen in pravljičen. \nBazar veščin je niz tematskih srečanj\, ki enkrat mesečno do konca leta potekajo v spletni dnevni sobi Skupnostne kavarne. Predstavljamo raziskovalce\, ustvarjalce\, obrtnike in mojstre različnih uporabnih vsakodnevnih veščin\, ki nas lahko podprejo tako ali drugače. Gre za to\, da podelimo znanja\, razširimo modrosti\, se povežemo\, spoznamo\, sodelujemo.\n\nPrijava: https://rb.gy/wc1m2a\n\nPovezavo do dogodka dobiš nekaj dni pred dogodkom na elektronski naslov\, ki ga pustiš v prijavnici.\n\n\nDogodek je brezplačen!
URL:https://skup-ka.si/dogodek/bazar-vescin-8-pozabljene-dezele-pravljicnega/
LOCATION:Online-Zoom
CATEGORIES:Bazar veščin
ORGANIZER;CN="Skupnostna kavarna":MAILTO:skupnostna.kavarna@gmail.com
END:VEVENT
BEGIN:VEVENT
DTSTART;TZID=UTC:20231130T180000
DTEND;TZID=UTC:20231130T193000
DTSTAMP:20260421T150355
CREATED:20231110T152521Z
LAST-MODIFIED:20231110T152521Z
UID:3074-1701367200-1701372600@skup-ka.si
SUMMARY:Bazar veščin #7: Z ustvarjalnostjo do personaliziranih daril
DESCRIPTION:Vabim te na: Bazar veščin #7: Z ustvarjalnostjo do personaliziranih daril. \nNa novembrskem Bazarju veščin bomo raziskovali svojo kreativnost in jo poskušali navezati na praznični čas. S Kim Germ\, vsestransko umetnico in logoterapevtko se bomo poglobili vase\, prebudili svojo ustvarjalno iskrico in razmislili kako jo združiti s prazničnim časom in izdelavo daril. \nDa bodo le-ta kar se da osebna\, pristna\, unikatna\, pomenljiva. In da bodo res izražala naš odnos do najbližjih in najljubših. \nKim nas bo vodila skozi kratko vizualizacijo in kratko vajo\, potem pa bo vsak razmislil kakšno darilo bi lahko iz preprostih in dosegljivih materialov izdelal za dotično osebo\, ali več njih 🙂 Seveda bo prostor tudi za pogovor\, vprašanja\, ideje in pomisleke. \nNa srečanje se lahko prijaviš TULE. \nSe vidimo konec novembra! \nBazar veščin je niz tematskih srečanj\, ki enkrat mesečno do konca leta potekajo v spletni dnevni sobi Skupnostne kavarne. Predstavljamo raziskovalce\, ustvarjalce\, obrtnike in mojstre različnih uporabnih vsakodnevnih veščin\, ki nas lahko podprejo tako ali drugače. Gre za to\, da podelimo znanja\, razširimo modrosti\, se povežemo\, spoznamo\, sodelujemo. \nČe bi želel_a sodelovati kot got_ja na bazarju\, deliti svoja znanja ali veščine in se predstaviti\, pa mi to lahko sporočiš na: info@skup-ka.si.\n\nSrečanje je brezplačno\, projekt Skupnostne kavarne pa lahko podpreš z nakupom v spletni kavarni ali z donacijo na platformi Buymeacoffee.
URL:https://skup-ka.si/dogodek/bazar-vescin-7-z-ustvarjalnostjo-do-personaliziranih-daril/
LOCATION:Online-Zoom
CATEGORIES:Bazar veščin
END:VEVENT
BEGIN:VEVENT
DTSTART;TZID=UTC:20230928T180000
DTEND;TZID=UTC:20230928T193000
DTSTAMP:20260421T150355
CREATED:20230901T150039Z
LAST-MODIFIED:20230901T150039Z
UID:2903-1695924000-1695929400@skup-ka.si
SUMMARY:Bazar veščin #5: Organizacija časa
DESCRIPTION:Bazar veščin #5: Organizacija časa! \nBazar veščin je niz tematskih srečanj\, ki enkrat mesečno do konca leta potekajo v spletni dnevni sobi Skupkine spletne kavarnice. Predstavljamo ustvarjalce\, obrtnike\, mojstre različnih uporabnih vsakodnevnih veščin\, ki nas lahko podprejo tako ali drugače. Gre za to\, da podelimo znanja\, razširimo modrosti\, se povežemo\, spoznamo\, sodelujemo. \nV četrtek\, 28. 9. ob 18h se dobimo na petem Bazarju veščin z Niki Žerjav\, mojstrico za time management\, ki vodi podjetje Sitna mtka! \nNiki pa ni le mojstrica organizacije časa\, temveč tudi mama in partnerka\, ki z lahkoto žonglira med vsemi obveznostmi in pri tem ostaja osredotočena. Zase pravi\, da financam daje svojo unikatno noto in da je njen posel gledališče\, kjer vsak dan igra vlogo uspešne ženske na misiji! \nPogovarjali se bomo o uspešnem načrtovanju vseh obveznosti in usklajevanju različnih vlog. Ni nam treba pregorevati in lahko imamo dovolj denarja za vse\, potrebujemo le malce boljšega in več načrtovanja. Pripravi vprašanja in svoj najljubši čaj in se nam v najbolj udobni trenirki pridruži na septembrskem druženju. \nZa dogodek Bazar veščin #5: Organizacija časa zbiramo prijave zaradi lažje organizacije in da približno vemo koliko nas bo 🙂 \nNa srečanje se lahko prijaviš na tejle povezavi: https://shorturl.at/afhn7. \nČe bi želel_a sodelovati\, deliti svoja znanja ali veščine in se predstaviti\, pa mi to lahko sporočiš na: info@skup-ka.si. \nSe vidimo! \nLp\,\nUrša
URL:https://skup-ka.si/dogodek/bazar-vescin-5-organizacija-casa/
LOCATION:Online-Zoom
CATEGORIES:Bazar veščin
ORGANIZER;CN="Skupnostna kavarna":MAILTO:skupnostna.kavarna@gmail.com
END:VEVENT
END:VCALENDAR