BEGIN:VCALENDAR
VERSION:2.0
PRODID:-//Skupnostna kavarna - ECPv6.15.20//NONSGML v1.0//EN
CALSCALE:GREGORIAN
METHOD:PUBLISH
X-ORIGINAL-URL:https://skup-ka.si
X-WR-CALDESC:Dogodki za Skupnostna kavarna
REFRESH-INTERVAL;VALUE=DURATION:PT1H
X-Robots-Tag:noindex
X-PUBLISHED-TTL:PT1H
BEGIN:VTIMEZONE
TZID:UTC
BEGIN:STANDARD
TZOFFSETFROM:+0000
TZOFFSETTO:+0000
TZNAME:UTC
DTSTART:20250101T000000
END:STANDARD
END:VTIMEZONE
BEGIN:VEVENT
DTSTART;TZID=UTC:20260317T180000
DTEND;TZID=UTC:20260317T193000
DTSTAMP:20260420T143530
CREATED:20260221T155051Z
LAST-MODIFIED:20260221T161111Z
UID:5032-1773770400-1773775800@skup-ka.si
SUMMARY:Muzikalna gibanica
DESCRIPTION:Muzikalna gibanica je izkustveno srečanje\, kjer poslušanje glasbe prepletemo z raziskovanjem občutij in spontanim\, intuitivnim gibanjem. Je varen in podprt prostor\, v katerem se skozi zvok in stik s telesom prepuščamo spontanosti in uhajamo iz cone udobja. \nSrečanje temelji na povezovanju glasbe s telesno prisotnostjo. Udeleženci prinesemo svojo najljubšo glasbo\, jo delimo v skupini in raziskujemo\, kako se občutja ob tej glasbi izražajo skozi telo. Dovolimo jim\, da na plano pridejo skozi gib\, brez pravil\, brez koreografije\, brez kritike in posebnih navodil. Muzikalna gibanica spodbuja sproščanje napetosti v telesu\, večjo pretočnost in lahkotnost\, krepi kreativnost in občutke lahkotnosti. \nTakšna oblika zavestnega gibanja ob glasbi je primerna za vse\, ki si želijo: \n\n\npoglobiti stik s svojim telesom in s sabo\, \n\n\nzmanjšati stres in napetost v telesu\, \n\n\ndoživeti intimno\, poglobljeno izkušnjo s sabo in v skupini. \n\n\nMuzikalna gibanica je prostor za avtentično gibanje in raziskovanje lastnih omejitev\, zadržkov\, nerodnosti. S seboj prinesi svojo najljubšo glasbo (na Spotify naredimo skupno playlisto)\, radovednost in pripravljenost prisluhniti glasbi in svojemu telesu. \nSpremljaj tudi ostale aktivnosti PROGRAMA.
URL:https://skup-ka.si/dogodek/muzikalna-gibanica/
LOCATION:Skupka\, Bežigrad 6\, Ljubljana\, 1000\, Slovenia
CATEGORIES:Krog dobrega počutja,Redni program
ATTACH;FMTTYPE=image/webp:https://skup-ka.si/wp-content/uploads/2026/02/skupkin-program-februar-marec-1-e1771688942589.webp
ORGANIZER;CN="Skupnostna kavarna":MAILTO:skupnostna.kavarna@gmail.com
END:VEVENT
END:VCALENDAR