BEGIN:VCALENDAR
VERSION:2.0
PRODID:-//Skupnostna kavarna - ECPv6.15.20//NONSGML v1.0//EN
CALSCALE:GREGORIAN
METHOD:PUBLISH
X-WR-CALNAME:Skupnostna kavarna
X-ORIGINAL-URL:https://skup-ka.si
X-WR-CALDESC:Dogodki za Skupnostna kavarna
REFRESH-INTERVAL;VALUE=DURATION:PT1H
X-Robots-Tag:noindex
X-PUBLISHED-TTL:PT1H
BEGIN:VTIMEZONE
TZID:UTC
BEGIN:STANDARD
TZOFFSETFROM:+0000
TZOFFSETTO:+0000
TZNAME:UTC
DTSTART:20240101T000000
END:STANDARD
END:VTIMEZONE
BEGIN:VEVENT
DTSTART;TZID=UTC:20251023T180000
DTEND;TZID=UTC:20251023T200000
DTSTAMP:20260420T214538
CREATED:20250910T201551Z
LAST-MODIFIED:20251013T181511Z
UID:4524-1761242400-1761249600@skup-ka.si
SUMMARY:Gong fu čajanke pri Skupki
DESCRIPTION:Gong fu čajanke pri skupki pripravlja Miha Flere\, diplomirani filozof in ljubitelj ter raziskovalec čajne kulture\, ki deluje pod blagovno znamko Shendu.\n\n\nČaj je bil vedno tisti pravi intelektualni in duhovni napitek in nikjer ni bilo to bolj očitno kot pri Kitajski čajni tradiciji\, danes znani tudi kot gongfu cha. To pa lahko razumemo kot obredje druženja in občudovanja čaja. \n\n\nČaj bo torej prav tako eden od obiskovalcev in na enak način kot se bomo prepustili nagovoriti drug drugemu\, se bomo prav tako prepustili nagovoriti s strani čaja. \n\n\nPozorni pa ne bomo zgolj na okušanje temveč tudi na pripravo\, ki bo sledila načelom gongfu cha\, kar v dobesednem prevodu pomeni “vešče pripravljanje čaja”. Samo na takšen način\, ko pospremimo čaj skozi več zaporednih namakanj in z uporabo posebne čajne posode\, lahko resnično razumemo kaj nam ima ta za povedati. \n\nOkušali ne bomo zgolj enega čaja temveč več različnih in se tudi posvetili čajni posodi\, njeni vlogi in zgodovini. Čajanka je torej namenjena vsem\, ki iščete nove in drugačne oblike druženja in ste hkrati radovedni\, kako izgleda gongfu priprava čaja.\nČe zgodovino čaja štejemo v tisočletjih\, pa so naši pogovori nič daljši od nekaj minut ali ur\, zato vzemimo to priložnost in se prepustimo\, temu univerzalnemu povezovalcu\, ki preči tako prostor kot čas. Naj bo čaj tokrat naš učitelj in spremljevalec.\nPRIJAVE\nPrispevek >> 30 €
URL:https://skup-ka.si/dogodek/gong-fu-cajanke-pri-skupki/
LOCATION:Dnevna soba v Šiški\, Gasilska cesta 3\, Ljubljana\, Slovenia
CATEGORIES:Pop up Skupka,Redni program
ATTACH;FMTTYPE=image/png:https://skup-ka.si/wp-content/uploads/2025/09/lalalala-1080-x-1080-pik.png
ORGANIZER;CN="Skupnostna kavarna":MAILTO:skupnostna.kavarna@gmail.com
END:VEVENT
END:VCALENDAR