BEGIN:VCALENDAR
VERSION:2.0
PRODID:-//Skupnostna kavarna - ECPv6.15.20//NONSGML v1.0//EN
CALSCALE:GREGORIAN
METHOD:PUBLISH
X-ORIGINAL-URL:https://skup-ka.si
X-WR-CALDESC:Dogodki za Skupnostna kavarna
REFRESH-INTERVAL;VALUE=DURATION:PT1H
X-Robots-Tag:noindex
X-PUBLISHED-TTL:PT1H
BEGIN:VTIMEZONE
TZID:UTC
BEGIN:STANDARD
TZOFFSETFROM:+0000
TZOFFSETTO:+0000
TZNAME:UTC
DTSTART:20250101T000000
END:STANDARD
END:VTIMEZONE
BEGIN:VEVENT
DTSTART;TZID=UTC:20260109T180000
DTEND;TZID=UTC:20260109T200000
DTSTAMP:20260420T175618
CREATED:20260104T113949Z
LAST-MODIFIED:20260105T121207Z
UID:4892-1767981600-1767988800@skup-ka.si
SUMMARY:Skupnostna večerja za nežurerje
DESCRIPTION:Skupnostna večerja za nežurerje. \nSkupnostna večerja je sproščeno srečanje za vse\, ki se nam ne da več žurat\, hkrati pa pogrešamo druženja ob koncu tedna. \nVsak prinese nekaj malega za na mizo\, skupaj posedimo\, jemo in klepetamo. Ni programa\, ni strukturiranih aktivnosti\, le odprt prostor\, čas in možnost\, da se povežemo na preprost način. \nDogodek je odprt za vse\, ne glede na to\, ali prideš sam_a ali v družbi. Lahko sodeluješ v pogovoru ali pa si samo muha na steni. 🙂 \n📍 Bežigrad 6\, Ljubljana🕕 9. 1. in 23. 1. 2026\n18.00–20.00
URL:https://skup-ka.si/dogodek/skupnostna-vecerja-za-nezurerje/
LOCATION:Skupka\, Bežigrad 6\, Ljubljana\, 1000\, Slovenia
CATEGORIES:Redni program
ATTACH;FMTTYPE=image/webp:https://skup-ka.si/wp-content/uploads/2026/01/skupkin-program2-e1767526900344.webp
ORGANIZER;CN="Skupnostna kavarna":MAILTO:skupnostna.kavarna@gmail.com
END:VEVENT
BEGIN:VEVENT
DTSTART;TZID=UTC:20260113T180000
DTEND;TZID=UTC:20260113T200000
DTSTAMP:20260420T175618
CREATED:20260104T131920Z
LAST-MODIFIED:20260106T210748Z
UID:4897-1768327200-1768334400@skup-ka.si
SUMMARY:Zimska Spoprijateljevalnica
DESCRIPTION:Zimska Spoprijateljevalnica \nZimska spoprijateljevalnica je družabni speed friending dogodek\, namenjen spoznavanju novih ljudi na način\, ki je strukturiran\, a hkrati neobremenjujoč. Namenjena je vsem\, ki si želite navezati nove stike\, razširiti svoj socialni krog ali preprosto izkusiti drugačen način druženja. Dogodek poteka v varnem okolju\, kjer ni pričakovanj\, da moraš biti zabavna\, zgovorna ali posebej samozavestna. \nSrečanje poteka skozi niz kratkih pogovorov v parih\, ki omogočajo\, da v omejenem času spoznaš več različnih ljudi. Takšna struktura zmanjšuje socialni pritisk in omogoča bolj enakovredno izkušnjo za vse udeležence. V pogovoru ne rabiš biti popolna in skrbeti\, da boš pustila vtis\, temveč le radovedna in odprta za nove ljudi. \nČe si tudi ti malo ‘socially awkward’ in se v klasičnih socialnih okoljih težje znajdeš\, si nova v mestu\, ali pa si želiš novega načina spoznavanja in povezvovanja z drugimi\, potem je Spoprijateljevalnica zate. 😉 \nPrijavi se na POVEZAVI. \n📍 Bežigrad 6\, Ljubljana🕕13. 1.\, 27. 1. 2026\n18.00–20.00 \nPrispevek: Pay what you can 5-15€
URL:https://skup-ka.si/dogodek/zimska-spoprijateljevalnica/
LOCATION:Skupka\, Bežigrad 6\, Ljubljana\, 1000\, Slovenia
CATEGORIES:Redni program
ATTACH;FMTTYPE=image/webp:https://skup-ka.si/wp-content/uploads/2026/01/skupkin-program2-e1767526900344.webp
ORGANIZER;CN="Skupnostna kavarna":MAILTO:skupnostna.kavarna@gmail.com
END:VEVENT
BEGIN:VEVENT
DTSTART;TZID=UTC:20260120T180000
DTEND;TZID=UTC:20260120T200000
DTSTAMP:20260420T175618
CREATED:20260104T143358Z
LAST-MODIFIED:20260106T210714Z
UID:4914-1768932000-1768939200@skup-ka.si
SUMMARY:Skupkina USTVARJALNICA
DESCRIPTION:Skupkina USTVARJALNICA \nSkupkina ustvarjalnica je odprt\, neformalen prostor\, namenjen skupnemu ustvarjanju\, druženju in pogovoru. Mišljena je kot skupen prostor za ustvarjanje\, kjer ustvarjalnost ni povezana z znanjem\, izkušnjami ali končnim izdelkom\, temveč z raziskovanjem\, igrivostjo in procesom. Dogodek je primeren za prav vse. \nS seboj lahko prineseš svoj ustvarjalni projekt ali pa se pridružiš skupnemu ustvarjanju. Na zimski Ustvarjalnici bomo uporabili tehniko kolaža\, ki omogoča svobodno kombiniranje podob\, materialov in idej. Kolaž spodbuja intuitiven pristop\, asociativno razmišljanje in eksperimentiranje brez pritiska\, da mora biti popolno ali nekaj nastati. \nUstvarjalnica ni delavnica v klasičnem smislu\, temveč prostor soustvarjanja in izmenjave. Pogovor se pogosto spontano prepleta z ustvarjalnim procesom\, kar prispeva k občutku skupnosti in sproščenosti. Dogodek omogoča\, da se posamezniki povežete skozi skupno izkušnjo\, ne da bi bilo treba veliko govoriti ali razlagati. \nSkupkina ustvarjalnica podpira dobro počutje\, spodbuja izražanje in ponuja alternativo hitremu\, produktivno usmerjenemu vsakdanjemu življenju v naglici. Je povabilo k upočasnitvi\, raziskovanju in skupnemu preživljanju časa v prijetnem in odprtem okolju. \nPrijavi se na POVEZAVI. \n Bežigrad 6\, Ljubljana 20. 1.\, 3. 2. 2026\n18.00–20.00 \nPrispevek: Pay what you can 5-15€
URL:https://skup-ka.si/dogodek/skupkina-ustvarjalnica-2/
LOCATION:Skupka\, Bežigrad 6\, Ljubljana\, 1000\, Slovenia
ATTACH;FMTTYPE=image/webp:https://skup-ka.si/wp-content/uploads/2026/01/skupkin-program2-e1767526900344.webp
ORGANIZER;CN="Skupnostna kavarna":MAILTO:skupnostna.kavarna@gmail.com
END:VEVENT
BEGIN:VEVENT
DTSTART;TZID=UTC:20260122T180000
DTEND;TZID=UTC:20260122T200000
DTSTAMP:20260420T175618
CREATED:20260104T133500Z
LAST-MODIFIED:20260106T210638Z
UID:4901-1769104800-1769112000@skup-ka.si
SUMMARY:Skupkina POSLUŠALNICA
DESCRIPTION:Skupkina POSLUŠALNICA \nPoslušalnica je dogodek\, ki glasbo postavlja v središče skupne izkušnje. Namenjena je vsem\, ki si želimo glasbo doživeti malo drugače\, ne le kot ozadje\, temveč kot prostor srečanja\, zaznavanja in prepuščanja. S seboj prineseš svojo najljubšo glasbo\, ki jo nato skupaj poslušamo\, brez vrednotenja\, razlaganja ali žanrskih omejitev. \nDogodek je zasnovan kot zvočni kotiček\, kjer ni pravil\, koreografije ali pričakovanj. Posameznik se lahko giblje\, sedi\, leži ali preprosto posluša. Glasba tako postane povabilo telesu\, da se odzove na svoj način in v svojem tempu. Takšen pristop spodbuja stik s telesom\, sproščenost in zavedanje lastnih občutkov. \nPoslušalnica je tudi prostor deljenja- Skozi izbor glasbe delimo del svoje zgodbe\, razpoloženja ali notranjega sveta. Na ta način gradimo občutek povezanosti\, ki ne temelji na besedah\, temveč na skupnem doživljanju zvoka. \nPrimerna je zate\, če iščeš lahkotnejši\, bolj intuitiven način druženja\, pa tudi za tiste\, ki si želite več stika s telesom in svojimi čustvi. \nPrijavi se na POVEZAVI. \n Bežigrad 6\, Ljubljana 22. 1. 2026\n18.00–20.00 \nPrispevek: Pay what you can 5-15€
URL:https://skup-ka.si/dogodek/skupkina-poslusalnica/
LOCATION:Skupka\, Bežigrad 6\, Ljubljana\, 1000\, Slovenia
CATEGORIES:Redni program
ATTACH;FMTTYPE=image/webp:https://skup-ka.si/wp-content/uploads/2026/01/skupkin-program2-e1767526900344.webp
ORGANIZER;CN="Skupnostna kavarna":MAILTO:skupnostna.kavarna@gmail.com
END:VEVENT
BEGIN:VEVENT
DTSTART;TZID=UTC:20260127T180000
DTEND;TZID=UTC:20260127T200000
DTSTAMP:20260420T175618
CREATED:20260104T143005Z
LAST-MODIFIED:20260106T210608Z
UID:4912-1769536800-1769544000@skup-ka.si
SUMMARY:Zimska Spoprijateljevalnica
DESCRIPTION:Zimska Spoprijateljevalnica \nZimska spoprijateljevalnica je družabni speed friending dogodek\, namenjen spoznavanju novih ljudi na način\, ki je strukturiran\, a hkrati neobremenjujoč. Namenjena je vsem\, ki si želite navezati nove stike\, razširiti svoj socialni krog ali preprosto izkusiti drugačen način druženja. Dogodek poteka v varnem okolju\, kjer ni pričakovanj\, da moraš biti zabavna\, zgovorna ali posebej samozavestna. \nSrečanje poteka skozi niz kratkih pogovorov v parih\, ki omogočajo\, da v omejenem času spoznaš več različnih ljudi. Takšna struktura zmanjšuje socialni pritisk in omogoča bolj enakovredno izkušnjo za vse udeležence. V pogovoru ne rabiš biti popolna in skrbeti\, da boš pustila vtis\, temveč le radovedna in odprta za nove ljudi. \nČe si tudi ti malo ‘socially awkward’ in se v klasičnih socialnih okoljih težje znajdeš\, si nova v mestu\, ali pa si želiš novega načina spoznavanja in povezvovanja z drugimi\, potem je Spoprijateljevalnica zate.  \nPrijavi se na POVEZAVI. \n Bežigrad 6\, Ljubljana 13. 1.\, 27. 1. 2026\n18.00–20.00 \nPrispevek: Pay what you can 5-15€
URL:https://skup-ka.si/dogodek/zimska-spoprijateljevalnica-2/
LOCATION:Skupka\, Bežigrad 6\, Ljubljana\, 1000\, Slovenia
CATEGORIES:Redni program
ATTACH;FMTTYPE=image/webp:https://skup-ka.si/wp-content/uploads/2026/01/skupkin-program2-e1767526900344.webp
ORGANIZER;CN="Skupnostna kavarna":MAILTO:skupnostna.kavarna@gmail.com
END:VEVENT
END:VCALENDAR