BEGIN:VCALENDAR
VERSION:2.0
PRODID:-//Skupnostna kavarna - ECPv6.15.20//NONSGML v1.0//EN
CALSCALE:GREGORIAN
METHOD:PUBLISH
X-WR-CALNAME:Skupnostna kavarna
X-ORIGINAL-URL:https://skup-ka.si
X-WR-CALDESC:Dogodki za Skupnostna kavarna
REFRESH-INTERVAL;VALUE=DURATION:PT1H
X-Robots-Tag:noindex
X-PUBLISHED-TTL:PT1H
BEGIN:VTIMEZONE
TZID:UTC
BEGIN:STANDARD
TZOFFSETFROM:+0000
TZOFFSETTO:+0000
TZNAME:UTC
DTSTART:20250101T000000
END:STANDARD
END:VTIMEZONE
BEGIN:VEVENT
DTSTART;TZID=UTC:20260203T180000
DTEND;TZID=UTC:20260203T200000
DTSTAMP:20260420T175547
CREATED:20260104T132754Z
LAST-MODIFIED:20260106T210537Z
UID:4899-1770141600-1770148800@skup-ka.si
SUMMARY:Skupkina USTVARJALNICA
DESCRIPTION:Skupkina USTVARJALNICA \nSkupkina ustvarjalnica je odprt\, neformalen prostor\, namenjen skupnemu ustvarjanju\, druženju in pogovoru. Mišljena je kot skupen prostor za ustvarjanje\, kjer ustvarjalnost ni povezana z znanjem\, izkušnjami ali končnim izdelkom\, temveč z raziskovanjem\, igrivostjo in procesom. Dogodek je primeren za prav vse. \nS seboj lahko prineseš svoj ustvarjalni projekt ali pa se pridružiš skupnemu ustvarjanju. Na zimski Ustvarjalnici bomo uporabili tehniko kolaža\, ki omogoča svobodno kombiniranje podob\, materialov in idej. Kolaž spodbuja intuitiven pristop\, asociativno razmišljanje in eksperimentiranje brez pritiska\, da mora biti popolno ali nekaj nastati. \nUstvarjalnica ni delavnica v klasičnem smislu\, temveč prostor soustvarjanja in izmenjave. Pogovor se pogosto spontano prepleta z ustvarjalnim procesom\, kar prispeva k občutku skupnosti in sproščenosti. Dogodek omogoča\, da se posamezniki povežete skozi skupno izkušnjo\, ne da bi bilo treba veliko govoriti ali razlagati. \nSkupkina ustvarjalnica podpira dobro počutje\, spodbuja izražanje in ponuja alternativo hitremu\, produktivno usmerjenemu vsakdanjemu življenju v naglici. Je povabilo k upočasnitvi\, raziskovanju in skupnemu preživljanju časa v prijetnem in odprtem okolju. \nPrijavi se na POVEZAVI. \n Bežigrad 6\, Ljubljana 20. 1.\, 3. 2. 2026\n18.00–20.00 \nPrispevek: Pay what you can 5-15€
URL:https://skup-ka.si/dogodek/skupkina-ustvarjalnica/
LOCATION:Skupka\, Bežigrad 6\, Ljubljana\, 1000\, Slovenia
CATEGORIES:Redni program
ATTACH;FMTTYPE=image/webp:https://skup-ka.si/wp-content/uploads/2026/01/skupkin-program2-e1767526900344.webp
END:VEVENT
END:VCALENDAR