BEGIN:VCALENDAR
VERSION:2.0
PRODID:-//Skupnostna kavarna - ECPv6.15.20//NONSGML v1.0//EN
CALSCALE:GREGORIAN
METHOD:PUBLISH
X-ORIGINAL-URL:https://skup-ka.si
X-WR-CALDESC:Dogodki za Skupnostna kavarna
REFRESH-INTERVAL;VALUE=DURATION:PT1H
X-Robots-Tag:noindex
X-PUBLISHED-TTL:PT1H
BEGIN:VTIMEZONE
TZID:UTC
BEGIN:STANDARD
TZOFFSETFROM:+0000
TZOFFSETTO:+0000
TZNAME:UTC
DTSTART:20250101T000000
END:STANDARD
END:VTIMEZONE
BEGIN:VEVENT
DTSTART;TZID=UTC:20260205T180000
DTEND;TZID=UTC:20260205T200000
DTSTAMP:20260420T193107
CREATED:20260104T143821Z
LAST-MODIFIED:20260106T210503Z
UID:4917-1770314400-1770321600@skup-ka.si
SUMMARY:Skupkina POSLUŠALNICA
DESCRIPTION:Skupkina POSLUŠALNICA \nPoslušalnica je dogodek\, ki glasbo postavlja v središče skupne izkušnje. Namenjena je vsem\, ki si želimo glasbo doživeti malo drugače\, ne le kot ozadje\, temveč kot prostor srečanja\, zaznavanja in prepuščanja. S seboj prineseš svojo najljubšo glasbo\, ki jo nato skupaj poslušamo\, brez vrednotenja\, razlaganja ali žanrskih omejitev. \nDogodek je zasnovan kot zvočni kotiček\, kjer ni pravil\, koreografije ali pričakovanj. Posameznik se lahko giblje\, sedi\, leži ali preprosto posluša. Glasba tako postane povabilo telesu\, da se odzove na svoj način in v svojem tempu. Takšen pristop spodbuja stik s telesom\, sproščenost in zavedanje lastnih občutkov. \nPoslušalnica je tudi prostor deljenja- Skozi izbor glasbe delimo del svoje zgodbe\, razpoloženja ali notranjega sveta. Na ta način gradimo občutek povezanosti\, ki ne temelji na besedah\, temveč na skupnem doživljanju zvoka. \nPrimerna je zate\, če iščeš lahkotnejši\, bolj intuitiven način druženja\, pa tudi za tiste\, ki si želite več stika s telesom in svojimi čustvi. \nPrijavi se na POVEZAVI. \n Bežigrad 6\, Ljubljana 22. 1.\, 5. 2. 2026\n18.00–20.00 \nPrispevek: Pay what you can 5-15€
URL:https://skup-ka.si/dogodek/skupkina-poslusalnica-2/
LOCATION:Skupka\, Bežigrad 6\, Ljubljana\, 1000\, Slovenia
CATEGORIES:Redni program
ATTACH;FMTTYPE=image/webp:https://skup-ka.si/wp-content/uploads/2026/01/skupkin-program2-e1767526900344.webp
ORGANIZER;CN="Skupnostna kavarna":MAILTO:skupnostna.kavarna@gmail.com
END:VEVENT
BEGIN:VEVENT
DTSTART;TZID=UTC:20260214T170000
DTEND;TZID=UTC:20260214T190000
DTSTAMP:20260420T193107
CREATED:20260119T152329Z
LAST-MODIFIED:20260203T181330Z
UID:4974-1771088400-1771095600@skup-ka.si
SUMMARY:Valentinov Alter Ego: delavnica akvarelnega portreta za pare
DESCRIPTION:[vc_row type=”in_container” full_screen_row_position=”middle” column_margin=”default” column_direction=”default” column_direction_tablet=”default” column_direction_phone=”default” scene_position=”center” text_color=”dark” text_align=”left” row_border_radius=”none” row_border_radius_applies=”bg” overflow=”visible” overlay_strength=”0.3″ gradient_direction=”left_to_right” shape_divider_position=”bottom” bg_image_animation=”none”][vc_column column_padding=”no-extra-padding” column_padding_tablet=”inherit” column_padding_phone=”inherit” column_padding_position=”all” column_element_spacing=”default” background_color_opacity=”1″ background_hover_color_opacity=”1″ column_shadow=”none” column_border_radius=”none” column_link_target=”_self” column_position=”default” gradient_direction=”left_to_right” overlay_strength=”0.3″ width=”1/3″ tablet_width_inherit=”default” tablet_text_alignment=”default” phone_text_alignment=”default” animation_type=”default” bg_image_animation=”none” border_type=”simple” column_border_width=”none” column_border_style=”solid”][/vc_column][vc_column column_padding=”no-extra-padding” column_padding_tablet=”inherit” column_padding_phone=”inherit” column_padding_position=”all” column_element_spacing=”default” background_color_opacity=”1″ background_hover_color_opacity=”1″ column_shadow=”none” column_border_radius=”none” column_link_target=”_self” column_position=”default” gradient_direction=”left_to_right” overlay_strength=”0.3″ width=”1/3″ tablet_width_inherit=”default” tablet_text_alignment=”default” phone_text_alignment=”default” animation_type=”default” bg_image_animation=”none” border_type=”simple” column_border_width=”none” column_border_style=”solid”][nectar_btn size=”large” open_new_tab=”true” button_style=”regular” button_color_2=”Accent-Color” icon_family=”none” text=”KUPI VSTOPNICO ZA VALENTINOV ZMENEK” url=”https://skup-ka.si/izdelek/valentinov-alter-ego-delavnica-akvarelnega-portreta-za-pare/”][/vc_column][vc_column column_padding=”no-extra-padding” column_padding_tablet=”inherit” column_padding_phone=”inherit” column_padding_position=”all” column_element_spacing=”default” background_color_opacity=”1″ background_hover_color_opacity=”1″ column_shadow=”none” column_border_radius=”none” column_link_target=”_self” column_position=”default” gradient_direction=”left_to_right” overlay_strength=”0.3″ width=”1/3″ tablet_width_inherit=”default” tablet_text_alignment=”default” phone_text_alignment=”default” animation_type=”default” bg_image_animation=”none” border_type=”simple” column_border_width=”none” column_border_style=”solid”][/vc_column][/vc_row][vc_row type=”in_container” full_screen_row_position=”middle” column_margin=”default” column_direction=”default” column_direction_tablet=”default” column_direction_phone=”default” scene_position=”center” text_color=”dark” text_align=”left” row_border_radius=”none” row_border_radius_applies=”bg” overflow=”visible” overlay_strength=”0.3″ gradient_direction=”left_to_right” shape_divider_position=”bottom” bg_image_animation=”none”][vc_column column_padding=”no-extra-padding” column_padding_tablet=”inherit” column_padding_phone=”inherit” column_padding_position=”all” column_element_spacing=”default” background_color_opacity=”1″ background_hover_color_opacity=”1″ column_shadow=”none” column_border_radius=”none” column_link_target=”_self” column_position=”default” gradient_direction=”left_to_right” overlay_strength=”0.3″ width=”1/1″ tablet_width_inherit=”default” tablet_text_alignment=”default” phone_text_alignment=”default” animation_type=”default” bg_image_animation=”none” border_type=”simple” column_border_width=”none” column_border_style=”solid”][vc_column_text]\n\nValentinov Alter Ego je ustvarjalna delavnica akvarelnega portreta za pare in prijatelje\, na kateri boš na sproščen in igriv način naslikal/a alter ego svojega partnerja ali partnerke. \nPod vodstvom akademske vizualne umetnice Andreje Kranjec bosta s partnerjem spoznala osnove risanja portreta in akvarelnega slikanja ter ustvarila unikaten spomin in posebno valentinovo darilo. \nV sodelovanju z vizualno umetnico Andrejo Kranjec pripravljamo edinstveno ustvarjalno delavnico akvarelnega portreta\, namenjeno parom\, prijateljem in vsem\, ki si želite doživeti Valentinovo drugače\, osebno in igrivo ter izdelati unikatno darilo za svojega partnerja ali partnerko. \nDelavnica za pare Valentinov Alter Ego vas povabi\, da na sproščen in zabaven način naslikate portret svojega partnerja ali prijatelja ter skozi umetniški proces raziskujete njegove ali njene različne izraze. Temu lahko rečemo alter ego\, ali pa vse različice ljubljene osebe. Rezultat bo unikatna umetnina\, ki bo postala čudovit spomin in res posebno darilo za partnerj\, ljubimca\, sopotnico\, prijateljico ali osebo s prvega zmenka. \nUstvarjalna delavnica je primerna za vse nivoje znanja\, tako za začetnike\, kot tudi tiste z nekaj izkušnjami. Predznanje ni potrebno. Pod strokovnim vodstvom akademske vizualne umetnice Andreje Kranjec boste korak za korakom spoznali osnove risanja in slikanja portreta z akvareli. \nAndreja vas bo vodila skozi: \n\n\npravilno postavitev portreta\, \n\n\nosnove proporcev obraza\, \n\n\nuporabo in mešanje akvarelnih barv\, \n\n\npreproste slikarske prijeme za izrazit\, živ portret. \n\n\nPoseben poudarek bo na igrivosti\, eksperimentiranju z barvami in interpretaciji značaja\, ne na popolnosti ali realistični upodobitvi partnerja ali partnerke. \nKaj bomo počeli na delavnici? \n\n\nspoznali osnove postavitve portreta in pravilnega proporcioniranja\, \n\n\nnaučili se bomo osnov akvarelnega slikanja\, \n\n\nustvarili bomo unikaten in poseben portret partnerja ali njegovega alter ega\, \n\n\neksperimentirali bomo z barvami\, teksturami in izrazi\, \n\nse družili z ostalimi pari\,\nse pocrkljali s pijačo za dobrodošlico in valentinovimi prigrizki.\n\nPraktične informacije o delavnici:\n\n\nTrajanje: 120 minut \n\n\nCena: \n\n\n90 € / par do 25. 1. \n\n\n110 € / par po 25. 1. \n\n\n\n\nVključeno v ceno: \n\n\nves potreben material \n\n\nstrokovno vodenje \n\n\npogostitev +  pijača dobrodošlice \n\n\n\n\n\nNakup vstopnice na povezavi: Valentinov Alter Ego: delavnica akvarelnega portreta za pare\n\nDodatne informacije: info@skup-ka.si. \n\n[/vc_column_text][/vc_column][/vc_row]
URL:https://skup-ka.si/dogodek/valentinov-alter-ego-delavnica-akvarelnega-portreta-za-pare/
LOCATION:Skupka\, Bežigrad 6\, Ljubljana\, 1000\, Slovenia
CATEGORIES:Pop up Skupka
ATTACH;FMTTYPE=image/webp:https://skup-ka.si/wp-content/uploads/2026/01/Valentinova-delavnica-Instagram-Post-45-1-e1768835865191.webp
ORGANIZER;CN="Skupnostna kavarna":MAILTO:skupnostna.kavarna@gmail.com
END:VEVENT
BEGIN:VEVENT
DTSTART;TZID=UTC:20260224T180000
DTEND;TZID=UTC:20260224T200000
DTSTAMP:20260420T193107
CREATED:20260221T160003Z
LAST-MODIFIED:20260221T160539Z
UID:5039-1771956000-1771963200@skup-ka.si
SUMMARY:Spoprijateljevalnica
DESCRIPTION:Spoprijateljevalnica ni speed dating\, niti speed friending.\nČe si med tistimi\, ki želijo razširiti svoj krog prijateljev\, ali pa samo spoznati kakšen nov in zanimiv karakter\, se oglasi na Spoprijateljevalnici na naslovu Bežigrad 6 v Ljubljani.\nPripravljena bodo omizja\, iztočnice za pogovor in prostor za druženje.\nPrispevek za dogodek je 5-15€\, prispevaš kot lahko.\nZaradi lažje organizacije te prosimo\, da se na dogodek prijaviš na POVEZAVI.\nSe vidimo! ….Pa še en disklejmer:Dogodek je namenjen sklepanju novih poznanstev in druženju in ni dejting aplikacija v živo. Dejmo poskrbet\, da se bomo vsi počutili udobno\, varno in sproščeno.
URL:https://skup-ka.si/dogodek/spoprijateljevalnica-3/
LOCATION:Skupka\, Bežigrad 6\, Ljubljana\, 1000\, Slovenia
CATEGORIES:Krog dobrega počutja,Redni program
ATTACH;FMTTYPE=image/webp:https://skup-ka.si/wp-content/uploads/2026/02/skupkin-program-februar-marec-1-e1771688942589.webp
ORGANIZER;CN="Skupnostna kavarna":MAILTO:skupnostna.kavarna@gmail.com
END:VEVENT
BEGIN:VEVENT
DTSTART;TZID=UTC:20260225T113000
DTEND;TZID=UTC:20260225T210000
DTSTAMP:20260420T193107
CREATED:20260221T162422Z
LAST-MODIFIED:20260221T162458Z
UID:5045-1772019000-1772053200@skup-ka.si
SUMMARY:Žepna delavnica DEFY
DESCRIPTION:Žepna delavnica DEFY in otvoritev umetniške razstave. \nSkupka gosti projekt DEFY\, v katerega je vključen Zavod Voluntariat. \nGre za preizkus ustvarjalne metodologije za raziskovanje odnosnosti do (ne)udobja\, težavnih spoznanj\, občutij in lastne prakse. Poleg dveh delavnic\, ki bosta potekali ob 10.30 in 17.30\, po drugi delavnici sledi še otvoritev razstave umetniških del\, ki so nastali v okviru projekta. \n1. delavnica: 10.30 \n2. delavnica: 17.30 \nDelavnica je namenjena predvsem pedagoškim delavcem\, mladinskim delavcem in vsem drugim\, pri prihajate v stik s težjimi vsebinami in temami. \n 
URL:https://skup-ka.si/dogodek/zepna-delavnica-defy/
LOCATION:Skupka\, Bežigrad 6\, Ljubljana\, 1000\, Slovenia
CATEGORIES:Pogovor
ATTACH;FMTTYPE=image/webp:https://skup-ka.si/wp-content/uploads/2026/02/Posnetek-zaslona-2026-02-21-172138-1.webp
END:VEVENT
BEGIN:VEVENT
DTSTART;TZID=UTC:20260226T180000
DTEND;TZID=UTC:20260226T200000
DTSTAMP:20260420T193107
CREATED:20260221T163746Z
LAST-MODIFIED:20260221T163746Z
UID:5049-1772128800-1772136000@skup-ka.si
SUMMARY:Skupkina Ustvarjalnica
DESCRIPTION:Skupkina Ustvarjalnica je kotiček\, v katerem se prepletata kreativnost in druženje. Je za odprt prostor za skupno ustvarjanje\, namenjen vsem\, ki si želijo kakovostno preživeti čas\, razvijati svojo ustvarjalnost ter se povezovati z drugimi ob ročnih delih in umetniškem izražanju. \nUstvarjalnica ustvarja spodbudno okolje za različne oblike ustvarjanja\, od risanja\, slikanja in kolaža do dela z različnimi materiali\, kot so papir\, tekstil\, naravni materiali in drugi ustvarjalni pripomočki. Vsakič se lahko pridružiš skupni temi ustvarjanja ali pa s sabo prineseš svoj ustvarjalni projekt in ga razvijaš v družbi ostalih. Material za ustvarjanje je na voljo. \nDogodek je primeren za vse generacije. Za tiste posameznike\, ki iščemo prostor za skupno ustvarjanje\, za ljubitelje ročnih del\, za tiste\, ki si želimo umika od vsakodnevnega stresa\, pa tudi za vse\, ki cenimo pristno druženje v manjših skupinah. Na Ustvarjalnici se ne učimo ustvarjalnih tehnik in ni zasnovana kot delavnica\, temveč kot prostor\, kjer brez pričakovanj delaš z rokami\, se prepuščaš kreativi in svoji domišljiji. \nSkupkina Ustvarjalnica spodbuja: \n\n\nrazvoj kreativnosti in osebnega izražanja\, \n\n\nsproščanje skozi ročno delo\, \n\n\npovezovanje v lokalni skupnosti\, \n\n\nčuječe preživljanje prostega časa brez pričakovanj in pritiska. \n\n\nVeč o drugih Skupkinih dogodkih\, si poglej v zavihku DOGODKI. \n 
URL:https://skup-ka.si/dogodek/skupkina-ustvarjalnica-3/
LOCATION:Skupka\, Bežigrad 6\, Ljubljana\, 1000\, Slovenia
CATEGORIES:Krog dobrega počutja,Redni program
ATTACH;FMTTYPE=image/webp:https://skup-ka.si/wp-content/uploads/2026/02/skupkin-program-februar-marec-1-e1771688942589.webp
END:VEVENT
END:VCALENDAR