BEGIN:VCALENDAR
VERSION:2.0
PRODID:-//Skupnostna kavarna - ECPv6.15.20//NONSGML v1.0//EN
CALSCALE:GREGORIAN
METHOD:PUBLISH
X-WR-CALNAME:Skupnostna kavarna
X-ORIGINAL-URL:https://skup-ka.si
X-WR-CALDESC:Dogodki za Skupnostna kavarna
REFRESH-INTERVAL;VALUE=DURATION:PT1H
X-Robots-Tag:noindex
X-PUBLISHED-TTL:PT1H
BEGIN:VTIMEZONE
TZID:UTC
BEGIN:STANDARD
TZOFFSETFROM:+0000
TZOFFSETTO:+0000
TZNAME:UTC
DTSTART:20220101T000000
END:STANDARD
END:VTIMEZONE
BEGIN:VEVENT
DTSTART;TZID=UTC:20240222T173000
DTEND;TZID=UTC:20240222T183000
DTSTAMP:20260421T042932
CREATED:20240215T131452Z
LAST-MODIFIED:20240215T180319Z
UID:3275-1708623000-1708626600@skup-ka.si
SUMMARY:Pesniški večer: Pesniški Open House
DESCRIPTION:Pesniški večer: Pesniški Open house:\nNadaljujemo z večeri za poetično izražanje in besedno ustvarjanje \nTokrat združujemo moči MPM\, Skupka\, naša Parvati pa Knjižnica REČI v Savskem naselju…za en večer se selimo iz Most v Savca!\n*Enkrat mesečno se bomo zbrali v kavarniškem kotičku\, tokrat v udobju Knjižnice Reči in ustvarjali odprt prostor za vse ljubitelje poezije. Lahko si izkušen pesnik\, pesnica\, lahko še povsem na začetku\, ali daleč pred njim. Morda pa te poezija zgolj zanima in si želiš le tople skodelice čaja in ustvarjalnega večera. Morda bi želela deliti svoja dela\, pa se ti zdi\, da še nisi pripravljena.\nSrečanja Pesniškega open house-a so namenjena ustvarjanju povezovalnega okolja\, kjer se lahko izrazimo skozi napisano besedo in poetično misel. Lahko prideš v vlogi pesnika\, pripravljenega deliti svoja dela\, ali pa kot poslušalec\, opazovalec\, muha na steni. Kakorkoli že\, v vsakem primeru si dobrodošel\, dobrodošla!\nGlavni cilj naših srečanj je\, da jih ustvarjamo skupaj in da se pri tem počutimo udobno. Ustvariti želimo skupino\, ki bo skozi srečevanja gradila na svojem pesniškem izrazu in medsebojni podpori. Skupaj bomo premagovali ovire in nerodnosti\, se spodbujali\, brali\, se pogovarjali o temah\, ki se bodo razkrivale v pesniških in pisateljskih delih. Oblikovati želimo skupnost\, ki jo povezuje poezija\, ustvarjalnost in pisanje\, kjer bo vsak našel svoje mesto\, bil viden in slišan in bo imel možnost\, da razvija svoje besedišče\, kreativo ter domišljijo!! \n\nLepo vabljeni!!Vstop prost. \nInfo o dogodku:\nLokacija: Knjižnica REČI Savsko naselje (Belokranjska 6)\nAvtobusna postaja: Savsko naselje\nKdaj: 22.2.2024\nČas: 17:45 – 19:45
URL:https://skup-ka.si/dogodek/pesniski-open-house-3/
LOCATION:Knjižnica reči\, Belokranjska 6\, Ljubljana\, Slovenia\, Ljubljana\, 1000\, Slovenija
CATEGORIES:Kavarniški večeri,Redni program
ORGANIZER;CN="Skupnostna kavarna":MAILTO:skupnostna.kavarna@gmail.com
END:VEVENT
BEGIN:VEVENT
DTSTART;TZID=UTC:20240206T180000
DTEND;TZID=UTC:20240206T190000
DTSTAMP:20260421T042932
CREATED:20240113T123234Z
LAST-MODIFIED:20240115T151524Z
UID:3179-1707242400-1707246000@skup-ka.si
SUMMARY:Pravljični knjižni klub za odrasle
DESCRIPTION:Pravljični knjižni klub za odrasle je namenjen vsem\, ki vas privlačijo pravljice. Pravljice so prava zakladnica življenjskih modrosti in na svojevrsten način prikazujejo raznolike človeške situacije in izzive. S pomočjo pravljice lahko raziskujemo lastno notranje bogastvo in moč ter svet\, ki nas obdaja. Na srečanjih bomo s pomočjo izbrane pravljice obujali in spoznavali dežele pravljičnega\, čudežnega in mističnega. \nizvajalki: Maruša Rozman iz Dežele pravljic in Urša Kaplan iz Skupnostne kavarne\nkdaj: Vsak prvi torek v mesecu\, od 18h do 19h\nkje: Knjižnica REČI\, Belokranjska ulica 6\, 1000 Ljubljana\ncena: brezplačno \n6. FEBRUAR ob 18h\nSnežna Kraljica\, Hans Christian Andersen\nPovezava do PRIJAVE. \n\n\n\n\n\n\n\n\n\n   \n\n\n\n\n\n“Bila je gospa\, tako zelo visoka in vitka\, vsa bleščeče bela – bila je Snežna kraljica.”\n​\nPravljična klasika Snežna Kraljica pripoveduje o moči ljubezni in prijateljstva ter o igri med dobrim in zlim.\nKaj In Gerda sta najboljša prijatelja toda nekega dne se Kaj spremeni. Košček stekla iz čarobnega ogledala se zapiči v njegovo oko in srce\, kar v dečku prebudi zlo.\nKaj odide s Snežno Kraljico in za seboj pusti prijateljstvo in svojo dobroto. Snežna kraljica je očarljivo lepa\, a hladna in okrutna. Greta se odloči\, da bo svojega prijatelja osvobodila “uroka” čarobnega stekla in Snežne kraljice. Pravljica prikazuje Gretino zaupanje v dobroto in Kajevo zaslepljenost.
URL:https://skup-ka.si/dogodek/pravljicni-knjizni-klub-za-odrasle/
LOCATION:Knjižnica reči\, Belokranjska 6\, Ljubljana\, Slovenia\, Ljubljana\, 1000\, Slovenija
CATEGORIES:Pop up Skupka
ORGANIZER;CN="Skupnostna kavarna":MAILTO:skupnostna.kavarna@gmail.com
END:VEVENT
BEGIN:VEVENT
DTSTART;TZID=UTC:20231218T190000
DTEND;TZID=UTC:20231218T203000
DTSTAMP:20260421T042932
CREATED:20231208T135702Z
LAST-MODIFIED:20231208T140053Z
UID:3136-1702926000-1702931400@skup-ka.si
SUMMARY:Bazar veščin #8: Pozabljene dežele pravljičnega
DESCRIPTION:Bazar veščin #8: Pozabljene dežele pravljičnega in predstavitev pravljice Češnjev cvet se bliža!\n\nNa zadnjem\, prazničnem Bazarju veščin bomo raziskovali pozabljene svetove pravljičnega\, čudežnega\, fantazijskega.\nSkupaj z Marušo Rozman\, avtorico pravljice Češnjev cvet\, socialno pedagoginjo\, ljubiteljico in raziskovalko svetov čudežnega\, pravljičnega in mističnega\, se bomo poglobili v lastne svetove in poskušali odkriti kakšno mesto zaseda pravljičnost v nas samih in v naših vsakdanjih življenjih.\n\nSpomnili se bomo na potencial\, ki ga imajo pravljice v življenju odraslega. Naslovili bomo mit otroškosti in odraslosti in se vprašali kakšno mesto zaseda čudežnost v naših življenjih danes\, ko nismo več otroci. Ali jo lahko obudimo in z njo naredimo svoje življenje bolj magično? Lahko s pravljicami obudimo čudenje svetu okoli nas?\nMaruša Rozman nas bo popeljala skozi svoje doživljanje pravljičnega in nam predstavila prvo avtorsko pravljico Češnjev cvet\, ki ni namenjena le otrokom\, temveč tudi odraslim. Maruša zase pravi\, da jo že od nekdaj privlači svet človekovega notranjega bogastva. Zanimajo jo svetovi pravljičnega\, čudežnega in mističnega. Rada raziskuje dušno pokrajino preko meditacije in dobrih knjig.\n\nDogodek je namenjen predvsem odraslim\, ki pogosto pozabimo na svetove pravljičnega v nas in okoli nas. Je zaključen dogodek prve sezone bazarja veščin in zato še toliko bolj poseben\, prazničen in pravljičen. \nBazar veščin je niz tematskih srečanj\, ki enkrat mesečno do konca leta potekajo v spletni dnevni sobi Skupnostne kavarne. Predstavljamo raziskovalce\, ustvarjalce\, obrtnike in mojstre različnih uporabnih vsakodnevnih veščin\, ki nas lahko podprejo tako ali drugače. Gre za to\, da podelimo znanja\, razširimo modrosti\, se povežemo\, spoznamo\, sodelujemo.\n\nPrijava: https://rb.gy/wc1m2a\n\nPovezavo do dogodka dobiš nekaj dni pred dogodkom na elektronski naslov\, ki ga pustiš v prijavnici.\n\n\nDogodek je brezplačen!
URL:https://skup-ka.si/dogodek/bazar-vescin-8-pozabljene-dezele-pravljicnega/
LOCATION:Online-Zoom
CATEGORIES:Bazar veščin
ORGANIZER;CN="Skupnostna kavarna":MAILTO:skupnostna.kavarna@gmail.com
END:VEVENT
BEGIN:VEVENT
DTSTART;TZID=UTC:20231214T180000
DTEND;TZID=UTC:20231214T200000
DTSTAMP:20260421T042932
CREATED:20231208T134422Z
LAST-MODIFIED:20231208T134422Z
UID:3133-1702576800-1702584000@skup-ka.si
SUMMARY:Pesniški Open House
DESCRIPTION:Pesniški Open House je ponovno tu! \nV Mladinski postaji Moste vsak mesec odpremo prostor za poetičen izraz in besedno ustvarjanje.\nEnkrat mesečno se zberemo  v kavarniškem kotičku\, na udobnih retro kavčih v prvem nadstropju Tržnice Moste in ustvarjamo odprt prostor za vse ljubitelje poezije. Lahko si izkušen pesnik\, pesnica\, lahko še povsem na začetku\, ali daleč pred njim. Morda pa te poezija zgolj zanima in si želiš le tople skodelice čaja in ustvarjalnega večera. Morda bi želela deliti svoja dela\, pa se ti zdi\, da še nisi pripravljena.\n\nSrečanja Pesniškega open house-a so namenjena ustvarjanju povezovalnega okolja\, kjer se lahko izrazimo skozi napisano besedo in poetično misel. Lahko prideš v vlogi pesnika\, pripravljenega deliti svoja dela\, ali pa kot poslušalec\, opazovalec\, muha na steni. Kakorkoli že\, v vsakem primeru si dobrodošel\, dobrodošla!\n\nGlavni cilj naših srečanj je\, da jih ustvarjamo skupaj in da se pri tem počutimo udobno. Ustvariti želimo skupino\, ki bo skozi srečevanja gradila na svojem pesniškem izrazu in medsebojni podpori. Skupaj bomo premagovali ovire in nerodnosti\, se spodbujali\, brali\, se pogovarjali o temah\, ki se bodo razkrivale v pesniških delih. Oblikovati želimo skupnost\, ki jo povezuje poezija\, kjer bo vsak našel svoje mesto\, bil viden in slišan in bo imel možnost\, da zraste v velikega pesnika\, pesnico \n\nSe že veselimo skupnega raziskovanja čarobnega sveta poezije!
URL:https://skup-ka.si/dogodek/pesniski-open-house/
LOCATION:Mladinska postaja Moste\, Zaloška 55\, Ljubljana\, Ljubljana\, 1000
CATEGORIES:Kavarniški večeri
ORGANIZER;CN="Skupnostna kavarna":MAILTO:skupnostna.kavarna@gmail.com
END:VEVENT
BEGIN:VEVENT
DTSTART;TZID=UTC:20231130T180000
DTEND;TZID=UTC:20231130T193000
DTSTAMP:20260421T042932
CREATED:20231110T152521Z
LAST-MODIFIED:20231110T152521Z
UID:3074-1701367200-1701372600@skup-ka.si
SUMMARY:Bazar veščin #7: Z ustvarjalnostjo do personaliziranih daril
DESCRIPTION:Vabim te na: Bazar veščin #7: Z ustvarjalnostjo do personaliziranih daril. \nNa novembrskem Bazarju veščin bomo raziskovali svojo kreativnost in jo poskušali navezati na praznični čas. S Kim Germ\, vsestransko umetnico in logoterapevtko se bomo poglobili vase\, prebudili svojo ustvarjalno iskrico in razmislili kako jo združiti s prazničnim časom in izdelavo daril. \nDa bodo le-ta kar se da osebna\, pristna\, unikatna\, pomenljiva. In da bodo res izražala naš odnos do najbližjih in najljubših. \nKim nas bo vodila skozi kratko vizualizacijo in kratko vajo\, potem pa bo vsak razmislil kakšno darilo bi lahko iz preprostih in dosegljivih materialov izdelal za dotično osebo\, ali več njih 🙂 Seveda bo prostor tudi za pogovor\, vprašanja\, ideje in pomisleke. \nNa srečanje se lahko prijaviš TULE. \nSe vidimo konec novembra! \nBazar veščin je niz tematskih srečanj\, ki enkrat mesečno do konca leta potekajo v spletni dnevni sobi Skupnostne kavarne. Predstavljamo raziskovalce\, ustvarjalce\, obrtnike in mojstre različnih uporabnih vsakodnevnih veščin\, ki nas lahko podprejo tako ali drugače. Gre za to\, da podelimo znanja\, razširimo modrosti\, se povežemo\, spoznamo\, sodelujemo. \nČe bi želel_a sodelovati kot got_ja na bazarju\, deliti svoja znanja ali veščine in se predstaviti\, pa mi to lahko sporočiš na: info@skup-ka.si.\n\nSrečanje je brezplačno\, projekt Skupnostne kavarne pa lahko podpreš z nakupom v spletni kavarni ali z donacijo na platformi Buymeacoffee.
URL:https://skup-ka.si/dogodek/bazar-vescin-7-z-ustvarjalnostjo-do-personaliziranih-daril/
LOCATION:Online-Zoom
CATEGORIES:Bazar veščin
END:VEVENT
BEGIN:VEVENT
DTSTART;TZID=UTC:20231102T060000
DTEND;TZID=UTC:20231102T200000
DTSTAMP:20260421T042932
CREATED:20231013T143556Z
LAST-MODIFIED:20231031T182739Z
UID:3034-1698904800-1698955200@skup-ka.si
SUMMARY:Kavarniški večer: Pesniški Open House
DESCRIPTION:Kavarniški večer: Pesniški Open House \nV Mladinski postaji Moste odpiramo prostor za poetičen izraz in besedno ustvarjanje. \nEnkrat mesečno se bomo zbrali v kavarniškem kotičku\, na udobnih retro kavčih v prvem nadstropju Tržnice Moste in ustvarjali odprt prostor za vse ljubitelje poezije. Lahko si izkušen pesnik\, pesnica\, lahko še povsem na začetku\, ali daleč pred njim. Morda pa te poezija zgolj zanima in si želiš le tople skodelice čaja in ustvarjalnega večera. Morda bi želela deliti svoja dela\, pa se ti zdi\, da še nisi pripravljena. \nSrečanja Pesniškega open house-a so namenjena ustvarjanju povezovalnega okolja\, kjer se lahko izrazimo skozi napisano besedo in poetično misel. Lahko prideš v vlogi pesnika\, pripravljenega deliti svoja dela\, ali pa kot poslušalec\, opazovalec\, muha na steni. Kakorkoli že\, v vsakem primeru si dobrodošel\, dobrodošla! \nGlavni cilj naših srečanj je\, da jih ustvarjamo skupaj in da se pri tem počutimo udobno. Na prvem bomo postavili formo in se dogovorili\, kako bomo nadaljevali. Ustvariti želimo skupino\, ki bo skozi srečevanja gradila na svojem pesniškem izrazu in medsebojni podpori. Skupaj bomo premagovali ovire in nerodnosti\, se spodbujali\, brali\, se pogovarjali o temah\, ki se bodo razkrivale v pesniških delih. Oblikovati želimo skupnost\, ki jo povezuje poezija\, kjer bo vsak našel svoje mesto\, bil viden in slišan in bo imel možnost\, da zraste v velikega pesnika\, pesnico ☺ \nSe že veselimo skupnega raziskovanja čarobnega sveta poezije! \nVstop je prost.
URL:https://skup-ka.si/dogodek/kavarniski-vecer-pesniski-open-house/
LOCATION:Mladinska postaja Moste\, Zaloška 55\, Ljubljana\, Ljubljana\, 1000
CATEGORIES:Kavarniški večeri,Pogovor
ORGANIZER;CN="Skupnostna kavarna":MAILTO:skupnostna.kavarna@gmail.com
END:VEVENT
BEGIN:VEVENT
DTSTART;TZID=UTC:20230928T180000
DTEND;TZID=UTC:20230928T193000
DTSTAMP:20260421T042932
CREATED:20230901T150039Z
LAST-MODIFIED:20230901T150039Z
UID:2903-1695924000-1695929400@skup-ka.si
SUMMARY:Bazar veščin #5: Organizacija časa
DESCRIPTION:Bazar veščin #5: Organizacija časa! \nBazar veščin je niz tematskih srečanj\, ki enkrat mesečno do konca leta potekajo v spletni dnevni sobi Skupkine spletne kavarnice. Predstavljamo ustvarjalce\, obrtnike\, mojstre različnih uporabnih vsakodnevnih veščin\, ki nas lahko podprejo tako ali drugače. Gre za to\, da podelimo znanja\, razširimo modrosti\, se povežemo\, spoznamo\, sodelujemo. \nV četrtek\, 28. 9. ob 18h se dobimo na petem Bazarju veščin z Niki Žerjav\, mojstrico za time management\, ki vodi podjetje Sitna mtka! \nNiki pa ni le mojstrica organizacije časa\, temveč tudi mama in partnerka\, ki z lahkoto žonglira med vsemi obveznostmi in pri tem ostaja osredotočena. Zase pravi\, da financam daje svojo unikatno noto in da je njen posel gledališče\, kjer vsak dan igra vlogo uspešne ženske na misiji! \nPogovarjali se bomo o uspešnem načrtovanju vseh obveznosti in usklajevanju različnih vlog. Ni nam treba pregorevati in lahko imamo dovolj denarja za vse\, potrebujemo le malce boljšega in več načrtovanja. Pripravi vprašanja in svoj najljubši čaj in se nam v najbolj udobni trenirki pridruži na septembrskem druženju. \nZa dogodek Bazar veščin #5: Organizacija časa zbiramo prijave zaradi lažje organizacije in da približno vemo koliko nas bo 🙂 \nNa srečanje se lahko prijaviš na tejle povezavi: https://shorturl.at/afhn7. \nČe bi želel_a sodelovati\, deliti svoja znanja ali veščine in se predstaviti\, pa mi to lahko sporočiš na: info@skup-ka.si. \nSe vidimo! \nLp\,\nUrša
URL:https://skup-ka.si/dogodek/bazar-vescin-5-organizacija-casa/
LOCATION:Online-Zoom
CATEGORIES:Bazar veščin
ORGANIZER;CN="Skupnostna kavarna":MAILTO:skupnostna.kavarna@gmail.com
END:VEVENT
BEGIN:VEVENT
DTSTART;TZID=UTC:20230817T190000
DTEND;TZID=UTC:20230817T200000
DTSTAMP:20260421T042932
CREATED:20230726T125218Z
LAST-MODIFIED:20230726T130012Z
UID:2868-1692298800-1692302400@skup-ka.si
SUMMARY:Bazar veščin #4: Digitalno nomadstvo
DESCRIPTION:Bazar veščin #4: Digitalno nomadstvo prihaja v spletno dnevno sobo Skupnostne kavarne! \nBazar veščin je niz tematskih srečanj\, ki enkrat mesečno do konca leta potekajo v spletni dnevni sobi Skupnostne kavarne. Predstavljamo ustvarjalce\, obrtnike\, mojstre različnih uporabnih vsakodnevnih veščin\, ki nas lahko podprejo tako ali drugače. Gre za to\, da podelimo znanja\, razširimo modrosti\, se povežemo\, spoznamo\, sodelujemo. \nBazar veščin #4: Digitalno nomadstvo bo v četrtek\, 17. 8. ob 19h. Dobimo se s Petrom Strelcem\, digitalnim nomadom\, ki zadnja leta živi razpet med Slovenijo in tujino. \nPeter je po izobrazbi magister poslovnih ved in velik navdušenec aktivnega življenja in nenehnega odkrivanja novih kotičkov sveta.  Obožuje adrenalin\, vzdržljivostne športe\, kulinariko in spoznavanje\nnovih kultur. Z delom v tujini se je prvič srečal pri 18 letih\, ko je za 2 mesca odpotoval na Portugalsko. \nV času Covida je delo v tujini zanj dobilo nove razsežnosti saj je odkril  digitalno nomadstvo. Zadnja leta kot digitalni nomad uspešno kombinira delo in potovanja. Letos je 2 meseca preživel na Tajskem\,\nv Maleziji in v Singapurju. \nNa srečanju se bomo pogovarjali o tem\, kako lahko potovanje postane daljše in naš način življenja. Peter bo predstavil svojo izkušnjo\, nam predal kakšne ‘tip and tricks’\, povedal kje in na kakšen način lahko nademo delo na daljavo itd. Seveda pa bo prostor predvsem za tvoja vprašanja\, za deljenje izkušenj in pogovor. \nZaradi lažje organizacije te s Petrom prosiva\, da se prijaviš –> TULE 🙂 \nČe bi želel_a sodelovati\, deliti svoja znanja ali veščine in se predstaviti\, pa mi to lahko sporočiš na: info@skup-ka.si. \nUpam\, da se vidimo! \nLp\,\nUrša
URL:https://skup-ka.si/dogodek/bazar-vescin-4-digitalno-nomadstvo/
LOCATION:Online-Zoom
CATEGORIES:Bazar veščin
END:VEVENT
BEGIN:VEVENT
DTSTART;TZID=UTC:20230713T180000
DTEND;TZID=UTC:20230713T193000
DTSTAMP:20260421T042932
CREATED:20230625T122510Z
LAST-MODIFIED:20230627T155914Z
UID:2788-1689271200-1689276600@skup-ka.si
SUMMARY:Bazar veščin #3: Poletna gibalna rutina
DESCRIPTION:Bazar veščin je niz tematskih srečanj\, ki enkrat mesečno do konca leta potekajo v spletni dnevni sobi Skupnostne kavarne.\n\nPredstavili bomo ustvarjalce\, obrtnike\, mojstre različnih uporabnih vsakodnevnih veščin\, ki nas lahko podprejo tako ali drugače. Gre za to\, da podelimo znanja\, razširimo modrosti\, se povežemo\, spoznamo\, sodelujemo.\n\nV sredo\, 13. 7. ob 18h se dobimo na tretjem Bazarju veščin s Tjašo Bobek\, ustanoviteljico Jogalnice.\n\nPrijava.\n\nTjaša se je z jogo srečala leta 2010 in vse od takrat je ta del njenega življenja. Skozi leta je raziskovala različne smeri joge in z redno prakso v svoje življenje vnesla potrebno dozo gibanja. Zaradi pozitivnih učinkov\, ki jih je čutila ob praksi joge\, se je odločila\, da naredi tečaj za učiteljico\, da bi lahko znanje in izkušnje prenesla tudi na druge. Tečaj je zaključila leta 2021 in rodila se je Jogalnica\, kraj\, kjer razgibaš telo in umiriš um\, prostor kjer je čas samo tvoj in se lahko popolnoma sprostiš.\n\nNa srečanju se bomo pogovarjali o gibanju in gibalni rutini med poletjem\, ko je večina joga\, pilates in drugih studiev zaprtih\, smo na dopustu\, potujemo in zato morda nimamo dostopa do vadb ali pa smo bolj naravnani k počitku\, naša dnevna gibalna rutina pa je spremenjena. Tema tretjega Bazarja veščin je torej kako ohranjati gibčno\, vitalno in zdravo telo tudi med poletjem.\n\nČe bi želel_a sodelovati\, deliti svoja znanja ali veščine in se predstaviti\, pa mi to lahko sporočiš na: info@skup-ka.si.\n\nUpam\, da se vidimo!
URL:https://skup-ka.si/dogodek/trajno-je-bajno-3-poletna-gibalna-rutina/
LOCATION:Online-Zoom
CATEGORIES:Bazar veščin
ORGANIZER;CN="Skupnostna kavarna":MAILTO:skupnostna.kavarna@gmail.com
END:VEVENT
BEGIN:VEVENT
DTSTART;TZID=UTC:20230518T180000
DTEND;TZID=UTC:20230518T193000
DTSTAMP:20260421T042932
CREATED:20230426T095733Z
LAST-MODIFIED:20230426T101538Z
UID:2633-1684432800-1684438200@skup-ka.si
SUMMARY:BAZAR VEŠČIN #1: Moč navade
DESCRIPTION:Bazar veščin je niz tematskih srečanj\, ki bodo enkrat mesečno do konca leta potekala v spletni dnevni sobi Skupnostne kavarne. Predstavili bomo ustvarjalce\, obrtnike\, mojstre različnih uporabnih vsakodnevnih veščin\, ki nas lahko podprejo tako ali drugače. Gre za to\, da podelimo znanja\, razširimo modrosti\, se povežemo\, se spoznamo\, sodelujemo. \nV četrtek\, 18. 5. ob 18h se dobimo na prvem Bazarju veščin. Spoznali bomo Saro Zupančič\, mentorico navad\, mlado podjetnico in avtorico Jutranjika\, dnevnika za jutranjo rutino. \nSara nam bo predstavila sebe in Jutranjik\, ki podpira 5 glavnih področij: \n*osebno in duhovno rast\n*prosti čas\n*kariero in finance\n*zdravje in aktivni življenjski slog\n*družino in odnose \nVeč o Jutranjiku najdeš tudi TULE. V Skupkini spletni kavarni ga dobiš v paketu z domačo granolo in ovseno ploščico. \nNa prvem Bazarju veščin bomo govorili o vplivu\, ki ga imajo male vsakodnevne navade na naše življenje. Saro boš lahko vprašal_a karkoli s tega področja. Zaželeno je\, da se razvije debata\, da si podelimo izkušnje in se kaj novega naučimo – o navadah\, rutinah in sebi 🙂 \nČe bi želel_a sodelovati\, deliti svoja znanja ali veščine in se predstaviti\, pa mi to lahko sporočiš na:\ninfo@skup-ka.si. \nZaradi lažje organizacije te prosimo\, da se na srečanje PRIJAVIŠ. \nUpam\, da se vidimo!
URL:https://skup-ka.si/dogodek/bazar-vescin-1-moc-navade/
LOCATION:Online-Zoom
ORGANIZER;CN="Skupnostna kavarna":MAILTO:skupnostna.kavarna@gmail.com
END:VEVENT
BEGIN:VEVENT
DTSTART;TZID=UTC:20230407T190000
DTEND;TZID=UTC:20230407T210000
DTSTAMP:20260421T042932
CREATED:20230321T203124Z
LAST-MODIFIED:20230321T203124Z
UID:2543-1680894000-1680901200@skup-ka.si
SUMMARY:Čajovna Poetovna: večer avtorske poezije
DESCRIPTION:Čajovna pripravlja večer avtorske poezije v Hostlu Tresor.\nTokrat bomo v Hostlu Tresor in sodelovanju z mlado pesnico Kim Germ spletli prav poseben\, pesniško-ambientalni večer in odprli prostor poeziji\, kovanju rim\, umetnosti pisane besede in ustvarjalnosti. Čaka nas večer avtorske poezije\, k sodelovanju pa vabimo tudi tebe!\n\nV prvem delu dogodka bo Kim predstavila sveže izdano pesniško zbirko Poezija\, nato pa bomo po kratkem premoru odprli prostor tudi vsem drugim pesnikom in pesnicam.\n\nČe želiš tudi ti na dogodku prebrati katero od svojih pesniških del\, se pofočkaj na povezavi: https://t.ly/78Pa\n…\n\nPesniško zbirko Poezija lahko naročiš tudi v kompletu z ročno poslikano skodelico ustvarjalke Manje Starc TULE.\n\n\nO avtorici: \nKim Germ\, plesalka\, koreografinja\, ustvarjalka in ustanoviteljica športno-kulturno animacijskega društva Mkreativa. Pleše\, razmišlja\, ustvarja in dela za in z ljudmi. \nŽivi in rojena je v Ljubljani\, 27. 5 .1990. Odraščala je v Podutiku. Prihaja iz obrtniške družine. Njeni prvi spomni so spomini na jugoslovansko srčnost\, odprtost in zaupanje. “Naša hiša je bila vedno hiša polna ljudi\, veselja in harmonike.” \nPo športni gimnaziji Šiška je šolo zaključila kot pomočnica vzgojiteljice na izobraževalnem programu Erudio. Kim pleše od svojega tretjega leta starosti\, ples jo je popeljal v svet in nazaj v domovino. V iskanju odgovorov in razumevanja človeškosti\, ji je pot prekrižala joga ter študij psihoterapije na univerzi Sigmunda Freuda v Ljubljani in specialistični študij logoterapije. Trenutno je pripadna študijskim obveznostim\, poučevanju plesa in sledi vrednoti ustvarjalnosti. \nKim o sebi: \n“Pravijo\, da sem tenkočutna\, samosvoja in družbeno odgovorno naravnana. Če bi se mogla opisati\, bi se opisala kot grm\, ki vsako leto obrodi cvetove spoznanja  in znova in znova pleše z vetrom iskoča novih kapelj rose. Moje vodilo v življenju je ustvarjalnost. Ustvarjalnost je stanje duha\, vrednota in  proces\, ki je zapleten\, težko merljiv in opisljiv. Pa vendar je to stanje\, ki je močno značilno za človeka in zanj zelo pomemben. Reden stik s ustvarjalnim procesom pa človeka ne le oživlja\, ampak v njegovem življenju krepi in vnaša enkratnost. Korakamo v zanimivo obdobje 21. stoletja. In vse kar vemo\, je to\, da bo preživela ustvarjalnost. Ljudje bodo morali imeti spodobnost\, da se prilagodijo ali pa na novo vzpostavijo svoje delovanje\, saj smo priča konstantni spremembi družbe\, ki je bolj in bolj pod vplivom tehnologije. Ustvarjalnost nima nobene zveze z učenjem kakršnih koli tehnik. V bistvu je edina stvar\, ki se je morate naučiti je\, zaupati svojim naravnim odzivom. In če bi me zlata ribica povprašala po treh željah bi izbrala do polnosti izživete procese ustvarjalnosti\, svojstvenosti in žalovanja.” \nKim o knjigi: \nKnjiga je nastala s pomočjo oblikovalke Ine Klanšek\, mojega fanta ilustratorja Guillerma Escalante\, in jezikovnega pregleda Barbare Stojnšek. \n\n\nKaj pa Kim pravi o svojem srečanju s poezijo?\n\nPoezija me je našla leta 2015 po dolgem sprehodu po gozdu\, pred tem pa sem se je navzemala skozi prebiranja predvsem Prešernove bolečine. Prevzame me. Poezija in njena mogočnost in zmožnost ujetja občutkov ter preoblikovanja v pojme\, še bolj pa njena moč izraznosti notranjega dogajanja v človeku in njena sposobnost opisovanja neopisljivega\, neoprijemljivega.  \nPesmi so nastajale vzporedno s študijem psihoterapevtske znanosti in intenzivne osebne rasti ter s tem razumevanja človeka in njegove krhkosti. In skoraj dve leti bosta minili\, odkar sem se namenila predstaviti svojo poezijo v obliki knjige in jo deliti v skupnost.  \nZbirka je odraz soočanja z lastno čustveno bolečino in obdobjem spoznavanja\, kako globoko človek hrepeni po pripadnosti in potrebi po biti ljubljen.  \nNikoli moje srce ne bo dovolj veliko in moja zavest tako zavedna\, da bi lahko povedala\, kako hvaležna sem\, da sem ti sledila\, poezija! \n  \n\nStrokovnjaki pravijo\, da razmišljamo v podobah. Podobe pretvarjamo v misli\, misli pa v jezik\, v besede. Med podobo in jezikom se marsikaj izgubi. Izgubi se mehkobna tekstura podobe\, njena prožnost in živost\, izgubijo se čustvene nianse.  \nPoezija je govorica podob.  \nPoezija je tu da premakne\, poezija je tu prevzame. Poezija je tu\, da gane. Da te utelesi in da tudi preplavi. Poezija je tu\, da ti da uvid.  \nPoezija ima to sposobnost. Poezija je tu da ujame občutki\, zmožna je ubpodobiti neopisljivo in neoprijemljivo.  \nZbirka\, ki je pred vami govori o surovosti življenja o njegovem smislu\, o bolečini\, kako neizogibna je in kako je odvisno od nas samih česa v življenju se bomo oklenili.  \nGovori o krhosti človeka o ranljivosti in kako le želi biti ljubljen\, čutiti pripadnost in povezanost.  \nPoezija vabi človeka h kontemplaciji razmisleku in čudenju. Vabi ga k poglobitvi odnosa s samim seboj!
URL:https://skup-ka.si/dogodek/cajovna-poetovna-vecer-avtorske-poezije/
LOCATION:Hostel Tresor\, Čopova ulica 38\, Ljubljana\, 1000\, Slovenija
ORGANIZER;CN="Skupnostna kavarna":MAILTO:skupnostna.kavarna@gmail.com
END:VEVENT
BEGIN:VEVENT
DTSTART;TZID=UTC:20230228T180000
DTEND;TZID=UTC:20230228T210000
DTSTAMP:20260421T042932
CREATED:20230207T202700Z
LAST-MODIFIED:20230207T202700Z
UID:2428-1677607200-1677618000@skup-ka.si
SUMMARY:Delavnica izdelovanja kolaža
DESCRIPTION:Na delavnici bomo v sproščenem vzdušju in v družbi toplih napitkov izdelovali kolaže! \nTrgali bomo stare revije\, v njih iskali skrita sporočila\, izrezovali\, lepili in ob vsem tem\, načeli kakšno aktualno temo za pogovor 🙂 Lahko prineseš stare\, nepopisane zvezke\, ki jim želiš polepšati platnice\, planer\, ki si ga dobil_a za Novo leto\, pa ti niti slučajno ni všeč\, kičaste darilne vrečke\,… lahko pa boš preprosto vzel_a podlago in …trgal_a in lepil_a in lepil_a in trgal_a! \nTočno uro še sporočimo\, računaj v pozno-popoldanskem\, zgodnje-večernem času! \nMaterial načeloma priskrbimo mi\, bomo pa zelo veseli\, če boš s seboj prinesel_a kakšne stare revije\, star kolaž papir ali kaj drugega\, kar bi nam prav prišlo pri ustvarjanju kolažev 🙂 \nSrečanje je brezplačno\, veseli bomo prostovoljnih prispevkov za povrnitev stroškov materiala.
URL:https://skup-ka.si/dogodek/delavnica-izdelovanja-kolaza/
LOCATION:Mladinska postaja Moste\, Zaloška 55\, Ljubljana\, Ljubljana\, 1000
ORGANIZER;CN="Skupnostna kavarna":MAILTO:skupnostna.kavarna@gmail.com
END:VEVENT
END:VCALENDAR