BEGIN:VCALENDAR
VERSION:2.0
PRODID:-//Skupnostna kavarna - ECPv6.15.20//NONSGML v1.0//EN
CALSCALE:GREGORIAN
METHOD:PUBLISH
X-WR-CALNAME:Skupnostna kavarna
X-ORIGINAL-URL:https://skup-ka.si
X-WR-CALDESC:Dogodki za Skupnostna kavarna
REFRESH-INTERVAL;VALUE=DURATION:PT1H
X-Robots-Tag:noindex
X-PUBLISHED-TTL:PT1H
BEGIN:VTIMEZONE
TZID:UTC
BEGIN:STANDARD
TZOFFSETFROM:+0000
TZOFFSETTO:+0000
TZNAME:UTC
DTSTART:20220101T000000
END:STANDARD
END:VTIMEZONE
BEGIN:VEVENT
DTSTART;TZID=UTC:20230228T180000
DTEND;TZID=UTC:20230228T210000
DTSTAMP:20260421T073444
CREATED:20230207T202700Z
LAST-MODIFIED:20230207T202700Z
UID:2428-1677607200-1677618000@skup-ka.si
SUMMARY:Delavnica izdelovanja kolaža
DESCRIPTION:Na delavnici bomo v sproščenem vzdušju in v družbi toplih napitkov izdelovali kolaže! \nTrgali bomo stare revije\, v njih iskali skrita sporočila\, izrezovali\, lepili in ob vsem tem\, načeli kakšno aktualno temo za pogovor 🙂 Lahko prineseš stare\, nepopisane zvezke\, ki jim želiš polepšati platnice\, planer\, ki si ga dobil_a za Novo leto\, pa ti niti slučajno ni všeč\, kičaste darilne vrečke\,… lahko pa boš preprosto vzel_a podlago in …trgal_a in lepil_a in lepil_a in trgal_a! \nTočno uro še sporočimo\, računaj v pozno-popoldanskem\, zgodnje-večernem času! \nMaterial načeloma priskrbimo mi\, bomo pa zelo veseli\, če boš s seboj prinesel_a kakšne stare revije\, star kolaž papir ali kaj drugega\, kar bi nam prav prišlo pri ustvarjanju kolažev 🙂 \nSrečanje je brezplačno\, veseli bomo prostovoljnih prispevkov za povrnitev stroškov materiala.
URL:https://skup-ka.si/dogodek/delavnica-izdelovanja-kolaza/
LOCATION:Mladinska postaja Moste\, Zaloška 55\, Ljubljana\, Ljubljana\, 1000
ORGANIZER;CN="Skupnostna kavarna":MAILTO:skupnostna.kavarna@gmail.com
END:VEVENT
END:VCALENDAR