BEGIN:VCALENDAR
VERSION:2.0
PRODID:-//Skupnostna kavarna - ECPv6.15.20//NONSGML v1.0//EN
CALSCALE:GREGORIAN
METHOD:PUBLISH
X-ORIGINAL-URL:https://skup-ka.si
X-WR-CALDESC:Dogodki za Skupnostna kavarna
REFRESH-INTERVAL;VALUE=DURATION:PT1H
X-Robots-Tag:noindex
X-PUBLISHED-TTL:PT1H
BEGIN:VTIMEZONE
TZID:UTC
BEGIN:STANDARD
TZOFFSETFROM:+0000
TZOFFSETTO:+0000
TZNAME:UTC
DTSTART:20240101T000000
END:STANDARD
END:VTIMEZONE
BEGIN:VEVENT
DTSTART;TZID=UTC:20251213T150000
DTEND;TZID=UTC:20251213T190000
DTSTAMP:20260420T215414
CREATED:20251111T160124Z
LAST-MODIFIED:20251111T164201Z
UID:4693-1765638000-1765652400@skup-ka.si
SUMMARY:Garažna razprodaja v Zorici
DESCRIPTION:Garažna razprodaja v Zorici bo v soboto\, 13. 12. 2025 med 15h in 19h. \nPridi pokukat med zaklade\, ki se skrivajo v naših garažah\, ali pa svoje deli z ostalimi. \nZa rezervacijo prodajnega prostora se oglasi na info@skup-ka.si do 21. 11. 2025. Prispevek za prodajalce je 10€. V to je vključena organizacija in promocija dogodka. \nZa kavico\, vročo čokolado in udobne kavče za predah med nakupovanjem\, bo poskrbela Zorica. \nNa voljo za prodajo so:*oblačila in modni dodatki*gospodinjski in dekorativni predmeti\n*knjige\, vinili\, drobnarije\,… \nGaražna razprodaja poteka v soorganizaciji FB skupine Čas za druženje. \n5 razlogov\, zakaj izbrati garažno razprodajo za praznična darila\n\n\nUnikatnost: Na garažnih razprodajah najdeš stvari\, ki jih v trgovinah skoraj ni. Vsako darilo je posebna zgodba in ne masovno proizveden izdelek. \n\n\nTrajnost in odgovornost: Nakup rabljenih ali recikliranih predmetov zmanjša odpadke in podpre krožno gospodarstvo. Darila tako niso le lepa\, ampak tudi okolju prijazna. \n\n\nDostopna cena: Kakovostna darila za manj denarja! Garažne razprodaje lahko ponudijo čudovite izdelke po cenah\, ki so pogosto veliko nižje kot v trgovinah. \n\n\nPodpora lokalni skupnosti: Kupuješ neposredno pri posameznikih ali lokalnih organizacijah\, kar krepi lokalno ekonomijo in povezuje ljudi. \n\n\nZabavno in družabno doživetje: Obisk razprodaje je več kot nakupovanje. Je priložnost za druženje\, klepet\, raziskovanje in iskanje “zakladov” skupaj s prijatelji ali družino.
URL:https://skup-ka.si/dogodek/garazna-razprodaja-v-zorici/
LOCATION:Zorica\, Kersnikova 4\, Ljubljana
CATEGORIES:Pop up Skupka
ATTACH;FMTTYPE=image/png:https://skup-ka.si/wp-content/uploads/2025/11/12.-10.-2025-15.30-19.3010-e1762880363382.png
ORGANIZER;CN="Skupnostna kavarna":MAILTO:skupnostna.kavarna@gmail.com
END:VEVENT
END:VCALENDAR