BEGIN:VCALENDAR
VERSION:2.0
PRODID:-//Skupnostna kavarna - ECPv6.15.20//NONSGML v1.0//EN
CALSCALE:GREGORIAN
METHOD:PUBLISH
X-ORIGINAL-URL:https://skup-ka.si
X-WR-CALDESC:Dogodki za Skupnostna kavarna
REFRESH-INTERVAL;VALUE=DURATION:PT1H
X-Robots-Tag:noindex
X-PUBLISHED-TTL:PT1H
BEGIN:VTIMEZONE
TZID:UTC
BEGIN:STANDARD
TZOFFSETFROM:+0000
TZOFFSETTO:+0000
TZNAME:UTC
DTSTART:20250101T000000
END:STANDARD
END:VTIMEZONE
BEGIN:VEVENT
DTSTART;TZID=UTC:20260131T100000
DTEND;TZID=UTC:20260131T140000
DTSTAMP:20260420T190837
CREATED:20260104T134500Z
LAST-MODIFIED:20260120T103339Z
UID:4903-1769853600-1769868000@skup-ka.si
SUMMARY:Mesečna IZMENJEVALNICA
DESCRIPTION:Mesečna IZMENJEVALNICA \nMesečna izmenjevalnica je skupnostni dogodek\, namenjen izmenjavi oblačil\, nakita in modnih dodatkov\, ki jih ne uporabjamo več\, a so še vedno v dobrem stanju. Dogodek spodbuja trajnostno razmišljanje\, ponovni obtok oblačil in odgovoren odnos do potrošnje. Namesto nakupovanja novih kosov ti ponudi možnost\, da si osvežiš garderobo na okolju prijazen način. \nPrinesi kose\, ki jih želiš predati naprej\, in izberi tiste\, ki ti pridejo prav. \nPoleg izmenjave oblačil izmenjevalnica ponuja tudi prostor za klepet ob dobri kavici in za druženje. \n Bežigrad 6\, Ljubljana 31. 1. 2026\n18.00–20.00 \n10 razlogov zakaj izmenjevati oblačila\, namesto\, da kupuješ nova.\n\n\nJe manj obremenjuje okolje.Vsako novo oblačilo zahteva velike količine vode\, energije in kemikalij. Z izmenjavo podaljšujemo življenjsko dobo oblačil in neposredno zmanjšujemo okoljski odtis tekstilne industrije. \n\n\nZ izmenjavo zmanjšuješ količino tekstilnih odpadkov.Velik del oblačil konča na odlagališčih ali v sežigalnicah. Izmenjava preprečuje\, da bi uporabna oblačila postala odpadek\, in spodbuja kroženje virov. \n\n\nPrihraniš denar.Z izmenjavo dobiš oblačila brez stroškov. To omogoča osvežitev garderobe tudi v času\, ko želiš ali moraš zmanjšati porabo. \n\n\nGre za premišljeno potrošnjo.Namesto impulzivnih nakupov izmenjava spodbuja razmislek o tem\, kaj res potrebuješ in kaj ti ustreza. Gre za zavesten odnos do oblačil. \n\n\nIzmenjevanje krepi občutek skupnosti.Izmenjava ni le transakcija\, temveč družabni dogodek. Povezuje ljudi\, odpira pogovore in ustvarja občutek pripadnosti lokalni skupnosti. \n\n\nOmogoča ti bolj unikaten slog.Izmenjana oblačila pogosto niso del trenutnih trendov\, zato omogočajo bolj oseben\, raznolik in edinstven stil\, ki ne sledi masovni produkciji. \n\n\nBrez izkoriščanja delovne sile.Tekstilna industrija je pogosto povezana s slabimi delovnimi pogoji. Z izmenjavo zmanjšujemo povpraševanje po hitri modi in s tem pritisk na izkoriščevalske prakse. \n\n\nodgovoren odnos do virov.Izmenjava spodbuja razumevanje vrednosti materialov\, dela in časa\, ki so vloženi v vsako oblačilo. To je pomemben korak k trajnostnim navadam. \n\n\nPodaljševanje življenjske dobe kakovostnih kosov.Mnoga oblačila so še povsem uporabna\, a jih ne nosimo več. Izmenjava jim omogoči novo življenje in nov namen. \n\n\nPreprosta\, dostopna in prijetna izkušnjaIzmenjevanje je nizkopražno\, brez zapletenih pravil in pogosto zelo prijetno. Združuje praktičnost\, trajnost in druženje na enem mestu. \n\n\n 
URL:https://skup-ka.si/dogodek/mesecna-izmenjevalnica/
LOCATION:Skupka\, Bežigrad 6\, Ljubljana\, 1000\, Slovenia
CATEGORIES:Izmenjevalnice,Redni program
ATTACH;FMTTYPE=image/webp:https://skup-ka.si/wp-content/uploads/2026/01/skupkin-program2-e1767526900344.webp
ORGANIZER;CN="Skupnostna kavarna":MAILTO:skupnostna.kavarna@gmail.com
END:VEVENT
END:VCALENDAR