BEGIN:VCALENDAR
VERSION:2.0
PRODID:-//Skupnostna kavarna - ECPv6.15.20//NONSGML v1.0//EN
CALSCALE:GREGORIAN
METHOD:PUBLISH
X-WR-CALNAME:Skupnostna kavarna
X-ORIGINAL-URL:https://skup-ka.si
X-WR-CALDESC:Dogodki za Skupnostna kavarna
REFRESH-INTERVAL;VALUE=DURATION:PT1H
X-Robots-Tag:noindex
X-PUBLISHED-TTL:PT1H
BEGIN:VTIMEZONE
TZID:UTC
BEGIN:STANDARD
TZOFFSETFROM:+0000
TZOFFSETTO:+0000
TZNAME:UTC
DTSTART:20220101T000000
END:STANDARD
END:VTIMEZONE
BEGIN:VEVENT
DTSTART;TZID=UTC:20230325T140000
DTEND;TZID=UTC:20230325T180000
DTSTAMP:20260421T031812
CREATED:20230302T195304Z
LAST-MODIFIED:20230302T195539Z
UID:2490-1679752800-1679767200@skup-ka.si
SUMMARY:Zmajevalnica: izmenjevalnica oblačil pri Mladih zmajih
DESCRIPTION:Izmenjevalnica na vidiku! \n\nTokrat pripravljamo najbolj zmajevsko izmenjevalnico vseh časov. Pri Mladih zmajih Bežigrad bomo v marcu izmenjevali sezonska oblačila (prehodne jakne\, puloverje\, hlače\, majice\,…)\, nakit in modne dodatke.\nOtroška oblačila so dobrodošla za starejše od 10 let\, spodnjega perila in štumfov ne sprejemamo. Čevlji naj bodo ekstra dobro ohranjeni. \n\nIdejo že poznaš: prineseš svoja lepo ohranjena oblačila in odneseš približno enako število kosov. Medtem\, ko si ogleduješ in nabiraš oblačila drugih\, lahko spiješ kavico\, poskusiš dobrote iz domače kuhinjske delavnice in Skupkine spletne kavarne ter poklepetaš z ostalimi v zmajevski dnevni sobi na Vojkovi 73.\nIzmenjejevali bomo med 14. in 18. uro. \n\nTe zanima kdo so Mladi zmaji in kaj počnejo? Potem klikni SEMLE.\n\nSe vidimo 🙂
URL:https://skup-ka.si/dogodek/2490/
LOCATION:Mladi zmaji Bežigrad\, Vojkova 73\, Ljubljana\, Slovenija
ORGANIZER;CN="Skupnostna kavarna":MAILTO:skupnostna.kavarna@gmail.com
END:VEVENT
END:VCALENDAR