BEGIN:VCALENDAR
VERSION:2.0
PRODID:-//Skupnostna kavarna - ECPv6.15.20//NONSGML v1.0//EN
CALSCALE:GREGORIAN
METHOD:PUBLISH
X-WR-CALNAME:Skupnostna kavarna
X-ORIGINAL-URL:https://skup-ka.si
X-WR-CALDESC:Dogodki za Skupnostna kavarna
REFRESH-INTERVAL;VALUE=DURATION:PT1H
X-Robots-Tag:noindex
X-PUBLISHED-TTL:PT1H
BEGIN:VTIMEZONE
TZID:UTC
BEGIN:STANDARD
TZOFFSETFROM:+0000
TZOFFSETTO:+0000
TZNAME:UTC
DTSTART:20250101T000000
END:STANDARD
END:VTIMEZONE
BEGIN:VEVENT
DTSTART;TZID=UTC:20260403T180000
DTEND;TZID=UTC:20260403T200000
DTSTAMP:20260420T202411
CREATED:20260221T170018Z
LAST-MODIFIED:20260322T214938Z
UID:5056-1775239200-1775246400@skup-ka.si
SUMMARY:Skupnostna večerja Mizica pogrni se
DESCRIPTION:Skupnostna večerja Mizica pogrni se je namenjena tistim\, ki se jim v petek zvečer ne da iti ven žurat\, si pa vseeno želijo družbe. \nPrineseš nekaj za na mizo in poklepetaš z ostalimi. Po večerji se kartamo ali igramo družabne igre.
URL:https://skup-ka.si/dogodek/skupnostna-vecerja-za-nezurerje-3/
LOCATION:Skupka\, Bežigrad 6\, Ljubljana\, 1000\, Slovenia
CATEGORIES:Redni program
ATTACH;FMTTYPE=image/webp:https://skup-ka.si/wp-content/uploads/2026/02/skupnostna-vecerja.webp
ORGANIZER;CN="Skupnostna kavarna":MAILTO:skupnostna.kavarna@gmail.com
END:VEVENT
END:VCALENDAR