BEGIN:VCALENDAR
VERSION:2.0
PRODID:-//Skupnostna kavarna - ECPv6.15.20//NONSGML v1.0//EN
CALSCALE:GREGORIAN
METHOD:PUBLISH
X-WR-CALNAME:Skupnostna kavarna
X-ORIGINAL-URL:https://skup-ka.si
X-WR-CALDESC:Dogodki za Skupnostna kavarna
REFRESH-INTERVAL;VALUE=DURATION:PT1H
X-Robots-Tag:noindex
X-PUBLISHED-TTL:PT1H
BEGIN:VTIMEZONE
TZID:UTC
BEGIN:STANDARD
TZOFFSETFROM:+0000
TZOFFSETTO:+0000
TZNAME:UTC
DTSTART:20240101T000000
END:STANDARD
END:VTIMEZONE
BEGIN:VEVENT
DTSTART;TZID=UTC:20250315T140000
DTEND;TZID=UTC:20250315T180000
DTSTAMP:20260421T081816
CREATED:20250304T160204Z
LAST-MODIFIED:20250304T160204Z
UID:3965-1742047200-1742061600@skup-ka.si
SUMMARY:Zmajevalnica: Izmenjevalnica oblačil
DESCRIPTION:Zmajevalnica: Izmenjevalnica oblačil\nPust je pregnal zimo\, to pa pomeni čas za spomladansko garderobo!\n\n\nV mesto se vrača najbolj zmajevska izmenjevalnica vseh časov. Pri Mladih zmajih Bežigrad bomo v marcu izmenjevali lepo ohranjena sezonska oblačila\, nakit in modne dodatke. \n\nOtroška oblačila so dobrodošla za starejše od 10 let\, spodnjega perila in štumfov ne sprejemamo. Čevlji naj bodo ekstra dobro ohranjeni.  \n\nKako deluje? Prineseš svoja lepo ohranjena oblačila in odneseš poljubno število kosov.\n\n\nIzmenjevali bomo med 14. in 18. uro. \n\nV času izmenjevalnice bo potekala tudi delavnica krpanja oblačil. Prineseš lahko svoje poškodovano oblačilo\, ali pa s pomočjo zmajevskih prostovoljcev popraviš kakšen kos\, ki ga najdeš na zmajevalnici. \n\nSe vidimo!
URL:https://skup-ka.si/dogodek/zmajevalnica-izmenjevalnica-oblacil/
LOCATION:Mladi zmaji Bežigrad\, Vojkova 73\, Ljubljana\, Slovenija
CATEGORIES:Izmenjevalnice,Pop up Skupka
ORGANIZER;CN="Skupnostna kavarna":MAILTO:skupnostna.kavarna@gmail.com
END:VEVENT
END:VCALENDAR