BEGIN:VCALENDAR
VERSION:2.0
PRODID:-//Skupnostna kavarna - ECPv6.15.20//NONSGML v1.0//EN
CALSCALE:GREGORIAN
METHOD:PUBLISH
X-WR-CALNAME:Skupnostna kavarna
X-ORIGINAL-URL:https://skup-ka.si
X-WR-CALDESC:Dogodki za Skupnostna kavarna
REFRESH-INTERVAL;VALUE=DURATION:PT1H
X-Robots-Tag:noindex
X-PUBLISHED-TTL:PT1H
BEGIN:VTIMEZONE
TZID:UTC
BEGIN:STANDARD
TZOFFSETFROM:+0000
TZOFFSETTO:+0000
TZNAME:UTC
DTSTART:20240101T000000
END:STANDARD
END:VTIMEZONE
BEGIN:VEVENT
DTSTART;TZID=UTC:20250606T160000
DTEND;TZID=UTC:20250606T190000
DTSTAMP:20260421T033032
CREATED:20250527T180959Z
LAST-MODIFIED:20250527T180959Z
UID:4370-1749225600-1749236400@skup-ka.si
SUMMARY:10. rojstni dan Knjižnice reči
DESCRIPTION:10. rojstni dan Knjižnice reči \nKol’kor izposoj\, tol’ko let! \nKnjižnica Reči je januarja slavila svojo prvo desetko. Ker smo\, kot vsi zimski otroci\, vedno zavidali poletnim otrokom njihove vrtne zabave\, smo si ob deseti obletnici privoščili zamik slavja za pol leta. Premierno te vabimo na vrtno rojstnodnevno zabavo\, ki sledi temu\, kar počnemo že od leta 2015: spodbujanju trajnostne potrošnje in tkanju sosedskih vezi. \nKAJ VSE TE ČAKA? \nZnižana letna članarina – Na dogodku si lahko ekskluzivno zagotoviš letno članstvo po prepolovljeni ceni: 10 € za redno članarino oziroma 5 € za študente/upokojence in pičlih 2\,5 € za brezposelne. Čin čin! \nPoprav’c – Skupnostna popravljalnica\, kjer lahko pod mentorstvom izkušenega serviserja diagnosticiraš in popraviš svoje električne aparate. Od aprila 2024 je imelo poprav’ca že več kot 200 aparatov\, rojstnodnevna izdaja pa bo zadnja priložnost za popravila pred poletnim odmorom. Brezplačne prijave: link \nSkupka infolimonada štant – Skupka s svojimi delavnicami že lep čas bogati program Knjižnice Reči. Ampak a sploh veš\, kaj vse se skriva za njenim imenom? Ustavi se pri njenem štantu in se spotoma osveži s frišno limonado. \nPiknik na dvorišču – Srce vsake prave zabave je hrana in mi smo pripravljeni! Vrtna zabava bo dan\, ko bomo končno tudi sami zakurblali kuhinjske aparate iz našega inventarja. Prinesi še ti kaj s sabo\, podeli z drugimi in pomagaj soustvariti najboljše savsko kulinarično doživetje. \nDružabne igre – kdaj sta s sosedom nazadnje odigrala partijo activityja? Spusti iz kletke svoj tekmovalni duh in pokaži vsem\, kako briljiraš! Si bo Knjižnica Reči za rojstni dan podarila pikado? Mogoče. \nIzmenjevalnica električnih aparatov – Na naši izmenjevalni polici je cel bataljon aparatov\, ki išče nov dom. Mogoče se na njej skriva nekaj taman za tebe! \nSlavnostno pihanje svečk – Maruša vztraja\, da moramo ovekovečiti ta trenutek s ceremonialnim pihanjem svečk. Pa naj bo! \nKaj pa darila za nas? Ma\, tvoj obisk nam je glavno darilo ♥️ Če pa te slučajno prime darežljivost\, bo na pultu čakal lonček za donacije in zraven še glasovnica\, kam naj usmerimo zbrana sredstva. Vse donacije bodo šle za širitev inventarja. Če smo čisto iskreni\, s tem obdariš tako nas kot sebe.
URL:https://skup-ka.si/dogodek/10-rojstni-dan-knjiznice-reci/
LOCATION:Knjižnica reči\, Belokranjska 6\, Ljubljana\, Slovenia\, Ljubljana\, 1000\, Slovenija
CATEGORIES:Pop up Skupka
END:VEVENT
BEGIN:VEVENT
DTSTART;TZID=UTC:20250607T100000
DTEND;TZID=UTC:20250607T150000
DTSTAMP:20260421T033032
CREATED:20250527T184711Z
LAST-MODIFIED:20250527T184711Z
UID:4374-1749290400-1749308400@skup-ka.si
SUMMARY:Trajno je bajno 2025 #2
DESCRIPTION:Trajno je bajno 2025 #2! \nPoletje je pred vrati in zato ponovno izmenjujemo! Trajno je bajno je cikel dogodkov\, s katerim podpiramo trajnostne prakse in se zavzemamo za okolju in družbi prijaznejše načine življenja. \nNa dogodku najdeš:* izmenjevalnico lepo ohranjenih pomladnih oblačil in knjig* izmenjevalnico/podarjevalnico delujočih el.aparatov (prinesite ohranjene delujoče male električne aparate\, ki ji ne potrebujete in jih izmenjajte za drugega)* zabojnik za odpadne in nedelujoče električne aparate* Knjižnico REČI Moste (lahko si boste izposodili predmete\, lahko pa tudi donirate predmete\, ki jih ne potrebujete v dobrem in delujočem stanju za souporabo)* kavarniški kotiček Skupnostne kavarne z lokalnimi izdelki\nPa še kaj se bo našlo!\n\nSistem izmenjevalnice že poznaš: prineseš lepo ohranjena oblačila\, modne dodatke\, električne aparate in knjige\, ter odneseš oblačila / knjige / aparate iz izmenjevalnice. \n!!Spodnjega perila\, nogavic in čevljev ne sprejemamo! Oblačila naj bodo čista in nepoškodovana.\nDogodek soustvarjamo Mladinska postaja Moste\, Knjižnica Reči Moste in Skupnostna kavarna.\nSave the date in se kmalu vidimo!\n\n…..\n\nTrajno je bajno je cikel dogodkov\, ki se odvijajo v ljubljanski četrtni skupnosti Moste in so namenjeni spodbujanju trajnostnih praks ter okolju prijaznejšega načina življenja. Dogodki vključujejo izmenjevalnice oblačil\, knjig in električnih aparatov\, kjer lahko udeleženci prinesejo lepo ohranjene predmete in si izberejo nove.
URL:https://skup-ka.si/dogodek/trajno-je-bajno-2025-2/
LOCATION:Tržnica Moste\, Zaloška 55\, Ljubljana\, Slovenia
CATEGORIES:Pop up Skupka
END:VEVENT
BEGIN:VEVENT
DTSTART;TZID=UTC:20250612T180000
DTEND;TZID=UTC:20250612T200000
DTSTAMP:20260421T033032
CREATED:20250514T210457Z
LAST-MODIFIED:20250514T210646Z
UID:4318-1749751200-1749758400@skup-ka.si
SUMMARY:Intuitivno slikanje z akvareli
DESCRIPTION:Intuitivno slikanje z akvareli vodi Andreja Kranjec\, akademska vizualna umetnica. \nOsvobodi svojo kreativnost z intuitivnim slikanjem.\nS preprostimi\, a intenzivnimi vajami se bomo poglobili v tehniko akvarela\, poizkusili različne trike\, ki nam jih omogoča\, potem pa se bomo prepustili ustvarjanju.\n\nZa delavnico ni potrebno nobeno predznanje\, je primerna za vse\, tako začetnike kot profesionalne umetnike\, saj je v osnovi zasnovana tako\, da bomo z barvami in oblikami raziskovali svoje občutke\, misli in podzavest.\n\nAkvarel nam kot tehnika omogoča veliko raziskovanja in igranja\, in na delavnici se bomo pogovajali o tem\, kako narediti kreativni proces zabaven\, kako se osvobodimo kreativnih blokad\, premagamo prokrastinacijo in omejujoča prepričanja ter odkrijemo\, kaj nam je blizu in kakšen je naš likovni jezik.S preprostimi\, a intenzivnimi vajami se bomo poglobili v tehniko akvarela\, poizkusili različne trike\, ki nam jih tehnika omogoča in ustvarili nekaj zanimivih slik. Ko pustimo za sabo pravila\, omejujoča prepričanja in stare vzorce\, se pred nami odpre svobodnejša pot do sebe in do svojega ustvarjalnega procesa\, ki nam pomaga pri kreativnem načinu življenja.\n\nDelavnica traja 120 minut in je primerna za vse nivoje znanja. Za material bo v celoti poskrbljeno.\n\n\nAndreja Kranjec (1989) je akadmska vizualna umetnica\, ki je magistrirala na ALUO in deluje kot samozaposlena v kulturi na področju slikarstva\, videa in filma. Za svoje delo je prejela študentsko Prešernovo nagrado ALUO\, razstavljala je samostojno in skupinsko doma in v tujini in se redno udeležuje tudi mednarodnih umetniških rezidenc. Od leta 2016 vodi različne ustvarjalne delavnice po Sloveniji.\n\nPrispevek za delavnico: 34\,50 € Prijave: https://forms.gle/8akYBuXtufAhPaMY7\n\n\nVprašanja: info@skup-ka.si \nPrikaži manj
URL:https://skup-ka.si/dogodek/intuitivno-slikanje-z-akvareli/
LOCATION:Dnevna soba v Šiški\, Gasilska cesta 3\, Ljubljana\, Slovenia
CATEGORIES:Pop up Skupka
ATTACH;FMTTYPE=image/jpeg:https://skup-ka.si/wp-content/uploads/2025/05/unnamed6-scaled.jpg
ORGANIZER;CN="Skupnostna kavarna":MAILTO:skupnostna.kavarna@gmail.com
END:VEVENT
BEGIN:VEVENT
DTSTART;TZID=UTC:20250617T190000
DTEND;TZID=UTC:20250617T203000
DTSTAMP:20260421T033032
CREATED:20250614T155430Z
LAST-MODIFIED:20250614T155430Z
UID:4406-1750186800-1750192200@skup-ka.si
SUMMARY:Bazar veščin S3E2: Kreativa in dobro počutje
DESCRIPTION:Bazar veščin S3E2: Kreativa in dobro počutje \nPoletna edicija Bazarja veščin je tu! \nZ nami bo tokrat Alice Shepherd Erlac\, Londončanka\, ki živi v Mariboru in deluje pod blagovno znamko Creative Tea Breaks.\nPogovarjali se bomo o povezavi med ustvarjanjem in dobrim počutjem.\nKako lahko kljub vsem izzivom\, ki jih prinaša življenje\, najdemo čas in notranji prostor za ustvarjanje? Se tudi tebi zdi\, da nam družba vedno znova sporoča\, da je ustvarjalnost\, ko smo enkrat odrasli\, neuporabna\, nesmiselna in izguba časa?\nPotrebujemo rituale\, ki nas prizemljijo\, nas usmerijo nazaj k sebi in ustavijo spiralo strahu\, ki jo ustvarjajo dogodki zunaj nas.\nRituali\, ki Alice vedno znova rešujejo so: pisanje dnevnika ustvarjanje brez cilja povezovanje z drugimi meditacija\nIn o tem bomo govorili na pred-počitniškem Bazarju veščin. Ne bomo pa samo govorili o ustvarjanju\, ampak bomo to tudi počeli.\nPoslanstvo Creative Tea Breaks je »Pomagati ti živeti bolj ustvarjalno.« Kar v resnici pomeni: pomagati\, da se igraš\, odpiraš um\, se povezuješ s trenutkom\, skrbiš za dobro počutje in živiš bolj polno.\nPridruži se delavnici ustvarjanja za boljše počutje\, kjer bomo skupaj raziskovali\, občutili in prebudili moč tvoje ustvarjalne iskrice in kako ti lahko pomaga živeti lepše\, dan za dnem.\nDogodek je brezplačen. Tvojo prijavo na srečanje potrebujemo zaradi lažje organizacije. >> https://forms.gle/regkCRjLfBma5nx1A\n…Bazar veščin je niz tematskih srečanj\, ki potekajo v spletni dnevni sobi Skupnostne kavarne. Predstavljamo raziskovalce\, ustvarjalce\, poznavalce in mojstre različnih uporabnih vsakodnevnih veščin\, ki nas podpirajo tako ali drugače. Gre za to\, da podelimo znanja\, razširimo modrosti\, se povežemo\, spoznamo\, sodelujemo.\nČe bi tudi ti želel_a sodelovati kot gost_ja\, deliti svoja znanja ali veščine in se predstaviti\, pa mi to lahko sporočiš na: info@skup-ka.si.\nP.S.: Dogodek bo potekal v angleščini. …..\nENG:\nCreative Wellbeing: how creative play helps you live well\nAs adults\, it becomes more and more challenging to find time and mental space for creativity.\nSociety tells us over and over that now you’re grown up\, creativity is a silly\, unproductive\, waste of time.\nBut we don’t buy that\, right?!\nBetween terrifying global events\, increasing cost of living\, social media\, capitalism\, environmental crisis\, and the nature of being human\, things are heavy—like walking up hill with a big rock on your back. We need rituals to re-orientate us and stop the fear getting out of control.\nThese are the rituals that save me\, Alice:\n journaling purposeless creativity leaning in to community meditation\nWhen stuff gets tough\, it’s normal to fall into thoughts and shadow.\nThis shadow has an amazing ability to pull us deeper in.\nBut when we have anchors to the moment and rituals for opening up rather than shrinking\, that shadow can’t pull us down and we’re able to reach towards the light faster and with greater ease.\nThis is where creativity just for the heck of it comes in!\nMy mission with Creative Tea Breaks is to “help you live more creatively” which is code for helping you play\, open your mind\, connect with the moment\, look after your wellbeing\, and live better.\nJoin this creative wellbeing workshop to experience\, embody\, and connect with the power of your creative spirit and how it can help you live better every day.\nApply here >> https://forms.gle/regkCRjLfBma5nx1A
URL:https://skup-ka.si/dogodek/bazar-vescin-s3e2-kreativa-in-dobro-pocutje/
LOCATION:Online-Zoom
CATEGORIES:Bazar veščin
ATTACH;FMTTYPE=image/png:https://skup-ka.si/wp-content/uploads/2025/06/4-e1749916429627.png
ORGANIZER;CN="Skupnostna kavarna":MAILTO:skupnostna.kavarna@gmail.com
END:VEVENT
BEGIN:VEVENT
DTSTART;TZID=UTC:20250628T160000
DTEND;TZID=UTC:20250628T190000
DTSTAMP:20260421T033032
CREATED:20250527T175059Z
LAST-MODIFIED:20250617T110656Z
UID:4365-1751126400-1751137200@skup-ka.si
SUMMARY:Skupkin skupnostni piknik v Tivoliju
DESCRIPTION:Skupkin skupnostni piknik v Tivoliju \nPridruži se nam na Skupkinem skupnostnem pikniku\,  druženju v Parku Tivoli kjer bomo skupaj soustvarjali prijeten dan pod krošnjami dreves! \nPrinesi nekaj za prigriznit!\nV duhu skupnosti vsak prispeva po svojih močeh. Prinesi nekaj malega za pod zob (slano\, sladko\, sezonsko\, domače ali kupljeno\, vse šteje!). \nSpoprijateljevalnica & klepet ob ročnih delih\nZa tiste\, ki radi ustvarjate (ali bi to radi poskusili)\, bo med piknikom potekala mini delavnica vezenja z Ajdo Zorko. Znanje ni pogoj\, samo želja po sproščenem ustvarjanju in prijetnem pogovoru. \nPotekala pa bo tudi Spoprijateljevalnica\, z iztočnicami za pogovor\, da se malo bolje spoznamo. \nSkupkin skupnostni piknik v Tivoliju je namenjen povezovanju\, sprostitvi in krepitvi skupnosti – vabljeni stari znanci Skupke in vsi\, ki ste Skupko šele začeli spoznavati. \nPridi\, povabi prijatelje in prinesi nasmeh. \nVstop je prost! \nS seboj prinesi dekico in kaj za pod zob. Če nimaš idej kaj bi prinesla\, pa lahko pokukaš v Skupkino spletno kavarno. \n… \nČe še nisi prepričana\, da bi prišla na piknik\, naj ti povemo\, da skupnostni dogodki spodbujajo srečevanje ljudi različnih ozadij\, generacij in interesov\, kar krepi občutek pripadnosti\, razumevanje in solidarnost. Potrudili se bomo ustvariti sproščeno in varno okolje in dali prostor odprti komunikaciji\, poslušanju in izmenjavi izkušenj ter vključujoči skupnosti. V takšnem okolju pa se rojevajo nove ideje\, iniciative in projekti. \nObčutek povezanosti z drugimi\, možnost sproščenega druženja ter občutek\, da smo del nečesa večjega\, pozitivno vplivajo na duševno zdravje in zmanjšujejo občutke osamljenosti. \nPridi\, fino se bomo imeli! 🙂 \n  \n 
URL:https://skup-ka.si/dogodek/skupkin-skupnostni-piknik-v-tivoliju/
LOCATION:Park Tivoli
CATEGORIES:Pop up Skupka
END:VEVENT
BEGIN:VEVENT
DTSTART;TZID=UTC:20250630T120000
DTEND;TZID=UTC:20250713T200000
DTSTAMP:20260421T033032
CREATED:20250617T112047Z
LAST-MODIFIED:20250617T112047Z
UID:4434-1751284800-1752436800@skup-ka.si
SUMMARY:Skupka na Prešercu!
DESCRIPTION:Skupka na Prešercu! \nZ veseljem sporočamo\, da se Skupka vrača v čudovito Plečnikovo trafiko na Prešernovem trgu v Ljubljani! \nTa majhen\, a poseben prostor s svojo zgodovino\, dušo in čarom ponuja popoln kotiček za ustvarjanje skupnosti sredi mesta\, za pogovore\, druženje in lokalne izdelke z dodano vrednostjo. Med 30. 6. in 14. 7. bomo spet soustvarjali srčiko mestnega jedra z lokalnimi izdelki\, ki jih najdeš tudi v Skupkini spletni kavarnici. \nVabljeni_a\, da obiščeš Skupko na Prešercu in pokukaš\, če ti je všeč kakšen izdelek. Lahko se boš osvežil_a z Nordom\, Brezovo vodo ali domačim sadnim sokom. Skupka je odprta za vse\, radovedne\, ustvarjalne\, tihe\, glasne in tudi za tiste\, ki iščejo trenutek miru sredi mestnega vrveža. \nSe vidimo!
URL:https://skup-ka.si/dogodek/skupka-na-presercu/
LOCATION:Prešernov trg
CATEGORIES:Pop up Skupka
ORGANIZER;CN="Skupnostna kavarna":MAILTO:skupnostna.kavarna@gmail.com
END:VEVENT
END:VCALENDAR