BEGIN:VCALENDAR
VERSION:2.0
PRODID:-//Skupnostna kavarna - ECPv6.15.20//NONSGML v1.0//EN
CALSCALE:GREGORIAN
METHOD:PUBLISH
X-ORIGINAL-URL:https://skup-ka.si
X-WR-CALDESC:Dogodki za Skupnostna kavarna
REFRESH-INTERVAL;VALUE=DURATION:PT1H
X-Robots-Tag:noindex
X-PUBLISHED-TTL:PT1H
BEGIN:VTIMEZONE
TZID:UTC
BEGIN:STANDARD
TZOFFSETFROM:+0000
TZOFFSETTO:+0000
TZNAME:UTC
DTSTART:20230101T000000
END:STANDARD
END:VTIMEZONE
BEGIN:VEVENT
DTSTART;TZID=UTC:20241019T100000
DTEND;TZID=UTC:20241019T150000
DTSTAMP:20260422T094306
CREATED:20241005T122928Z
LAST-MODIFIED:20241005T122928Z
UID:3503-1729332000-1729350000@skup-ka.si
SUMMARY:Trajno je bajno!
DESCRIPTION:Trajno je bajno! se vrača v Mladinsko postajo Moste. \n\nRazgiban\, retro in vsebin poln cikel dogodkov\, s katerim podpiramo trajnostne prakse in se zavzemamo za okolju in družbi prijaznejše načine življenja.\n\nNa dogodku najdeš:\n* izmenjevalnico oblačil\, knjig in električnih aparatov\,\n* predstavitev programov podjetja ZEOS in projekta Še sem uporaben\,\n* kavarniški kotiček Skupnostne kavarne z lokalnimi izdelki.\n\nSistem izmenjevalnice že poznaš: prineseš lepo ohranjena pomladno poletna oblačila\, modne dodatke\, električne aparate in knjige\, odneseš oblačila / knjige / aparate iz izmenjevalnice.\n\nSpodnjega perila\, nogavic in čevljev ne sprejemamo! Oblačila naj bodo čista in nepoškodovana.\nGlave smo ponovno staknili Mladinska postaja Moste\, Knjižnica Reči Moste\, Skupnostna kavarna ter Podjetje ZEOS\, d.o.o. (v sklopu njihovega projekta Life Spodbujamo e-krožno).\n\nSave the date in se kmalu vidimo!\n\n…..\n\nTrajno je bajno! dogodek podpirajo: Oddelek za mladino MOL\, Urad za mladino RS\nProstor za izvedbo dogodkov omogoča:\nJavno podjetje Ljubljanska parkirišča in tržnice\, d.o.o.\nProjekt LIFE Spodbujamo e-krožno (LIFE Turn to e-circular)\, nosilec ZEOS d.o.o. je delno sofinanciran s strani Ministrstva za okolje\, podnebje in energijo ter Evropske komisije. Projekt traja od leta 2020 in do konca leta 2024.
URL:https://skup-ka.si/dogodek/trajno-je-bajno-5/
LOCATION:Mladinska postaja Moste\, Zaloška 55\, Ljubljana\, Ljubljana\, 1000
CATEGORIES:Izmenjevalnice,Pop up Skupka
END:VEVENT
END:VCALENDAR