BEGIN:VCALENDAR
VERSION:2.0
PRODID:-//Skupnostna kavarna - ECPv6.15.20//NONSGML v1.0//EN
CALSCALE:GREGORIAN
METHOD:PUBLISH
X-ORIGINAL-URL:https://skup-ka.si
X-WR-CALDESC:Dogodki za Skupnostna kavarna
REFRESH-INTERVAL;VALUE=DURATION:PT1H
X-Robots-Tag:noindex
X-PUBLISHED-TTL:PT1H
BEGIN:VTIMEZONE
TZID:UTC
BEGIN:STANDARD
TZOFFSETFROM:+0000
TZOFFSETTO:+0000
TZNAME:UTC
DTSTART:20230101T000000
END:STANDARD
END:VTIMEZONE
BEGIN:VEVENT
DTSTART;TZID=UTC:20241026T150000
DTEND;TZID=UTC:20241026T190000
DTSTAMP:20260421T235210
CREATED:20241003T102555Z
LAST-MODIFIED:20241003T174602Z
UID:3492-1729954800-1729969200@skup-ka.si
SUMMARY:Klopka x Skupka: Klepet ob ročnih delih
DESCRIPTION:Klopka x Skupka: Klepet ob ročnih delih se vrača v Knjižnico reči!\n\n\nPo poletnem predahu smo spet skupaj! Štrikarice in kvačkarice\, vabljene\, da ponovno poklepetamo ob dobri kavi! \n\n\nV soboto\, 26. 10. 2024\, od 15h do 19h se dobimo v Knjižnici REČI v Savskem naselju. \n\n\nPridi pokazat\, kaj si ustvarila čez poletje! Imaš projekt ob katerem so te na zimo zasrbeli prsti? Nasnuj ga z nami v dobri družbi. \n  \n\n\nDruženje je priložnost\, da deliš ideje\, navdih in izkušnje\, ali pa prvič primeš v roke kvačko in pletilke! Ne glede na stopnjo znanja\, dobrodošli začetniki in izkušeni mojstri! \n\n\nVstop je PROST! Dogodek je samoorganizacijske narave\, druži nas ljubezen do ročnih del in želja po druženju! \n\nZaradi velikosti prostora moramo tokrat omejiti število udeleženk. Če prideš\, se pofočkaj prek obrazca za PRIJAVE.\n\nSe vidimo! \n\nDogodek poteka v okviru programa Skupnostna kavarna v Knjižnici reči\, ki ga sofinancira Urad za mladino MOL.\n\n°°°Z vami bomo:\n\nManca & Lucija @Klopka volne: delita znanja o kvačkanju in štrikanju ter odgovorita na vsa vprašanja o ustvarjanju vsebin\, produkciji videev\, grafičnem dizajnu in spletnih straneh. \n\n\nŠpela @coolcatsknit: trenutno dela izpit za tech editorja in piše vzorce za pletenje\, rada poklepeta o digitalnem marketingu. \n\nUrša @Skupnostna kavarna: bo poskrbela za pogostitev in dobro družbo – za kavo\, čaj in prigrizke! Skupka ali skupnostna kavarna je nov koncept kavarne\, v kateri se iz gosta_je spremeniš v soustvarjalca_ko! S svojimi idejami\, talenti in unikatnostjo lahko prispevaš k življenju kavarne\, ki ima prav posebno misijo\, in ta je povezovanje\, sodelovanje in soustvarjanje. Trenutno Skupka deluje na spletu kot spletna kavarna ter v obliki pop up ustvarjalno-družabnih dogodkov.
URL:https://skup-ka.si/dogodek/klopka-x-skupka-klepet-ob-rocnih-delih-2/
LOCATION:Knjižnica reči\, Belokranjska 6\, Ljubljana\, Slovenia\, Ljubljana\, 1000\, Slovenija
CATEGORIES:Pop up Skupka
ORGANIZER;CN="Skupnostna kavarna":MAILTO:skupnostna.kavarna@gmail.com
END:VEVENT
END:VCALENDAR