BEGIN:VCALENDAR
VERSION:2.0
PRODID:-//Skupnostna kavarna - ECPv6.15.20//NONSGML v1.0//EN
CALSCALE:GREGORIAN
METHOD:PUBLISH
X-WR-CALNAME:Skupnostna kavarna
X-ORIGINAL-URL:https://skup-ka.si
X-WR-CALDESC:Dogodki za Skupnostna kavarna
REFRESH-INTERVAL;VALUE=DURATION:PT1H
X-Robots-Tag:noindex
X-PUBLISHED-TTL:PT1H
BEGIN:VTIMEZONE
TZID:UTC
BEGIN:STANDARD
TZOFFSETFROM:+0000
TZOFFSETTO:+0000
TZNAME:UTC
DTSTART:20230101T000000
END:STANDARD
END:VTIMEZONE
BEGIN:VEVENT
DTSTART;TZID=UTC:20241214T100000
DTEND;TZID=UTC:20241214T150000
DTSTAMP:20260421T135059
CREATED:20241209T173059Z
LAST-MODIFIED:20241209T173059Z
UID:3670-1734170400-1734188400@skup-ka.si
SUMMARY:Trajno je bajno: Praznična edicija z DJ Eclectic Santa
DESCRIPTION:Trajno je bajno: Praznična edicija z DJ Eclectic Santa\nPonovno izmenjujemo! Trajno je bajno je cikel dogodkov\, s katerim podpiramo trajnostne prakse in se zavzemamo za okolju in družbi prijaznejše načine življenja. \nNa dogodku najdeš:* izmenjevalnico zimskih oblačil in knjig* izmenjevalnico/podarjevalnico delujočih el.aparatov (prinesite ohranjene delujoče male električne aparate\, ki ji ne potrebujete in jih izmenjajte za drugega)*Kotiček s hišnim serviserjem projekta\, ki bo na dogodku izvajal BREZPLAČNO diagnostiko pokvarjenih električnih in elektronskih aparatov\, za samo popravilo pa se boste lahko z njim dogovorili na samem dogodku (opozorilo: popravila niso brezplačna!)* zabojnik za odpadne in nedelujoče el. aparate* kavarniški kotiček Skupnostne kavarne z lokalnimi izdelki* Na dogodku se bodo predvajali slavni\, zabavni ter nadvse poučni in izobraževalni videoposnetki serije »ITAK\, DA SE DA!« naše zvezde SINIŠE MARTINA o vzdrževanju in osnovnih popravilih najbolj uporabljenih gospodinjskih električnih aparatov.\nKer pa ni prazničnega vzdušja brez praznične glasbe\, se bomo pozibavali ob zvokih DJ Eclectic Santa \n\n>> Sistem izmenjevalnice že poznaš: prineseš lepo ohranjena oblačila\, modne dodatke\, električne aparate in knjige\, ter odneseš oblačila / knjige / aparate iz izmenjevalnice.\n>> Spodnjega perila\, nogavic in čevljev ne sprejemamo! Oblačila naj bodo čista in nepoškodovana.\nDogodek soustvarjamo Mladinska postaja Moste\, Knjižnica Reči Moste\, Skupnostna kavarna ter Podjetje ZEOS\, d.o.o. (v sklopu njihovega projekta Life Spodbujamo e-krožno).\nSave the date in se kmalu vidimo!
URL:https://skup-ka.si/dogodek/trajno-je-bajno-praznicna-edicija-z-dj-eclectic-santa/
LOCATION:Mladinska postaja Moste\, Zaloška 55\, Ljubljana\, Ljubljana\, 1000
CATEGORIES:Izmenjevalnice,Pop up Skupka
END:VEVENT
END:VCALENDAR