BEGIN:VCALENDAR
VERSION:2.0
PRODID:-//Skupnostna kavarna - ECPv6.15.20//NONSGML v1.0//EN
CALSCALE:GREGORIAN
METHOD:PUBLISH
X-WR-CALNAME:Skupnostna kavarna
X-ORIGINAL-URL:https://skup-ka.si
X-WR-CALDESC:Dogodki za Skupnostna kavarna
REFRESH-INTERVAL;VALUE=DURATION:PT1H
X-Robots-Tag:noindex
X-PUBLISHED-TTL:PT1H
BEGIN:VTIMEZONE
TZID:UTC
BEGIN:STANDARD
TZOFFSETFROM:+0000
TZOFFSETTO:+0000
TZNAME:UTC
DTSTART:20240101T000000
END:STANDARD
END:VTIMEZONE
BEGIN:VEVENT
DTSTART;TZID=UTC:20250215T160000
DTEND;TZID=UTC:20250215T180000
DTSTAMP:20260421T111105
CREATED:20250205T205715Z
LAST-MODIFIED:20250205T210054Z
UID:3824-1739635200-1739642400@skup-ka.si
SUMMARY:Kreativna čajanka
DESCRIPTION:Kreativna čajanka je namenjena kreativnemu iskanju idej za Skupko. \nKako si predstavljaš popolno skupnostno kavarno? Kaj bi želel_a doživeti v njej? Katere aktivnosti\, dogodki in vsebine bi te pritegnile? \nVabimo te na Kreativno čajanko\, kjer bomo ob skodelici dobrega čaja sproščeno razmišljali\, izmenjevali ideje in skupaj oblikovali vizijo za skupnostno kavarno leta 2025 in naprej. \nOb skodelici čaja bomo imeli skupnostni brainstorming\, namenjen iskanju novih in inovativnih rešitev za nadgradnjo in nadaljevanje projekta Skupnostna kavarna. Tvoji predlogi bodo pomagali oblikovati prostor\, ki bo zaživel po meri skupnosti. \nNe glede na to\, ali si strasten_a obiskovalec_ka kavarn\, imaš izkušnje z organizacijo dogodkov ali si preprosto poln_a idej\, prav vsak je več kot dobrodošel! \nPridi in postani del Skupkine zgodbe.
URL:https://skup-ka.si/dogodek/kreativna-cajanka/
LOCATION:Knjižnica reči\, Belokranjska 6\, Ljubljana\, Slovenia\, Ljubljana\, 1000\, Slovenija
CATEGORIES:Pogovor,Pop up Skupka
END:VEVENT
END:VCALENDAR