BEGIN:VCALENDAR
VERSION:2.0
PRODID:-//Skupnostna kavarna - ECPv6.15.20//NONSGML v1.0//EN
CALSCALE:GREGORIAN
METHOD:PUBLISH
X-ORIGINAL-URL:https://skup-ka.si
X-WR-CALDESC:Dogodki za Skupnostna kavarna
REFRESH-INTERVAL;VALUE=DURATION:PT1H
X-Robots-Tag:noindex
X-PUBLISHED-TTL:PT1H
BEGIN:VTIMEZONE
TZID:UTC
BEGIN:STANDARD
TZOFFSETFROM:+0000
TZOFFSETTO:+0000
TZNAME:UTC
DTSTART:20240101T000000
END:STANDARD
END:VTIMEZONE
BEGIN:VEVENT
DTSTART;TZID=UTC:20250408T180000
DTEND;TZID=UTC:20250408T200000
DTSTAMP:20260421T082132
CREATED:20250222T180054Z
LAST-MODIFIED:20250317T142851Z
UID:3818-1744135200-1744142400@skup-ka.si
SUMMARY:Spoprijateljevalnica
DESCRIPTION:Spoprijateljevalnica – zabaven in hiter način za spoznavanje novih ljudi\, prihaja v Skupko!\n \nČe si želiš razširiti svoj krog prijateljev\, a ne veš\, kje začeti\, ti Spoprijateljevalnica lahko pomaga. \nGre za sproščen in dinamičen speed friending dogodek\, kjer v kratkih\, vodenih pogovorih srečaš nove in zanimive ljudi\, se z njimi povežeš in če želiš\, ohraniš stike. Brez neprijetnih tišin\, brez pritiska\, samo prijetni pogovori in priložnost za nova poznanstva. \nKako poteka? \nDogodek je zasnovan po principu speed friendinga\, kjer se skozi kratke pogovore v parih srečuješ z različnimi udeleženci. Vsak pogovor traja nekaj minut\, nato se zamenjaš in spoznaš novo osebo. Da bi bilo vse še bolj spontano in sproščeno\, so na voljo kartice z zabavnimi vprašanji\, ki pomagajo\, da pogovor steče brez zadrege. \nPo tem ‘uradnem delu’ sledi sproščeno druženje ob čaju in prigrizkih\, kjer lahko nadaljuješ pogovor z ljudmi\, s katerimi si se najbolje ujel_a. \nVstopnina: simboličen prispevek 3€ za povrnitev stroškov organizacije.
URL:https://skup-ka.si/dogodek/spoprijateljevalnica/
LOCATION:Knjižnica reči\, Belokranjska 6\, Ljubljana\, Slovenia\, Ljubljana\, 1000\, Slovenija
CATEGORIES:Pop up Skupka,Redni program
END:VEVENT
END:VCALENDAR