BEGIN:VCALENDAR
VERSION:2.0
PRODID:-//Skupnostna kavarna - ECPv6.15.20//NONSGML v1.0//EN
CALSCALE:GREGORIAN
METHOD:PUBLISH
X-WR-CALNAME:Skupnostna kavarna
X-ORIGINAL-URL:https://skup-ka.si
X-WR-CALDESC:Dogodki za Skupnostna kavarna
REFRESH-INTERVAL;VALUE=DURATION:PT1H
X-Robots-Tag:noindex
X-PUBLISHED-TTL:PT1H
BEGIN:VTIMEZONE
TZID:UTC
BEGIN:STANDARD
TZOFFSETFROM:+0000
TZOFFSETTO:+0000
TZNAME:UTC
DTSTART:20240101T000000
END:STANDARD
END:VTIMEZONE
BEGIN:VEVENT
DTSTART;TZID=UTC:20250717T180000
DTEND;TZID=UTC:20250717T200000
DTSTAMP:20260421T033041
CREATED:20250706T204215Z
LAST-MODIFIED:20250706T204215Z
UID:4461-1752775200-1752782400@skup-ka.si
SUMMARY:Spoprijateljevalnica X Deeper conversations
DESCRIPTION:o ni speed dating\, niti speed friending\, to je Spoprijateljevalnica! Tokrat v sodelovanju z Deeper Conversations.\nČe si med tistimi\, ki želijo razširiti svoj krog prijateljev\, ali pa samo spoznati kakšen nov in zanimiv karakter\, se oglasi na poletnem druženju\, namenjenem spoznavanju novih ljudi.\nDruženje je strukturirano tako\, da se posedemo in pogovarjamo v dvojicah\, sogovornike pa po določenem času premešamo\, z namenom\, da vsak spozna čim več ljudi. Vmes je tudi kratka pavza\, po koncu pogovornega dela pa lahko kdor to želi\, še ostane.\nZa lažji začetek pogovora so vnaprej pripravljena tudi vprašanja oz. iztočnice za pogovor.\nŠtevilo mest je omejeno\, zato so prijave obvezne na Info@skup-ka.si ali v DM.\nPristopnina je 5€ za povrnitev stroškov organizacije. Točno lokacijo sporočimo naknadno.\nDaniel & Urša\nSe vidimo \n…….Pa še en disklejmer:Dogodek je namenjen sklepanju novih poznanstev in druženju in ni dejting aplikacija v živo. Dejmo poskrbet\, da se bomo vsi počutili udobno\, varno in sproščeno.
URL:https://skup-ka.si/dogodek/spoprijateljevalnica-x-deeper-conversations/
CATEGORIES:Pop up Skupka,Redni program
ORGANIZER;CN="Skupnostna kavarna":MAILTO:skupnostna.kavarna@gmail.com
END:VEVENT
END:VCALENDAR