BEGIN:VCALENDAR
VERSION:2.0
PRODID:-//Skupnostna kavarna - ECPv6.15.20//NONSGML v1.0//EN
CALSCALE:GREGORIAN
METHOD:PUBLISH
X-ORIGINAL-URL:https://skup-ka.si
X-WR-CALDESC:Dogodki za Skupnostna kavarna
REFRESH-INTERVAL;VALUE=DURATION:PT1H
X-Robots-Tag:noindex
X-PUBLISHED-TTL:PT1H
BEGIN:VTIMEZONE
TZID:UTC
BEGIN:STANDARD
TZOFFSETFROM:+0000
TZOFFSETTO:+0000
TZNAME:UTC
DTSTART:20240101T000000
END:STANDARD
END:VTIMEZONE
BEGIN:VEVENT
DTSTART;TZID=UTC:20250730T180000
DTEND;TZID=UTC:20250730T210000
DTSTAMP:20260421T015612
CREATED:20250727T180755Z
LAST-MODIFIED:20250727T181034Z
UID:4485-1753898400-1753909200@skup-ka.si
SUMMARY:Praznovanje s Face Yoga Garden
DESCRIPTION:Praznovanje s Face Yoga Garden. \nStudio obrazne joge Face Yoga Garden z ljubeznijo in s ponosom vabi na rojstnodnevno praznovanje:\n 30. 7. 2025 ob 18.00 uri\n Lokacija zabave je čarobna Barakca v okolici Ljubljane. https://maps.app.goo.gl/SAfYJZ1oBRhEgMFF7\n\nSkupaj bomo nazdravili vsem čudovitim trenutkom\, ki smo jih preživeli skupaj\, se na novo spoznali in ustvarili nove\, še lepše spomine. Za okusno hrano in osvežilno pijačo bo poskrbljeno – vi s seboj prinesite le nasmeh in dobro voljo! Praznovanju se pridružuje tudi Skupka\, saj je bila Vanda\, ki vodi Face Yoga Garden gostjaenega od Bazarjev veščin prejšnje sezone.\n\n\nDogodek je odprt za vse\, ki želite praznovati z Vando. S seboj lahko pripelješ tudi svojo celo klapo! \n\nZaradi lažje organizacije svojo udeležbo potrdi na email naslov info@riannon.net.
URL:https://skup-ka.si/dogodek/praznovanje-s-face-yoga-garden/
LOCATION:Na Barakci\, 4F9J+GV\, 1211 Ljubljana - Šmartno\, Slovenia
CATEGORIES:Pop up Skupka
END:VEVENT
END:VCALENDAR