BEGIN:VCALENDAR
VERSION:2.0
PRODID:-//Skupnostna kavarna - ECPv6.15.20//NONSGML v1.0//EN
CALSCALE:GREGORIAN
METHOD:PUBLISH
X-WR-CALNAME:Skupnostna kavarna
X-ORIGINAL-URL:https://skup-ka.si
X-WR-CALDESC:Dogodki za Skupnostna kavarna
REFRESH-INTERVAL;VALUE=DURATION:PT1H
X-Robots-Tag:noindex
X-PUBLISHED-TTL:PT1H
BEGIN:VTIMEZONE
TZID:UTC
BEGIN:STANDARD
TZOFFSETFROM:+0000
TZOFFSETTO:+0000
TZNAME:UTC
DTSTART:20240101T000000
END:STANDARD
END:VTIMEZONE
BEGIN:VEVENT
DTSTART;TZID=UTC:20251108T140000
DTEND;TZID=UTC:20251108T180000
DTSTAMP:20260420T212054
CREATED:20250731T131742Z
LAST-MODIFIED:20251026T200449Z
UID:4491-1762610400-1762624800@skup-ka.si
SUMMARY:Zmajevalnice: Kroženje oblačil in zgodb
DESCRIPTION:Zmajevalnice: Kroženje oblačil in zgodb so nazaj! \nTokrat so zaokrožile po petih mladinskih centrih Mladih zmajev. Pridi\, izmenjaj in deli zgodbe svojih oblačil z drugimi navdušenci mode iz druge roke. \n\nEkipa Zmajevalnic verjame\, da so oblačila več kot le kos blaga in da vsako oblačilo nosi svoje edinstvene zgodbe. Ko ga predaš naprej\, se začnejo plesti nove. Si predstavljaš koliko srčnih in navdihujočih zgodb se skriva v unikatnih kosih\, ki so jih mogoče nosile celo naše prababice?\n\nPoleg izmenjevanja\, te tokrat čakajo še nagradne igre z unikatnimi kosi second hand oblačil in eno res fino presenečenje! \n\nZadnja Zmajevalnica bo pri Mladizh zmajih Golovec\, na Pesarski ulici 14\, v soboto\, 8. 11. med 14. in 18. uro.\n\nPrideš? \n\nProjekt soustvarjamo z Javnim zavodom Mladi zmaji.
URL:https://skup-ka.si/dogodek/zmajevalnice-krozenje-oblacil-in-zgodb/
LOCATION:Mladi zmaji Golovec\, Pesarska ulica 14\, Ljubljana
CATEGORIES:Izmenjevalnice
ATTACH;FMTTYPE=image/jpeg:https://skup-ka.si/wp-content/uploads/2025/07/Zmajevalnice-grafika.jpg
ORGANIZER;CN="Skupnostna kavarna":MAILTO:skupnostna.kavarna@gmail.com
END:VEVENT
END:VCALENDAR