BEGIN:VCALENDAR
VERSION:2.0
PRODID:-//Skupnostna kavarna - ECPv6.15.20//NONSGML v1.0//EN
CALSCALE:GREGORIAN
METHOD:PUBLISH
X-WR-CALNAME:Skupnostna kavarna
X-ORIGINAL-URL:https://skup-ka.si
X-WR-CALDESC:Dogodki za Skupnostna kavarna
REFRESH-INTERVAL;VALUE=DURATION:PT1H
X-Robots-Tag:noindex
X-PUBLISHED-TTL:PT1H
BEGIN:VTIMEZONE
TZID:UTC
BEGIN:STANDARD
TZOFFSETFROM:+0000
TZOFFSETTO:+0000
TZNAME:UTC
DTSTART:20240101T000000
END:STANDARD
END:VTIMEZONE
BEGIN:VEVENT
DTSTART;TZID=UTC:20251206T100000
DTEND;TZID=UTC:20251206T150000
DTSTAMP:20260420T194802
CREATED:20251128T204814Z
LAST-MODIFIED:20251128T205101Z
UID:4757-1765015200-1765033200@skup-ka.si
SUMMARY:Trajno je bajno #4
DESCRIPTION:Trajno je bajno #4. \nDecember je tu in s tem zadnji letošnji Trajno je bajno!\nPraznično obarvan pa še Miklavž je (mogoče bo kaj pustil za nas za pod zob :D)\n\nTrajno je bajno je cikel dogodkov\, s katerim podpiramo trajnostne prakse in se zavzemamo za okolju in družbi prijaznejše načine življenja. \n\n\nNa dogodku najdeš:* izmenjevalnico lepo ohranjenih ZIMSKIH oblačil in knjig* izmenjevalnico/podarjevalnico delujočih el.aparatov (prinesite ohranjene delujoče male električne aparate\, ki ji ne potrebujete in jih izmenjajte za drugega)* zabojnik za odpadne in nedelujoče el. aparate* Knjižnico REČI Moste (lahko si boste izposodili predmete\, lahko pa tudi donirate predmete\, ki jih ne potrebujete v dobrem in delujočem stanju za souporabo)* kavarniški kotiček Skupnostne kavarne z lokalnimi izdelki \n\n\nPa še kaj se bo našlo! \n\nSistem izmenjevalnice že poznaš: prineseš lepo ohranjena oblačila\, modne dodatke\, električne aparate in knjige\, ter odneseš oblačila / knjige / aparate iz izmenjevalnice.\nSpodnjega perila\, nogavic in čevljev ne sprejemamo! Oblačila naj bodo čista in nepoškodovana.\nDogodek soustvarjamo Mladinska postaja Moste\, Knjižnica Reči Moste in Skupnostna kavarna.Save the date in se kmalu vidimo!
URL:https://skup-ka.si/dogodek/trajno-je-bajno-4-2/
LOCATION:Mladinska postaja Moste\, Zaloška 55\, Ljubljana\, Ljubljana\, 1000
CATEGORIES:Izmenjevalnice,Pop up Skupka
ATTACH;FMTTYPE=image/webp:https://skup-ka.si/wp-content/uploads/2025/11/trajno-je-bajno-dogodek-e1764363053100.webp
ORGANIZER;CN="Skupnostna kavarna":MAILTO:skupnostna.kavarna@gmail.com
END:VEVENT
END:VCALENDAR