BEGIN:VCALENDAR
VERSION:2.0
PRODID:-//Skupnostna kavarna - ECPv6.15.20//NONSGML v1.0//EN
CALSCALE:GREGORIAN
METHOD:PUBLISH
X-ORIGINAL-URL:https://skup-ka.si
X-WR-CALDESC:Dogodki za Skupnostna kavarna
REFRESH-INTERVAL;VALUE=DURATION:PT1H
X-Robots-Tag:noindex
X-PUBLISHED-TTL:PT1H
BEGIN:VTIMEZONE
TZID:UTC
BEGIN:STANDARD
TZOFFSETFROM:+0000
TZOFFSETTO:+0000
TZNAME:UTC
DTSTART:20240101T000000
END:STANDARD
END:VTIMEZONE
BEGIN:VEVENT
DTSTART;TZID=UTC:20251221T183000
DTEND;TZID=UTC:20251221T193000
DTSTAMP:20260420T194936
CREATED:20251216T150330Z
LAST-MODIFIED:20251216T171038Z
UID:4851-1766341800-1766345400@skup-ka.si
SUMMARY:Vzamem si 45min zase MEDITACIJA
DESCRIPTION:Vzamem si 45min zase MEDITACIJA 🧘‍♀️  \nPraznični čas zna biti lep\, hkrati pa tudi naporen.Skupka vabi\, da se za 45 minut ustaviš\, zadihaš in se vrneš k sebi. \nVzamem si 45 minut zase meditacija je nežen\, voden prostor za umirjanje\, namenjen vsem\, ki si želijo trenutka tišine\, prisotnosti in notranjega ravnovesja. Brez pričakovanj\, brez pritiska\, čas samo zate. \nTokrat ima dogodek tudi poseben namen: zbiramo sredstva za nov prostor Skupke\, novo dnevno sobo\, namenjeno odraslim 25+\, kjer se bomo lahko v letu 2026 srečevali\, umirjali in soustvarjali. \nKaj lahko pričakuješ?\n\nvodeno meditacijo (primerno tudi za začetnike)\nvaren in podporen prostor\nčas zase\, brez motenj in obveznosti\npriložnost\, da s svojo udeležbo podpreš Skupko\n\nPrispevek za udeležbo: 10 € \nCeloten znesek bo namenjen so-financiranju novega prostora Skupke. Vsak prispevek pomaga\, da skupnostni prostor zaživi in ostane odprt za vse. \nPridi tak_a kot si.Ni ti treba\, da imaš izkušnje z meditacijo\, dovolj je\, da samo prideš.45 minut zase. Za tvoje telo\, um in skupnost. \nPreveri tudi ostale BENEFIT DOGODKE. \nSe vidimo.
URL:https://skup-ka.si/dogodek/vzamem-si-45min-zase-meditacija/
LOCATION:Skupka\, Bežigrad 6\, Ljubljana\, 1000\, Slovenia
CATEGORIES:Redni program
ATTACH;FMTTYPE=image/webp:https://skup-ka.si/wp-content/uploads/2025/12/1-e1765896482396.webp
ORGANIZER;CN="Skupnostna kavarna":MAILTO:skupnostna.kavarna@gmail.com
END:VEVENT
END:VCALENDAR