BEGIN:VCALENDAR
VERSION:2.0
PRODID:-//Skupnostna kavarna - ECPv6.15.20//NONSGML v1.0//EN
CALSCALE:GREGORIAN
METHOD:PUBLISH
X-WR-CALNAME:Skupnostna kavarna
X-ORIGINAL-URL:https://skup-ka.si
X-WR-CALDESC:Dogodki za Skupnostna kavarna
REFRESH-INTERVAL;VALUE=DURATION:PT1H
X-Robots-Tag:noindex
X-PUBLISHED-TTL:PT1H
BEGIN:VTIMEZONE
TZID:UTC
BEGIN:STANDARD
TZOFFSETFROM:+0000
TZOFFSETTO:+0000
TZNAME:UTC
DTSTART:20240101T000000
END:STANDARD
END:VTIMEZONE
BEGIN:VEVENT
DTSTART;TZID=UTC:20251230T180000
DTEND;TZID=UTC:20251230T210000
DTSTAMP:20260420T182147
CREATED:20251216T172405Z
LAST-MODIFIED:20251216T173452Z
UID:4863-1767117600-1767128400@skup-ka.si
SUMMARY:Skupnostna PREDNOVOLETNA VEČERJA
DESCRIPTION:Skupnostna PREDNOVOLETNA VEČERJA ✨ \nPreden leto zapremo in stopimo naprej\, si vzemimo čas zase in za druženje ob dobri hrani.Vabimo te na skupnostno prednovoletno večerjo\, na sproščen večer druženja\, novih ljudi\, pogovora\, deljenja hrane in občutka pripadnosti. \nGre za več kot večerjo. Dogodek je benefit\, na katerem zbiramo sredstva za nov prostor Skupke\, novo dnevno sobo sredi mesta\, ki s koncem decembra prvič odpira svoja vrata. \nKako bo potekala večerja?\n* vsak prinese nekaj hrane za deljenje* usedemo se za skupno mizo in si podarimo čas\, hrano in drug drugega\n* brez programa in aktivnosti\, samo druženje\n* prostor za refleksijo leta in tiho praznovanje \nPrispevek: ni obvezen (razen\, če želiš) \nVsi prostovoljni prispevki bodo namenjeni so-financiranju novega prostora Skupke. Vsak prispevek pomaga\, da prostor za skupnost ostane odprt in živ tudi v letu 2026. \nDogodek je odprt za vse\, za stare obraze in nove ljudi\, za tiste\, ki radi kuhajo\, in tiste\, ki pridejo predvsem zaradi družbe. \nPrinesi hrano\, prinesi sebe\, prinesi kaj malega za prigriznit. \nPreveri tudi ostale BENEFIT DOGODKE. \nSe vidimo pri skupni mizi.
URL:https://skup-ka.si/dogodek/skupnostna-prednovoletna-vecerja/
LOCATION:Skupka\, Bežigrad 6\, Ljubljana\, 1000\, Slovenia
CATEGORIES:Redni program
ATTACH;FMTTYPE=image/webp:https://skup-ka.si/wp-content/uploads/2025/12/1-e1765896482396.webp
ORGANIZER;CN="Skupnostna kavarna":MAILTO:skupnostna.kavarna@gmail.com
END:VEVENT
END:VCALENDAR