BEGIN:VCALENDAR
VERSION:2.0
PRODID:-//Skupnostna kavarna - ECPv6.15.20//NONSGML v1.0//EN
CALSCALE:GREGORIAN
METHOD:PUBLISH
X-ORIGINAL-URL:https://skup-ka.si
X-WR-CALDESC:Dogodki za Skupnostna kavarna
REFRESH-INTERVAL;VALUE=DURATION:PT1H
X-Robots-Tag:noindex
X-PUBLISHED-TTL:PT1H
BEGIN:VTIMEZONE
TZID:UTC
BEGIN:STANDARD
TZOFFSETFROM:+0000
TZOFFSETTO:+0000
TZNAME:UTC
DTSTART:20250101T000000
END:STANDARD
END:VTIMEZONE
BEGIN:VEVENT
DTSTART;TZID=UTC:20260113T180000
DTEND;TZID=UTC:20260113T200000
DTSTAMP:20260420T182241
CREATED:20260104T131920Z
LAST-MODIFIED:20260106T210748Z
UID:4897-1768327200-1768334400@skup-ka.si
SUMMARY:Zimska Spoprijateljevalnica
DESCRIPTION:Zimska Spoprijateljevalnica \nZimska spoprijateljevalnica je družabni speed friending dogodek\, namenjen spoznavanju novih ljudi na način\, ki je strukturiran\, a hkrati neobremenjujoč. Namenjena je vsem\, ki si želite navezati nove stike\, razširiti svoj socialni krog ali preprosto izkusiti drugačen način druženja. Dogodek poteka v varnem okolju\, kjer ni pričakovanj\, da moraš biti zabavna\, zgovorna ali posebej samozavestna. \nSrečanje poteka skozi niz kratkih pogovorov v parih\, ki omogočajo\, da v omejenem času spoznaš več različnih ljudi. Takšna struktura zmanjšuje socialni pritisk in omogoča bolj enakovredno izkušnjo za vse udeležence. V pogovoru ne rabiš biti popolna in skrbeti\, da boš pustila vtis\, temveč le radovedna in odprta za nove ljudi. \nČe si tudi ti malo ‘socially awkward’ in se v klasičnih socialnih okoljih težje znajdeš\, si nova v mestu\, ali pa si želiš novega načina spoznavanja in povezvovanja z drugimi\, potem je Spoprijateljevalnica zate. 😉 \nPrijavi se na POVEZAVI. \n📍 Bežigrad 6\, Ljubljana🕕13. 1.\, 27. 1. 2026\n18.00–20.00 \nPrispevek: Pay what you can 5-15€
URL:https://skup-ka.si/dogodek/zimska-spoprijateljevalnica/
LOCATION:Skupka\, Bežigrad 6\, Ljubljana\, 1000\, Slovenia
CATEGORIES:Redni program
ATTACH;FMTTYPE=image/webp:https://skup-ka.si/wp-content/uploads/2026/01/skupkin-program2-e1767526900344.webp
ORGANIZER;CN="Skupnostna kavarna":MAILTO:skupnostna.kavarna@gmail.com
END:VEVENT
END:VCALENDAR