BEGIN:VCALENDAR
VERSION:2.0
PRODID:-//Skupnostna kavarna - ECPv6.15.20//NONSGML v1.0//EN
CALSCALE:GREGORIAN
METHOD:PUBLISH
X-ORIGINAL-URL:https://skup-ka.si
X-WR-CALDESC:Dogodki za Skupnostna kavarna
REFRESH-INTERVAL;VALUE=DURATION:PT1H
X-Robots-Tag:noindex
X-PUBLISHED-TTL:PT1H
BEGIN:VTIMEZONE
TZID:UTC
BEGIN:STANDARD
TZOFFSETFROM:+0000
TZOFFSETTO:+0000
TZNAME:UTC
DTSTART:20250101T000000
END:STANDARD
END:VTIMEZONE
BEGIN:VEVENT
DTSTART;TZID=UTC:20260207T183000
DTEND;TZID=UTC:20260207T193000
DTSTAMP:20260420T170724
CREATED:20260104T142541Z
LAST-MODIFIED:20260106T210435Z
UID:4910-1770489000-1770492600@skup-ka.si
SUMMARY:Vzemi si čas zase MEDITACIJA
DESCRIPTION:Vzemi si čas zase MEDITACIJA \nDogodek je namenjen zavestnemu umiku od vsakodnevnega tempa in zahtev ter nenehne usmerjenosti v svet zunaj nas. Gre za vodeno meditacijo\, ki ponuja varen in umirjen prostor\, kjer se lahko za eno uro posvetiš izključno sebi\, svojemu telesu in notranjemu doživljanju. V ospredje bomo postavile preprosto prisotnost in si dovolili/e\, da se za trenutek ustavimo. \nPrepustil/a se boš glasu\, ki te bo nežno usmerjal k zaznavanju diha\, telesnih občutkov in notranjega prostora. Tempo bo prilagojen različnim izkušnjam\, zato je dogodek primeren tako za tiste\, ki se z meditacijo srečujete prvič\, kot tudi za tiste\, ki imate s podobnimi praksami že izkušnje. \nVodena meditacija spodbuja razvoj telesnega in čustvenega zavedanja\, krepi stik s sabo ter ustvarja prostora za regeneracijo. V sodobnem vsakdanu\, ki pogosto spodbuja nenehno aktivnost\, meditacija ponuja protiutež. Predstavlja prostor tišine\, zbranosti in umiritve. Vzemi si čas zase\, za meditacijo in si ponudi priložnost za povezovanje\, prisotnost v trenutku ter stik s sabo. \nPrijavi se na POVEZAVI. \n Bežigrad 6\, Ljubljana\n 10. 1.\, 7. 2. 2026\n18.30–19.30 \nPrispevek: Pay what you can 5-15€
URL:https://skup-ka.si/dogodek/vzemi-si-cas-zase-meditacija-2/
LOCATION:Skupka\, Bežigrad 6\, Ljubljana\, 1000\, Slovenia
CATEGORIES:Redni program
ATTACH;FMTTYPE=image/webp:https://skup-ka.si/wp-content/uploads/2026/01/skupkin-program2-e1767526900344.webp
ORGANIZER;CN="Skupnostna kavarna":MAILTO:skupnostna.kavarna@gmail.com
END:VEVENT
END:VCALENDAR