BEGIN:VCALENDAR
VERSION:2.0
PRODID:-//Skupnostna kavarna - ECPv6.15.20//NONSGML v1.0//EN
CALSCALE:GREGORIAN
METHOD:PUBLISH
X-WR-CALNAME:Skupnostna kavarna
X-ORIGINAL-URL:https://skup-ka.si
X-WR-CALDESC:Dogodki za Skupnostna kavarna
REFRESH-INTERVAL;VALUE=DURATION:PT1H
X-Robots-Tag:noindex
X-PUBLISHED-TTL:PT1H
BEGIN:VTIMEZONE
TZID:UTC
BEGIN:STANDARD
TZOFFSETFROM:+0000
TZOFFSETTO:+0000
TZNAME:UTC
DTSTART:20250101T000000
END:STANDARD
END:VTIMEZONE
BEGIN:VEVENT
DTSTART;TZID=UTC:20260214T170000
DTEND;TZID=UTC:20260214T190000
DTSTAMP:20260420T170534
CREATED:20260119T152329Z
LAST-MODIFIED:20260203T181330Z
UID:4974-1771088400-1771095600@skup-ka.si
SUMMARY:Valentinov Alter Ego: delavnica akvarelnega portreta za pare
DESCRIPTION:[vc_row type=”in_container” full_screen_row_position=”middle” column_margin=”default” column_direction=”default” column_direction_tablet=”default” column_direction_phone=”default” scene_position=”center” text_color=”dark” text_align=”left” row_border_radius=”none” row_border_radius_applies=”bg” overflow=”visible” overlay_strength=”0.3″ gradient_direction=”left_to_right” shape_divider_position=”bottom” bg_image_animation=”none”][vc_column column_padding=”no-extra-padding” column_padding_tablet=”inherit” column_padding_phone=”inherit” column_padding_position=”all” column_element_spacing=”default” background_color_opacity=”1″ background_hover_color_opacity=”1″ column_shadow=”none” column_border_radius=”none” column_link_target=”_self” column_position=”default” gradient_direction=”left_to_right” overlay_strength=”0.3″ width=”1/3″ tablet_width_inherit=”default” tablet_text_alignment=”default” phone_text_alignment=”default” animation_type=”default” bg_image_animation=”none” border_type=”simple” column_border_width=”none” column_border_style=”solid”][/vc_column][vc_column column_padding=”no-extra-padding” column_padding_tablet=”inherit” column_padding_phone=”inherit” column_padding_position=”all” column_element_spacing=”default” background_color_opacity=”1″ background_hover_color_opacity=”1″ column_shadow=”none” column_border_radius=”none” column_link_target=”_self” column_position=”default” gradient_direction=”left_to_right” overlay_strength=”0.3″ width=”1/3″ tablet_width_inherit=”default” tablet_text_alignment=”default” phone_text_alignment=”default” animation_type=”default” bg_image_animation=”none” border_type=”simple” column_border_width=”none” column_border_style=”solid”][nectar_btn size=”large” open_new_tab=”true” button_style=”regular” button_color_2=”Accent-Color” icon_family=”none” text=”KUPI VSTOPNICO ZA VALENTINOV ZMENEK” url=”https://skup-ka.si/izdelek/valentinov-alter-ego-delavnica-akvarelnega-portreta-za-pare/”][/vc_column][vc_column column_padding=”no-extra-padding” column_padding_tablet=”inherit” column_padding_phone=”inherit” column_padding_position=”all” column_element_spacing=”default” background_color_opacity=”1″ background_hover_color_opacity=”1″ column_shadow=”none” column_border_radius=”none” column_link_target=”_self” column_position=”default” gradient_direction=”left_to_right” overlay_strength=”0.3″ width=”1/3″ tablet_width_inherit=”default” tablet_text_alignment=”default” phone_text_alignment=”default” animation_type=”default” bg_image_animation=”none” border_type=”simple” column_border_width=”none” column_border_style=”solid”][/vc_column][/vc_row][vc_row type=”in_container” full_screen_row_position=”middle” column_margin=”default” column_direction=”default” column_direction_tablet=”default” column_direction_phone=”default” scene_position=”center” text_color=”dark” text_align=”left” row_border_radius=”none” row_border_radius_applies=”bg” overflow=”visible” overlay_strength=”0.3″ gradient_direction=”left_to_right” shape_divider_position=”bottom” bg_image_animation=”none”][vc_column column_padding=”no-extra-padding” column_padding_tablet=”inherit” column_padding_phone=”inherit” column_padding_position=”all” column_element_spacing=”default” background_color_opacity=”1″ background_hover_color_opacity=”1″ column_shadow=”none” column_border_radius=”none” column_link_target=”_self” column_position=”default” gradient_direction=”left_to_right” overlay_strength=”0.3″ width=”1/1″ tablet_width_inherit=”default” tablet_text_alignment=”default” phone_text_alignment=”default” animation_type=”default” bg_image_animation=”none” border_type=”simple” column_border_width=”none” column_border_style=”solid”][vc_column_text]\n\nValentinov Alter Ego je ustvarjalna delavnica akvarelnega portreta za pare in prijatelje\, na kateri boš na sproščen in igriv način naslikal/a alter ego svojega partnerja ali partnerke. \nPod vodstvom akademske vizualne umetnice Andreje Kranjec bosta s partnerjem spoznala osnove risanja portreta in akvarelnega slikanja ter ustvarila unikaten spomin in posebno valentinovo darilo. \nV sodelovanju z vizualno umetnico Andrejo Kranjec pripravljamo edinstveno ustvarjalno delavnico akvarelnega portreta\, namenjeno parom\, prijateljem in vsem\, ki si želite doživeti Valentinovo drugače\, osebno in igrivo ter izdelati unikatno darilo za svojega partnerja ali partnerko. \nDelavnica za pare Valentinov Alter Ego vas povabi\, da na sproščen in zabaven način naslikate portret svojega partnerja ali prijatelja ter skozi umetniški proces raziskujete njegove ali njene različne izraze. Temu lahko rečemo alter ego\, ali pa vse različice ljubljene osebe. Rezultat bo unikatna umetnina\, ki bo postala čudovit spomin in res posebno darilo za partnerj\, ljubimca\, sopotnico\, prijateljico ali osebo s prvega zmenka. \nUstvarjalna delavnica je primerna za vse nivoje znanja\, tako za začetnike\, kot tudi tiste z nekaj izkušnjami. Predznanje ni potrebno. Pod strokovnim vodstvom akademske vizualne umetnice Andreje Kranjec boste korak za korakom spoznali osnove risanja in slikanja portreta z akvareli. \nAndreja vas bo vodila skozi: \n\n\npravilno postavitev portreta\, \n\n\nosnove proporcev obraza\, \n\n\nuporabo in mešanje akvarelnih barv\, \n\n\npreproste slikarske prijeme za izrazit\, živ portret. \n\n\nPoseben poudarek bo na igrivosti\, eksperimentiranju z barvami in interpretaciji značaja\, ne na popolnosti ali realistični upodobitvi partnerja ali partnerke. \nKaj bomo počeli na delavnici? \n\n\nspoznali osnove postavitve portreta in pravilnega proporcioniranja\, \n\n\nnaučili se bomo osnov akvarelnega slikanja\, \n\n\nustvarili bomo unikaten in poseben portret partnerja ali njegovega alter ega\, \n\n\neksperimentirali bomo z barvami\, teksturami in izrazi\, \n\nse družili z ostalimi pari\,\nse pocrkljali s pijačo za dobrodošlico in valentinovimi prigrizki.\n\nPraktične informacije o delavnici:\n\n\nTrajanje: 120 minut \n\n\nCena: \n\n\n90 € / par do 25. 1. \n\n\n110 € / par po 25. 1. \n\n\n\n\nVključeno v ceno: \n\n\nves potreben material \n\n\nstrokovno vodenje \n\n\npogostitev +  pijača dobrodošlice \n\n\n\n\n\nNakup vstopnice na povezavi: Valentinov Alter Ego: delavnica akvarelnega portreta za pare\n\nDodatne informacije: info@skup-ka.si. \n\n[/vc_column_text][/vc_column][/vc_row]
URL:https://skup-ka.si/dogodek/valentinov-alter-ego-delavnica-akvarelnega-portreta-za-pare/
LOCATION:Skupka\, Bežigrad 6\, Ljubljana\, 1000\, Slovenia
CATEGORIES:Pop up Skupka
ATTACH;FMTTYPE=image/webp:https://skup-ka.si/wp-content/uploads/2026/01/Valentinova-delavnica-Instagram-Post-45-1-e1768835865191.webp
ORGANIZER;CN="Skupnostna kavarna":MAILTO:skupnostna.kavarna@gmail.com
END:VEVENT
END:VCALENDAR