BEGIN:VCALENDAR
VERSION:2.0
PRODID:-//Skupnostna kavarna - ECPv6.15.20//NONSGML v1.0//EN
CALSCALE:GREGORIAN
METHOD:PUBLISH
X-WR-CALNAME:Skupnostna kavarna
X-ORIGINAL-URL:https://skup-ka.si
X-WR-CALDESC:Dogodki za Skupnostna kavarna
REFRESH-INTERVAL;VALUE=DURATION:PT1H
X-Robots-Tag:noindex
X-PUBLISHED-TTL:PT1H
BEGIN:VTIMEZONE
TZID:UTC
BEGIN:STANDARD
TZOFFSETFROM:+0000
TZOFFSETTO:+0000
TZNAME:UTC
DTSTART:20250101T000000
END:STANDARD
END:VTIMEZONE
BEGIN:VEVENT
DTSTART;TZID=UTC:20260225T113000
DTEND;TZID=UTC:20260225T210000
DTSTAMP:20260420T154246
CREATED:20260221T162422Z
LAST-MODIFIED:20260221T162458Z
UID:5045-1772019000-1772053200@skup-ka.si
SUMMARY:Žepna delavnica DEFY
DESCRIPTION:Žepna delavnica DEFY in otvoritev umetniške razstave. \nSkupka gosti projekt DEFY\, v katerega je vključen Zavod Voluntariat. \nGre za preizkus ustvarjalne metodologije za raziskovanje odnosnosti do (ne)udobja\, težavnih spoznanj\, občutij in lastne prakse. Poleg dveh delavnic\, ki bosta potekali ob 10.30 in 17.30\, po drugi delavnici sledi še otvoritev razstave umetniških del\, ki so nastali v okviru projekta. \n1. delavnica: 10.30 \n2. delavnica: 17.30 \nDelavnica je namenjena predvsem pedagoškim delavcem\, mladinskim delavcem in vsem drugim\, pri prihajate v stik s težjimi vsebinami in temami. \n 
URL:https://skup-ka.si/dogodek/zepna-delavnica-defy/
LOCATION:Skupka\, Bežigrad 6\, Ljubljana\, 1000\, Slovenia
CATEGORIES:Pogovor
ATTACH;FMTTYPE=image/webp:https://skup-ka.si/wp-content/uploads/2026/02/Posnetek-zaslona-2026-02-21-172138-1.webp
END:VEVENT
END:VCALENDAR