BEGIN:VCALENDAR
VERSION:2.0
PRODID:-//Skupnostna kavarna - ECPv6.15.20//NONSGML v1.0//EN
CALSCALE:GREGORIAN
METHOD:PUBLISH
X-WR-CALNAME:Skupnostna kavarna
X-ORIGINAL-URL:https://skup-ka.si
X-WR-CALDESC:Dogodki za Skupnostna kavarna
REFRESH-INTERVAL;VALUE=DURATION:PT1H
X-Robots-Tag:noindex
X-PUBLISHED-TTL:PT1H
BEGIN:VTIMEZONE
TZID:UTC
BEGIN:STANDARD
TZOFFSETFROM:+0000
TZOFFSETTO:+0000
TZNAME:UTC
DTSTART:20220101T000000
END:STANDARD
END:VTIMEZONE
BEGIN:VEVENT
DTSTART;TZID=UTC:20230218T170000
DTEND;TZID=UTC:20230218T190000
DTSTAMP:20260421T162901
CREATED:20230207T194936Z
LAST-MODIFIED:20230207T202847Z
UID:2422-1676739600-1676746800@skup-ka.si
SUMMARY:Neki se kuha
DESCRIPTION:V soboto\, 18. 2. bomo v Mladinski postaji Moste pripravili tasting različnih jedi z namenom\, da dobimo povratno informacijo glede okusa\, teksture\, barve in na sploh\, prvega in zadnjega vtisa 🙂 \nV Skupnostni kavarni se namreč poigravamo z idejo o cateringu s čim manj odpadki in čim bolj lokalnimi surovinami. Razmišljamo o ideji bolj trajnostne pogostitve na dogodkih\, morda pa v prihodnosti tudi priprave ‘pick up’ jedi\, lunch boxov\, sladic in različnih finger food jedi\, ki jih boš lahko poskusil_a v skupnostnem prostoru in na pop up dogodkih. \nZato v tej začetni fazi pripravljamo ta dogodek\, da damo na mizo kar znamo in dobimo čim več feedbacka\, da vemo kaj izboljšat. Prva uradna pogostitev nas čaka že 25. marca na dogodku pri Mladih zmajih Bežigrad\, ko bomo izmenjevali rabljena oblačila. \nPoleg grickanja pa boš lahko odigral_a tudi partijo taroka\, ki bo vzporedno potekal v MLadinski postaji Moste!
URL:https://skup-ka.si/dogodek/neki-se-kuha/
LOCATION:Mladinska postaja Moste\, Zaloška 55\, Ljubljana\, Ljubljana\, 1000
ORGANIZER;CN="Skupnostna kavarna":MAILTO:skupnostna.kavarna@gmail.com
END:VEVENT
BEGIN:VEVENT
DTSTART;TZID=UTC:20230215T180000
DTEND;TZID=UTC:20230215T200000
DTSTAMP:20260421T162901
CREATED:20230207T200443Z
LAST-MODIFIED:20230207T203041Z
UID:2425-1676484000-1676491200@skup-ka.si
SUMMARY:Čajovna Pismovna
DESCRIPTION:Zavod Čajovna vabi na svoj drugi pop-up dogodek! Ob zadnjem srečanju smo se dodobra naklepetali o raznih tematikah\, navdahnjenih iz prebranih knjig\, zdaj pa bomo v MPM (Mladinska postaja Moste) pisali pisma!\n\nSi si že dolgo želel/a napisati pismo sebi? Ali z lično oblikovanim pismom presenetiti svojega prijatelja iz tujine? Potem se nam moraš pridružiti. Čajovna v sredo\, 15. 2. ob 18.00 odpira prostor za pisno izražanje\, s katerim si do sedaj odlašal/a. Dogodek se bo začel s prizemljitvijo ob čaju\, sledilo bo nekaj ogrevalnih vaj iz kreativnega pisanja\, nato pa se bo lahko vsak sam ob toplem napitku poglobil v lastne misli in likovno izdelovanje svojega pisma. Za materiale in čaj poskrbimo mi. \n\n\nDogodek je brezplačen\, bomo pa vesele prostovoljnega prispevka za povrnitev stroškov\, nastalih z organizacijo. \n\nČajovna je projekt\, ki spodbuja zdrav in ustvarjalen način življenja v skrbi in sobivanju z naravo in vzpostavlja varen prostor\, v katerem bo vsak imel možnost aktivne participacije\, sodelovanja\, soustvarjanja\, deljenja znanj in veščin. Je prvo uresničenje koncepta Skupnostne kavarne pri nas\, s poudarkom na pitju čaja in spodbujanju čajne kulture.
URL:https://skup-ka.si/dogodek/cajovna-pismovna/
LOCATION:Mladinska postaja Moste\, Zaloška 55\, Ljubljana\, Ljubljana\, 1000
END:VEVENT
BEGIN:VEVENT
DTSTART;TZID=UTC:20230120T180000
DTEND;TZID=UTC:20230120T200000
DTSTAMP:20260421T162901
CREATED:20230113T104902Z
LAST-MODIFIED:20230113T104902Z
UID:2342-1674237600-1674244800@skup-ka.si
SUMMARY:Čajovna Knjigovna
DESCRIPTION:Čajovna pripravlja svoj prvi\, dolgo pričakovani pop up dogodek. V prijetnem ambientu studia za oblikovanje keramike Mache se bomo na petkovo popoldne crkljali z branjem odlomkov iz najljubših literarnih del\, zraven pa pili domač zeliščni čaj. \n\nIdeja je naslednja: s seboj prineseš eno od svojih ljubih del\, lahko je proza\, lahko poezija. Če želiš\, lahko deliš z ostalimi\, lahko pa samo poslušaš ostale. Po vsakem branju bomo imeli priložnost\, da skupaj razmislimo o prebranem in naslovimo kaj je vzbudilo v nas. \n\nV bralno čajanko nas bo popeljalo obredno pitje domačnega zeliščnega čaja.\n\nDogodek je brezplačen\, bomo pa vesele prostovoljnega prispevka za povrnitev strošpkov\, nastalih z organizacijo.\n\nČajovna je projekt\, ki spodbuja zdrav in ustvarjalen načina življenja v skrbi in sobivanju z naravo in vzpostavlja varen prostor\, v katerem bo vsak imel možnost aktivne participacije\, sodelovanja\, soustvarjanja\, deljenja znanja in veščin. Je prvo uresničenje koncepta Skupnostne kavarne pri nas\, s poudarkom na pitju čaja in spodbujanju čajne kulture.
URL:https://skup-ka.si/dogodek/cajovna-knjigovna/
LOCATION:Studio Mache\, Medvedova 28\, Ljubljana\, 1000\, Slovenija
ORGANIZER;CN="Skupnostna kavarna":MAILTO:skupnostna.kavarna@gmail.com
END:VEVENT
END:VCALENDAR