BEGIN:VCALENDAR
VERSION:2.0
PRODID:-//Skupnostna kavarna - ECPv6.15.20//NONSGML v1.0//EN
CALSCALE:GREGORIAN
METHOD:PUBLISH
X-WR-CALNAME:Skupnostna kavarna
X-ORIGINAL-URL:https://skup-ka.si
X-WR-CALDESC:Dogodki za Skupnostna kavarna
REFRESH-INTERVAL;VALUE=DURATION:PT1H
X-Robots-Tag:noindex
X-PUBLISHED-TTL:PT1H
BEGIN:VTIMEZONE
TZID:UTC
BEGIN:STANDARD
TZOFFSETFROM:+0000
TZOFFSETTO:+0000
TZNAME:UTC
DTSTART:20220101T000000
END:STANDARD
END:VTIMEZONE
BEGIN:VEVENT
DTSTART;TZID=UTC:20230817T190000
DTEND;TZID=UTC:20230817T200000
DTSTAMP:20260420T195213
CREATED:20230726T125218Z
LAST-MODIFIED:20230726T130012Z
UID:2868-1692298800-1692302400@skup-ka.si
SUMMARY:Bazar veščin #4: Digitalno nomadstvo
DESCRIPTION:Bazar veščin #4: Digitalno nomadstvo prihaja v spletno dnevno sobo Skupnostne kavarne! \nBazar veščin je niz tematskih srečanj\, ki enkrat mesečno do konca leta potekajo v spletni dnevni sobi Skupnostne kavarne. Predstavljamo ustvarjalce\, obrtnike\, mojstre različnih uporabnih vsakodnevnih veščin\, ki nas lahko podprejo tako ali drugače. Gre za to\, da podelimo znanja\, razširimo modrosti\, se povežemo\, spoznamo\, sodelujemo. \nBazar veščin #4: Digitalno nomadstvo bo v četrtek\, 17. 8. ob 19h. Dobimo se s Petrom Strelcem\, digitalnim nomadom\, ki zadnja leta živi razpet med Slovenijo in tujino. \nPeter je po izobrazbi magister poslovnih ved in velik navdušenec aktivnega življenja in nenehnega odkrivanja novih kotičkov sveta.  Obožuje adrenalin\, vzdržljivostne športe\, kulinariko in spoznavanje\nnovih kultur. Z delom v tujini se je prvič srečal pri 18 letih\, ko je za 2 mesca odpotoval na Portugalsko. \nV času Covida je delo v tujini zanj dobilo nove razsežnosti saj je odkril  digitalno nomadstvo. Zadnja leta kot digitalni nomad uspešno kombinira delo in potovanja. Letos je 2 meseca preživel na Tajskem\,\nv Maleziji in v Singapurju. \nNa srečanju se bomo pogovarjali o tem\, kako lahko potovanje postane daljše in naš način življenja. Peter bo predstavil svojo izkušnjo\, nam predal kakšne ‘tip and tricks’\, povedal kje in na kakšen način lahko nademo delo na daljavo itd. Seveda pa bo prostor predvsem za tvoja vprašanja\, za deljenje izkušenj in pogovor. \nZaradi lažje organizacije te s Petrom prosiva\, da se prijaviš –> TULE 🙂 \nČe bi želel_a sodelovati\, deliti svoja znanja ali veščine in se predstaviti\, pa mi to lahko sporočiš na: info@skup-ka.si. \nUpam\, da se vidimo! \nLp\,\nUrša
URL:https://skup-ka.si/dogodek/bazar-vescin-4-digitalno-nomadstvo/
LOCATION:Online-Zoom
CATEGORIES:Bazar veščin
END:VEVENT
BEGIN:VEVENT
DTSTART;TZID=UTC:20230713T180000
DTEND;TZID=UTC:20230713T193000
DTSTAMP:20260420T195213
CREATED:20230625T122510Z
LAST-MODIFIED:20230627T155914Z
UID:2788-1689271200-1689276600@skup-ka.si
SUMMARY:Bazar veščin #3: Poletna gibalna rutina
DESCRIPTION:Bazar veščin je niz tematskih srečanj\, ki enkrat mesečno do konca leta potekajo v spletni dnevni sobi Skupnostne kavarne.\n\nPredstavili bomo ustvarjalce\, obrtnike\, mojstre različnih uporabnih vsakodnevnih veščin\, ki nas lahko podprejo tako ali drugače. Gre za to\, da podelimo znanja\, razširimo modrosti\, se povežemo\, spoznamo\, sodelujemo.\n\nV sredo\, 13. 7. ob 18h se dobimo na tretjem Bazarju veščin s Tjašo Bobek\, ustanoviteljico Jogalnice.\n\nPrijava.\n\nTjaša se je z jogo srečala leta 2010 in vse od takrat je ta del njenega življenja. Skozi leta je raziskovala različne smeri joge in z redno prakso v svoje življenje vnesla potrebno dozo gibanja. Zaradi pozitivnih učinkov\, ki jih je čutila ob praksi joge\, se je odločila\, da naredi tečaj za učiteljico\, da bi lahko znanje in izkušnje prenesla tudi na druge. Tečaj je zaključila leta 2021 in rodila se je Jogalnica\, kraj\, kjer razgibaš telo in umiriš um\, prostor kjer je čas samo tvoj in se lahko popolnoma sprostiš.\n\nNa srečanju se bomo pogovarjali o gibanju in gibalni rutini med poletjem\, ko je večina joga\, pilates in drugih studiev zaprtih\, smo na dopustu\, potujemo in zato morda nimamo dostopa do vadb ali pa smo bolj naravnani k počitku\, naša dnevna gibalna rutina pa je spremenjena. Tema tretjega Bazarja veščin je torej kako ohranjati gibčno\, vitalno in zdravo telo tudi med poletjem.\n\nČe bi želel_a sodelovati\, deliti svoja znanja ali veščine in se predstaviti\, pa mi to lahko sporočiš na: info@skup-ka.si.\n\nUpam\, da se vidimo!
URL:https://skup-ka.si/dogodek/trajno-je-bajno-3-poletna-gibalna-rutina/
LOCATION:Online-Zoom
CATEGORIES:Bazar veščin
ORGANIZER;CN="Skupnostna kavarna":MAILTO:skupnostna.kavarna@gmail.com
END:VEVENT
BEGIN:VEVENT
DTSTART;TZID=UTC:20230614T180000
DTEND;TZID=UTC:20230614T193000
DTSTAMP:20260420T195213
CREATED:20230606T180309Z
LAST-MODIFIED:20230606T181858Z
UID:2756-1686765600-1686771000@skup-ka.si
SUMMARY:Bazar veščin #2: (Samo)sprostitev
DESCRIPTION:Najavljamo drugo srečanje Bazarja veščin!\nNa prvem smo spoznali mentorico navad Sara Zupančič\, avtorico dnevnika za jutranjo rutino Jutranjik\, naslednja tema pa je (Samo)sprostitev. \nVse tiste bolj ‘ta živčne’ vabimo\, da se nam v sredo\, 14. 6. ob 18h pridružite v spletni dnevni sobi Skupnostne kavarne na pogovoru z Izo Pintar in Martino Rupar.\nIza in Martina nam bosta predstavili tehniko Access bars\, ki je med drugim učinkovita proti stresu\, napetosti\, polni glavi in telesnim bolečinam in nam pokazali\, kako to nežno\, globoko sproščujočo manualno tehniko (dotik z rokami)\, ki umiri um z namenom sprostitve\, lahko uporabljamo tudi sami. \nPrijave na druženje https://rb.gy/czfnv \nČe pa imaš tudi ti kakšno veščino ali znanje\, ki bi ga želel_a deliti z ostalimi\, se javi na info@skup-ka.si ali pa nam piši prek kontaktnega obrazca. \nSrečanja so brezplačna\, lahko pa podpreš projekt Skupnostne kavarne z manjšo donacijo na: https://www.buymeacoffee.com/skupka  \nBazar veščin je niz tematskih srečanj\, ki bodo enkrat mesečno do konca leta potekala v spletni dnevni sobi Skupnostne kavarne. Predstavili bomo ustvarjalce\, obrtnike\, mojstre različnih uporabnih vsakodnevnih veščin\, ki nas lahko podprejo tako ali drugače. Gre za to\, da podelimo znanja\, razširimo modrosti\, se povežemo\, se spoznamo\, sodelujemo.
URL:https://skup-ka.si/dogodek/bazar-vescin-2-samosprostitev/
LOCATION:Online-Zoom
CATEGORIES:Bazar veščin
END:VEVENT
BEGIN:VEVENT
DTSTART;TZID=UTC:20230518T180000
DTEND;TZID=UTC:20230518T193000
DTSTAMP:20260420T195213
CREATED:20230426T095733Z
LAST-MODIFIED:20230426T101538Z
UID:2633-1684432800-1684438200@skup-ka.si
SUMMARY:BAZAR VEŠČIN #1: Moč navade
DESCRIPTION:Bazar veščin je niz tematskih srečanj\, ki bodo enkrat mesečno do konca leta potekala v spletni dnevni sobi Skupnostne kavarne. Predstavili bomo ustvarjalce\, obrtnike\, mojstre različnih uporabnih vsakodnevnih veščin\, ki nas lahko podprejo tako ali drugače. Gre za to\, da podelimo znanja\, razširimo modrosti\, se povežemo\, se spoznamo\, sodelujemo. \nV četrtek\, 18. 5. ob 18h se dobimo na prvem Bazarju veščin. Spoznali bomo Saro Zupančič\, mentorico navad\, mlado podjetnico in avtorico Jutranjika\, dnevnika za jutranjo rutino. \nSara nam bo predstavila sebe in Jutranjik\, ki podpira 5 glavnih področij: \n*osebno in duhovno rast\n*prosti čas\n*kariero in finance\n*zdravje in aktivni življenjski slog\n*družino in odnose \nVeč o Jutranjiku najdeš tudi TULE. V Skupkini spletni kavarni ga dobiš v paketu z domačo granolo in ovseno ploščico. \nNa prvem Bazarju veščin bomo govorili o vplivu\, ki ga imajo male vsakodnevne navade na naše življenje. Saro boš lahko vprašal_a karkoli s tega področja. Zaželeno je\, da se razvije debata\, da si podelimo izkušnje in se kaj novega naučimo – o navadah\, rutinah in sebi 🙂 \nČe bi želel_a sodelovati\, deliti svoja znanja ali veščine in se predstaviti\, pa mi to lahko sporočiš na:\ninfo@skup-ka.si. \nZaradi lažje organizacije te prosimo\, da se na srečanje PRIJAVIŠ. \nUpam\, da se vidimo!
URL:https://skup-ka.si/dogodek/bazar-vescin-1-moc-navade/
LOCATION:Online-Zoom
ORGANIZER;CN="Skupnostna kavarna":MAILTO:skupnostna.kavarna@gmail.com
END:VEVENT
END:VCALENDAR